BEGIN:VCALENDAR
VERSION:2.0
PRODID:-//Atlantea - ECPv6.15.9//NONSGML v1.0//EN
CALSCALE:GREGORIAN
METHOD:PUBLISH
X-ORIGINAL-URL:https://atlantea.news
X-WR-CALDESC:Events for Atlantea
REFRESH-INTERVAL;VALUE=DURATION:PT1H
X-Robots-Tag:noindex
X-PUBLISHED-TTL:PT1H
BEGIN:VTIMEZONE
TZID:Europe/Moscow
BEGIN:STANDARD
TZOFFSETFROM:+0300
TZOFFSETTO:+0300
TZNAME:MSK
DTSTART:20240101T000000
END:STANDARD
END:VTIMEZONE
BEGIN:VEVENT
DTSTART;TZID=Europe/Moscow:20250623T120000
DTEND;TZID=Europe/Moscow:20250623T200000
DTSTAMP:20260426T023358
CREATED:20250422T095809Z
LAST-MODIFIED:20250506T163047Z
UID:10046738-1750680000-1750708800@atlantea.news
SUMMARY:Έκθεση φωτογραφίας του Robert McCabe
DESCRIPTION:“Lively Matter: Μία φωτογραφική τεκμηρίωση της Σαντορίνης μεταξύ 1954 και 1964”
URL:https://atlantea.news/event/%ce%ad%ce%ba%ce%b8%ce%b5%cf%83%ce%b7-%cf%86%cf%89%cf%84%ce%bf%ce%b3%cf%81%ce%b1%cf%86%ce%af%ce%b1%cf%82-%cf%84%ce%bf%cf%85-robert-mccabe/2025-06-23/
LOCATION:Vassaltis Vineyards\, Βουρβούλος\, Σαντορίνη\, 84700\, Greece
CATEGORIES:Έκθεση
ORGANIZER;CN="Vassaltis Vineyards":MAILTO:info@vassaltis.com
END:VEVENT
BEGIN:VEVENT
DTSTART;TZID=Europe/Moscow:20250623T200000
DTEND;TZID=Europe/Moscow:20250623T200000
DTSTAMP:20260426T023358
CREATED:20250623T125121Z
LAST-MODIFIED:20250623T125121Z
UID:10047002-1750708800-1750708800@atlantea.news
SUMMARY:Το έθιμο του Κλήδονα στον Καρτεράδο
DESCRIPTION:
URL:https://atlantea.news/event/%cf%84%ce%bf-%ce%ad%ce%b8%ce%b9%ce%bc%ce%bf-%cf%84%ce%bf%cf%85-%ce%ba%ce%bb%ce%ae%ce%b4%ce%bf%ce%bd%ce%b1-%cf%83%cf%84%ce%bf%ce%bd-%ce%ba%ce%b1%cf%81%cf%84%ce%b5%cf%81%ce%ac%ce%b4%ce%bf-2/
LOCATION:Πλατεία Καρτεράδου\, Καρτεράδος\, Σαντορίνη\, 84700\, Greece
CATEGORIES:Έθιμο-Πανηγύρι
END:VEVENT
BEGIN:VEVENT
DTSTART;TZID=Europe/Moscow:20250623T203000
DTEND;TZID=Europe/Moscow:20250623T203000
DTSTAMP:20260426T023358
CREATED:20250617T132750Z
LAST-MODIFIED:20250617T132750Z
UID:10046998-1750710600-1750710600@atlantea.news
SUMMARY:Το έθιμο του Κλήδονα με τις αφωταρίδες
DESCRIPTION:
URL:https://atlantea.news/event/%cf%84%ce%bf-%ce%ad%ce%b8%ce%b9%ce%bc%ce%bf-%cf%84%ce%bf%cf%85-%ce%ba%ce%bb%ce%ae%ce%b4%ce%bf%ce%bd%ce%b1-%ce%bc%ce%b5-%cf%84%ce%b9%cf%82-%ce%b1%cf%86%cf%89%cf%84%ce%b1%cf%81%ce%af%ce%b4%ce%b5%cf%82-2/
LOCATION:Μετόχι Μεγαλοχωρίου\, Μεγαλοχώρι\, Σαντορίνη\, 84700\, Greece
CATEGORIES:Έθιμο-Πανηγύρι
END:VEVENT
END:VCALENDAR