BEGIN:VCALENDAR
VERSION:2.0
PRODID:-//Atlantea - ECPv6.15.9//NONSGML v1.0//EN
CALSCALE:GREGORIAN
METHOD:PUBLISH
X-WR-CALNAME:Atlantea
X-ORIGINAL-URL:https://atlantea.news
X-WR-CALDESC:Events for Atlantea
REFRESH-INTERVAL;VALUE=DURATION:PT1H
X-Robots-Tag:noindex
X-PUBLISHED-TTL:PT1H
BEGIN:VTIMEZONE
TZID:Europe/Moscow
BEGIN:STANDARD
TZOFFSETFROM:+0300
TZOFFSETTO:+0300
TZNAME:MSK
DTSTART:20240101T000000
END:STANDARD
END:VTIMEZONE
BEGIN:VEVENT
DTSTART;TZID=Europe/Moscow:20250709T100000
DTEND;TZID=Europe/Moscow:20250709T180000
DTSTAMP:20260425T164737
CREATED:20250610T154220Z
LAST-MODIFIED:20250610T175047Z
UID:10046961-1752055200-1752084000@atlantea.news
SUMMARY:Έκθεση "Ίχνη Θηραϊκής Λαογραφίας"
DESCRIPTION:
URL:https://atlantea.news/event/%ce%ad%ce%ba%ce%b8%ce%b5%cf%83%ce%b7-%ce%af%cf%87%ce%bd%ce%b7-%ce%b8%ce%b7%cf%81%ce%b1%cf%8a%ce%ba%ce%ae%cf%82-%ce%bb%ce%b1%ce%bf%ce%b3%cf%81%ce%b1%cf%86%ce%af%ce%b1%cf%82/2025-07-09/
LOCATION:Βιομηχανικό Μουσείο Τομάτας «Δ. Νομικός»\, Βλυχάδα\, Σαντορίνη\, 84700\, Greece
CATEGORIES:Έκθεση
GEO:36.3364529;25.4366155
X-APPLE-STRUCTURED-LOCATION;VALUE=URI;X-ADDRESS=Βιομηχανικό Μουσείο Τομάτας «Δ. Νομικός» Βλυχάδα Σαντορίνη 84700 Greece;X-APPLE-RADIUS=500;X-TITLE=Βλυχάδα:geo:25.4366155,36.3364529
END:VEVENT
BEGIN:VEVENT
DTSTART;TZID=Europe/Moscow:20250709T120000
DTEND;TZID=Europe/Moscow:20250709T200000
DTSTAMP:20260425T164737
CREATED:20250422T095809Z
LAST-MODIFIED:20250506T163047Z
UID:10046754-1752062400-1752091200@atlantea.news
SUMMARY:Έκθεση φωτογραφίας του Robert McCabe
DESCRIPTION:“Lively Matter: Μία φωτογραφική τεκμηρίωση της Σαντορίνης μεταξύ 1954 και 1964”
URL:https://atlantea.news/event/%ce%ad%ce%ba%ce%b8%ce%b5%cf%83%ce%b7-%cf%86%cf%89%cf%84%ce%bf%ce%b3%cf%81%ce%b1%cf%86%ce%af%ce%b1%cf%82-%cf%84%ce%bf%cf%85-robert-mccabe/2025-07-09/
LOCATION:Vassaltis Vineyards\, Βουρβούλος\, Σαντορίνη\, 84700\, Greece
CATEGORIES:Έκθεση
ORGANIZER;CN="Vassaltis Vineyards":MAILTO:info@vassaltis.com
END:VEVENT
BEGIN:VEVENT
DTSTART;TZID=Europe/Moscow:20250709T190000
DTEND;TZID=Europe/Moscow:20250709T210000
DTSTAMP:20260425T164737
CREATED:20250630T221714Z
LAST-MODIFIED:20250630T221714Z
UID:10047044-1752087600-1752094800@atlantea.news
SUMMARY:Έκθεση γελοιογραφίας "Ήσκασε στα γέλια το Ηφαίστειο…"
DESCRIPTION:
URL:https://atlantea.news/event/%ce%ad%ce%ba%ce%b8%ce%b5%cf%83%ce%b7-%ce%b3%ce%b5%ce%bb%ce%bf%ce%b9%ce%bf%ce%b3%cf%81%ce%b1%cf%86%ce%af%ce%b1%cf%82-%ce%ae%cf%83%ce%ba%ce%b1%cf%83%ce%b5-%cf%83%cf%84%ce%b1-%ce%b3%ce%ad%ce%bb%ce%b9/2025-07-09/
LOCATION:Εκθεσιακός χώρος Εστίας Πύργου\, Κεντρική Πλατεία Πύργου\, Σαντορίνη\, 84700\, Greece
CATEGORIES:Έκθεση
GEO:36.4166485;25.432447
X-APPLE-STRUCTURED-LOCATION;VALUE=URI;X-ADDRESS=Εκθεσιακός χώρος Εστίας Πύργου Κεντρική Πλατεία Πύργου Σαντορίνη 84700 Greece;X-APPLE-RADIUS=500;X-TITLE=Κεντρική Πλατεία Πύργου:geo:25.432447,36.4166485
END:VEVENT
BEGIN:VEVENT
DTSTART;TZID=Europe/Moscow:20250709T203000
DTEND;TZID=Europe/Moscow:20250709T203000
DTSTAMP:20260425T164737
CREATED:20250702T230152Z
LAST-MODIFIED:20250702T230152Z
UID:10047059-1752093000-1752093000@atlantea.news
SUMMARY:Νησιώτικο γλέντι Αγ. Παγκρατίου
DESCRIPTION:
URL:https://atlantea.news/event/%ce%bd%ce%b7%cf%83%ce%b9%cf%8e%cf%84%ce%b9%ce%ba%ce%bf-%ce%b3%ce%bb%ce%ad%ce%bd%cf%84%ce%b9-%ce%b1%ce%b3-%cf%80%ce%b1%ce%b3%ce%ba%cf%81%ce%b1%cf%84%ce%af%ce%bf%cf%85/
LOCATION:Κεντρική πλατεία Καμαρίου\, Καμάρι\, Σαντορίνη\, 84700\, Greece
CATEGORIES:Έθιμο-Πανηγύρι
GEO:36.3770012;25.4807115
X-APPLE-STRUCTURED-LOCATION;VALUE=URI;X-ADDRESS=Κεντρική πλατεία Καμαρίου Καμάρι Σαντορίνη 84700 Greece;X-APPLE-RADIUS=500;X-TITLE=Καμάρι:geo:25.4807115,36.3770012
END:VEVENT
BEGIN:VEVENT
DTSTART;TZID=Europe/Moscow:20250709T210000
DTEND;TZID=Europe/Moscow:20250709T210000
DTSTAMP:20260425T164737
CREATED:20250707T215320Z
LAST-MODIFIED:20250709T120222Z
UID:10047166-1752094800-1752094800@atlantea.news
SUMMARY:Φεστιβάλ "Στη σκιά της Κόρης" με Α. Στρατηγού\, Β. Ίκαρη\, Μ. Αναματερού
DESCRIPTION:
URL:https://atlantea.news/event/%cf%86%ce%b5%cf%83%cf%84%ce%b9%ce%b2%ce%ac%ce%bb-%cf%83%cf%84%ce%b7-%cf%83%ce%ba%ce%b9%ce%ac-%cf%84%ce%b7%cf%82-%ce%ba%cf%8c%cf%81%ce%b7%cf%82-%ce%bc%ce%b5-%ce%b1-%cf%83%cf%84%cf%81%ce%b1%cf%84/
LOCATION:Βιομηχανικό Μουσείο Τομάτας «Δ. Νομικός»\, Βλυχάδα\, Σαντορίνη\, 84700\, Greece
CATEGORIES:Συναυλία - Μουσική εκδήλωση
ORGANIZER;CN="%CE%A6%CE%B5%CF%83%CF%84%CE%B9%CE%B2%CE%AC%CE%BB '%CE%A3%CF%84%CE%B7 %CF%83%CE%BA%CE%B9%CE%AC %CF%84%CE%B7%CF%82 %CE%9A%CF%8C%CF%81%CE%B7%CF%82'":MAILTO:stiskiatiskorisfestival@gmail.com
GEO:36.3364529;25.4366155
X-APPLE-STRUCTURED-LOCATION;VALUE=URI;X-ADDRESS=Βιομηχανικό Μουσείο Τομάτας «Δ. Νομικός» Βλυχάδα Σαντορίνη 84700 Greece;X-APPLE-RADIUS=500;X-TITLE=Βλυχάδα:geo:25.4366155,36.3364529
END:VEVENT
END:VCALENDAR