BEGIN:VCALENDAR
VERSION:2.0
PRODID:-//Atlantea - ECPv6.15.9//NONSGML v1.0//EN
CALSCALE:GREGORIAN
METHOD:PUBLISH
X-WR-CALNAME:Atlantea
X-ORIGINAL-URL:https://atlantea.news
X-WR-CALDESC:Events for Atlantea
REFRESH-INTERVAL;VALUE=DURATION:PT1H
X-Robots-Tag:noindex
X-PUBLISHED-TTL:PT1H
BEGIN:VTIMEZONE
TZID:Europe/Moscow
BEGIN:STANDARD
TZOFFSETFROM:+0300
TZOFFSETTO:+0300
TZNAME:MSK
DTSTART:20240101T000000
END:STANDARD
END:VTIMEZONE
BEGIN:VEVENT
DTSTART;TZID=Europe/Moscow:20250716T100000
DTEND;TZID=Europe/Moscow:20250716T180000
DTSTAMP:20260425T213835
CREATED:20250610T154220Z
LAST-MODIFIED:20250610T175047Z
UID:10046967-1752660000-1752688800@atlantea.news
SUMMARY:Έκθεση "Ίχνη Θηραϊκής Λαογραφίας"
DESCRIPTION:
URL:https://atlantea.news/event/%ce%ad%ce%ba%ce%b8%ce%b5%cf%83%ce%b7-%ce%af%cf%87%ce%bd%ce%b7-%ce%b8%ce%b7%cf%81%ce%b1%cf%8a%ce%ba%ce%ae%cf%82-%ce%bb%ce%b1%ce%bf%ce%b3%cf%81%ce%b1%cf%86%ce%af%ce%b1%cf%82/2025-07-16/
LOCATION:Βιομηχανικό Μουσείο Τομάτας «Δ. Νομικός»\, Βλυχάδα\, Σαντορίνη\, 84700\, Greece
CATEGORIES:Έκθεση
GEO:36.3364529;25.4366155
X-APPLE-STRUCTURED-LOCATION;VALUE=URI;X-ADDRESS=Βιομηχανικό Μουσείο Τομάτας «Δ. Νομικός» Βλυχάδα Σαντορίνη 84700 Greece;X-APPLE-RADIUS=500;X-TITLE=Βλυχάδα:geo:25.4366155,36.3364529
END:VEVENT
BEGIN:VEVENT
DTSTART;TZID=Europe/Moscow:20250716T120000
DTEND;TZID=Europe/Moscow:20250716T200000
DTSTAMP:20260425T213835
CREATED:20250422T095809Z
LAST-MODIFIED:20250506T163047Z
UID:10046761-1752667200-1752696000@atlantea.news
SUMMARY:Έκθεση φωτογραφίας του Robert McCabe
DESCRIPTION:“Lively Matter: Μία φωτογραφική τεκμηρίωση της Σαντορίνης μεταξύ 1954 και 1964”
URL:https://atlantea.news/event/%ce%ad%ce%ba%ce%b8%ce%b5%cf%83%ce%b7-%cf%86%cf%89%cf%84%ce%bf%ce%b3%cf%81%ce%b1%cf%86%ce%af%ce%b1%cf%82-%cf%84%ce%bf%cf%85-robert-mccabe/2025-07-16/
LOCATION:Vassaltis Vineyards\, Βουρβούλος\, Σαντορίνη\, 84700\, Greece
CATEGORIES:Έκθεση
ORGANIZER;CN="Vassaltis Vineyards":MAILTO:info@vassaltis.com
END:VEVENT
BEGIN:VEVENT
DTSTART;TZID=Europe/Moscow:20250716T190000
DTEND;TZID=Europe/Moscow:20250716T210000
DTSTAMP:20260425T213835
CREATED:20250630T221714Z
LAST-MODIFIED:20250630T221714Z
UID:10047051-1752692400-1752699600@atlantea.news
SUMMARY:Έκθεση γελοιογραφίας "Ήσκασε στα γέλια το Ηφαίστειο…"
DESCRIPTION:
URL:https://atlantea.news/event/%ce%ad%ce%ba%ce%b8%ce%b5%cf%83%ce%b7-%ce%b3%ce%b5%ce%bb%ce%bf%ce%b9%ce%bf%ce%b3%cf%81%ce%b1%cf%86%ce%af%ce%b1%cf%82-%ce%ae%cf%83%ce%ba%ce%b1%cf%83%ce%b5-%cf%83%cf%84%ce%b1-%ce%b3%ce%ad%ce%bb%ce%b9/2025-07-16/
LOCATION:Εκθεσιακός χώρος Εστίας Πύργου\, Κεντρική Πλατεία Πύργου\, Σαντορίνη\, 84700\, Greece
CATEGORIES:Έκθεση
GEO:36.4166485;25.432447
X-APPLE-STRUCTURED-LOCATION;VALUE=URI;X-ADDRESS=Εκθεσιακός χώρος Εστίας Πύργου Κεντρική Πλατεία Πύργου Σαντορίνη 84700 Greece;X-APPLE-RADIUS=500;X-TITLE=Κεντρική Πλατεία Πύργου:geo:25.432447,36.4166485
END:VEVENT
BEGIN:VEVENT
DTSTART;TZID=Europe/Moscow:20250716T193000
DTEND;TZID=Europe/Moscow:20250716T193000
DTSTAMP:20260425T213835
CREATED:20250715T140118Z
LAST-MODIFIED:20250715T140118Z
UID:10047196-1752694200-1752694200@atlantea.news
SUMMARY:Ρεσιτάλ πιάνου στο Μέγαρο Γκύζη
DESCRIPTION:
URL:https://atlantea.news/event/%cf%81%ce%b5%cf%83%ce%b9%cf%84%ce%ac%ce%bb-%cf%80%ce%b9%ce%ac%ce%bd%ce%bf%cf%85-%cf%83%cf%84%ce%bf-%ce%bc%ce%ad%ce%b3%ce%b1%cf%81%ce%bf-%ce%b3%ce%ba%cf%8d%ce%b6%ce%b7-2/
LOCATION:Μέγαρο Γκύζη\, Φηρά\, Σαντορίνη\, 84700\, Greece
CATEGORIES:Συναυλία - Μουσική εκδήλωση
GEO:36.4166485;25.432447
X-APPLE-STRUCTURED-LOCATION;VALUE=URI;X-ADDRESS=Μέγαρο Γκύζη Φηρά Σαντορίνη 84700 Greece;X-APPLE-RADIUS=500;X-TITLE=Φηρά:geo:25.432447,36.4166485
END:VEVENT
END:VCALENDAR