BEGIN:VCALENDAR
VERSION:2.0
PRODID:-//Atlantea - ECPv6.15.9//NONSGML v1.0//EN
CALSCALE:GREGORIAN
METHOD:PUBLISH
X-WR-CALNAME:Atlantea
X-ORIGINAL-URL:https://atlantea.news
X-WR-CALDESC:Events for Atlantea
REFRESH-INTERVAL;VALUE=DURATION:PT1H
X-Robots-Tag:noindex
X-PUBLISHED-TTL:PT1H
BEGIN:VTIMEZONE
TZID:Europe/Moscow
BEGIN:STANDARD
TZOFFSETFROM:+0300
TZOFFSETTO:+0300
TZNAME:MSK
DTSTART:20240101T000000
END:STANDARD
END:VTIMEZONE
BEGIN:VEVENT
DTSTART;TZID=Europe/Moscow:20250728T120000
DTEND;TZID=Europe/Moscow:20250728T200000
DTSTAMP:20260425T134333
CREATED:20250422T095809Z
LAST-MODIFIED:20250506T163047Z
UID:10046773-1753704000-1753732800@atlantea.news
SUMMARY:Έκθεση φωτογραφίας του Robert McCabe
DESCRIPTION:“Lively Matter: Μία φωτογραφική τεκμηρίωση της Σαντορίνης μεταξύ 1954 και 1964”
URL:https://atlantea.news/event/%ce%ad%ce%ba%ce%b8%ce%b5%cf%83%ce%b7-%cf%86%cf%89%cf%84%ce%bf%ce%b3%cf%81%ce%b1%cf%86%ce%af%ce%b1%cf%82-%cf%84%ce%bf%cf%85-robert-mccabe/2025-07-28/
LOCATION:Vassaltis Vineyards\, Βουρβούλος\, Σαντορίνη\, 84700\, Greece
CATEGORIES:Έκθεση
ORGANIZER;CN="Vassaltis Vineyards":MAILTO:info@vassaltis.com
END:VEVENT
BEGIN:VEVENT
DTSTART;TZID=Europe/Moscow:20250728T203000
DTEND;TZID=Europe/Moscow:20250728T203000
DTSTAMP:20260425T134333
CREATED:20250703T133409Z
LAST-MODIFIED:20250720T211137Z
UID:10047116-1753734600-1753734600@atlantea.news
SUMMARY:Τα παραμύθια της γιαγιάς
DESCRIPTION:
URL:https://atlantea.news/event/%cf%80%ce%b1%ce%b9%ce%b4%ce%b9%ce%ba%ce%ae-%ce%b8%ce%b5%ce%b1%cf%84%cf%81%ce%b9%ce%ba%ce%ae-%cf%80%ce%b1%cf%81%ce%ac%cf%83%cf%84%ce%b1%cf%83%ce%b7-%cf%83%cf%84%ce%bf%ce%bd-%cf%80%cf%8d%cf%81%ce%b3/
LOCATION:Κεντρική Πλατεία Πύργου\, Πύργος\, Σαντορίνη\, 84701\, Greece
CATEGORIES:Για παιδιά,Θέατρο
END:VEVENT
END:VCALENDAR