BEGIN:VCALENDAR
VERSION:2.0
PRODID:-//Atlantea - ECPv6.15.9//NONSGML v1.0//EN
CALSCALE:GREGORIAN
METHOD:PUBLISH
X-ORIGINAL-URL:https://atlantea.news
X-WR-CALDESC:Events for Atlantea
REFRESH-INTERVAL;VALUE=DURATION:PT1H
X-Robots-Tag:noindex
X-PUBLISHED-TTL:PT1H
BEGIN:VTIMEZONE
TZID:Europe/Moscow
BEGIN:STANDARD
TZOFFSETFROM:+0300
TZOFFSETTO:+0300
TZNAME:MSK
DTSTART:20240101T000000
END:STANDARD
END:VTIMEZONE
BEGIN:VTIMEZONE
TZID:Europe/Athens
BEGIN:DAYLIGHT
TZOFFSETFROM:+0200
TZOFFSETTO:+0300
TZNAME:EEST
DTSTART:20240331T010000
END:DAYLIGHT
BEGIN:STANDARD
TZOFFSETFROM:+0300
TZOFFSETTO:+0200
TZNAME:EET
DTSTART:20241027T010000
END:STANDARD
BEGIN:DAYLIGHT
TZOFFSETFROM:+0200
TZOFFSETTO:+0300
TZNAME:EEST
DTSTART:20250330T010000
END:DAYLIGHT
BEGIN:STANDARD
TZOFFSETFROM:+0300
TZOFFSETTO:+0200
TZNAME:EET
DTSTART:20251026T010000
END:STANDARD
BEGIN:DAYLIGHT
TZOFFSETFROM:+0200
TZOFFSETTO:+0300
TZNAME:EEST
DTSTART:20260329T010000
END:DAYLIGHT
BEGIN:STANDARD
TZOFFSETFROM:+0300
TZOFFSETTO:+0200
TZNAME:EET
DTSTART:20261025T010000
END:STANDARD
END:VTIMEZONE
BEGIN:VEVENT
DTSTART;TZID=Europe/Moscow:20250806T100000
DTEND;TZID=Europe/Moscow:20250806T180000
DTSTAMP:20260425T134434
CREATED:20250610T154220Z
LAST-MODIFIED:20250610T175047Z
UID:10046985-1754474400-1754503200@atlantea.news
SUMMARY:Έκθεση "Ίχνη Θηραϊκής Λαογραφίας"
DESCRIPTION:
URL:https://atlantea.news/event/%ce%ad%ce%ba%ce%b8%ce%b5%cf%83%ce%b7-%ce%af%cf%87%ce%bd%ce%b7-%ce%b8%ce%b7%cf%81%ce%b1%cf%8a%ce%ba%ce%ae%cf%82-%ce%bb%ce%b1%ce%bf%ce%b3%cf%81%ce%b1%cf%86%ce%af%ce%b1%cf%82/2025-08-06/
LOCATION:Βιομηχανικό Μουσείο Τομάτας «Δ. Νομικός»\, Βλυχάδα\, Σαντορίνη\, 84700\, Greece
CATEGORIES:Έκθεση
GEO:36.3364529;25.4366155
X-APPLE-STRUCTURED-LOCATION;VALUE=URI;X-ADDRESS=Βιομηχανικό Μουσείο Τομάτας «Δ. Νομικός» Βλυχάδα Σαντορίνη 84700 Greece;X-APPLE-RADIUS=500;X-TITLE=Βλυχάδα:geo:25.4366155,36.3364529
END:VEVENT
BEGIN:VEVENT
DTSTART;TZID=Europe/Moscow:20250806T120000
DTEND;TZID=Europe/Moscow:20250806T200000
DTSTAMP:20260425T134434
CREATED:20250422T095809Z
LAST-MODIFIED:20250506T163047Z
UID:10046782-1754481600-1754510400@atlantea.news
SUMMARY:Έκθεση φωτογραφίας του Robert McCabe
DESCRIPTION:“Lively Matter: Μία φωτογραφική τεκμηρίωση της Σαντορίνης μεταξύ 1954 και 1964”
URL:https://atlantea.news/event/%ce%ad%ce%ba%ce%b8%ce%b5%cf%83%ce%b7-%cf%86%cf%89%cf%84%ce%bf%ce%b3%cf%81%ce%b1%cf%86%ce%af%ce%b1%cf%82-%cf%84%ce%bf%cf%85-robert-mccabe/2025-08-06/
LOCATION:Vassaltis Vineyards\, Βουρβούλος\, Σαντορίνη\, 84700\, Greece
CATEGORIES:Έκθεση
ORGANIZER;CN="Vassaltis Vineyards":MAILTO:info@vassaltis.com
END:VEVENT
BEGIN:VEVENT
DTSTART;TZID=Europe/Moscow:20250806T191500
DTEND;TZID=Europe/Moscow:20250806T201500
DTSTAMP:20260425T134434
CREATED:20250715T072041Z
LAST-MODIFIED:20250715T072041Z
UID:10047195-1754507700-1754511300@atlantea.news
SUMMARY:Slading Slalom / Στρογγύλη
DESCRIPTION:Στο πλαίσιο του θεσμού του Υπουργείου Πολιτισμού “Όλη η Ελλάδα ένας πολιτισμός” \nΑπαραίτητη η προκράτηση θέσης εδώ (από 21/7)
URL:https://atlantea.news/event/slading-slalom-%cf%83%cf%84%cf%81%ce%bf%ce%b3%ce%b3%cf%8d%ce%bb%ce%b7/2025-08-06/
LOCATION:Αρχαιολογικός Χώρος Ακρωτηρίου\, Ακρωτήρι\, Greece
CATEGORIES:Θέατρο
END:VEVENT
BEGIN:VEVENT
DTSTART;TZID=Europe/Athens:20250806T210000
DTEND;TZID=Europe/Athens:20250806T210000
DTSTAMP:20260425T134434
CREATED:20250803T203137Z
LAST-MODIFIED:20250803T211851Z
UID:10047225-1754514000-1754514000@atlantea.news
SUMMARY:Πανηγύρι του Σωτήρος στις Μέσα Κατοικιές Φηρών
DESCRIPTION:
URL:https://atlantea.news/event/panhgyri_tou_sotiros_stis_mesa_katkoikies/
LOCATION:Ι.Ν. Μεταμορφώσεως του Σωτήρος\, Μέσα Κατοικιές Φηρών\, Σαντορίνη\, 84700\, Greece
CATEGORIES:Έθιμο-Πανηγύρι
END:VEVENT
END:VCALENDAR