BEGIN:VCALENDAR
VERSION:2.0
PRODID:-//Atlantea - ECPv6.15.9//NONSGML v1.0//EN
CALSCALE:GREGORIAN
METHOD:PUBLISH
X-ORIGINAL-URL:https://atlantea.news
X-WR-CALDESC:Events for Atlantea
REFRESH-INTERVAL;VALUE=DURATION:PT1H
X-Robots-Tag:noindex
X-PUBLISHED-TTL:PT1H
BEGIN:VTIMEZONE
TZID:Europe/Athens
BEGIN:DAYLIGHT
TZOFFSETFROM:+0200
TZOFFSETTO:+0300
TZNAME:EEST
DTSTART:20240331T010000
END:DAYLIGHT
BEGIN:STANDARD
TZOFFSETFROM:+0300
TZOFFSETTO:+0200
TZNAME:EET
DTSTART:20241027T010000
END:STANDARD
BEGIN:DAYLIGHT
TZOFFSETFROM:+0200
TZOFFSETTO:+0300
TZNAME:EEST
DTSTART:20250330T010000
END:DAYLIGHT
BEGIN:STANDARD
TZOFFSETFROM:+0300
TZOFFSETTO:+0200
TZNAME:EET
DTSTART:20251026T010000
END:STANDARD
BEGIN:DAYLIGHT
TZOFFSETFROM:+0200
TZOFFSETTO:+0300
TZNAME:EEST
DTSTART:20260329T010000
END:DAYLIGHT
BEGIN:STANDARD
TZOFFSETFROM:+0300
TZOFFSETTO:+0200
TZNAME:EET
DTSTART:20261025T010000
END:STANDARD
END:VTIMEZONE
BEGIN:VTIMEZONE
TZID:Europe/Moscow
BEGIN:STANDARD
TZOFFSETFROM:+0300
TZOFFSETTO:+0300
TZNAME:MSK
DTSTART:20240101T000000
END:STANDARD
END:VTIMEZONE
BEGIN:VEVENT
DTSTART;TZID=Europe/Athens:20250817T100000
DTEND;TZID=Europe/Athens:20250817T200000
DTSTAMP:20260425T134456
CREATED:20250805T082637Z
LAST-MODIFIED:20251027T145229Z
UID:10047234-1755424800-1755460800@atlantea.news
SUMMARY:Έκθεση φωτογραφίας "Nelly’s. Η Σαντορίνη του μεσοπολέμου"
DESCRIPTION:
URL:https://atlantea.news/event/%ce%ad%ce%ba%ce%b8%ce%b5%cf%83%ce%b7%cf%82-%cf%86%cf%89%cf%84%ce%bf%ce%b3%cf%81%ce%b1%cf%86%ce%af%ce%b1-nellys-%ce%b7-%cf%83%ce%b1%ce%bd%cf%84%ce%bf%cf%81%ce%af%ce%bd%ce%b7-%cf%84%ce%bf/2025-08-17/
LOCATION:Κέντρο Φωτογραφίας Kastelana\, Καστέλι\, Πύργος\, Σαντορίνη\, 84701\, Greece
CATEGORIES:Έκθεση
END:VEVENT
BEGIN:VEVENT
DTSTART;TZID=Europe/Moscow:20250817T120000
DTEND;TZID=Europe/Moscow:20250817T200000
DTSTAMP:20260425T134456
CREATED:20250422T095809Z
LAST-MODIFIED:20250506T163047Z
UID:10046793-1755432000-1755460800@atlantea.news
SUMMARY:Έκθεση φωτογραφίας του Robert McCabe
DESCRIPTION:“Lively Matter: Μία φωτογραφική τεκμηρίωση της Σαντορίνης μεταξύ 1954 και 1964”
URL:https://atlantea.news/event/%ce%ad%ce%ba%ce%b8%ce%b5%cf%83%ce%b7-%cf%86%cf%89%cf%84%ce%bf%ce%b3%cf%81%ce%b1%cf%86%ce%af%ce%b1%cf%82-%cf%84%ce%bf%cf%85-robert-mccabe/2025-08-17/
LOCATION:Vassaltis Vineyards\, Βουρβούλος\, Σαντορίνη\, 84700\, Greece
CATEGORIES:Έκθεση
ORGANIZER;CN="Vassaltis Vineyards":MAILTO:info@vassaltis.com
END:VEVENT
BEGIN:VEVENT
DTSTART;TZID=Europe/Moscow:20250817T180000
DTEND;TZID=Europe/Moscow:20250817T235900
DTSTAMP:20260425T134456
CREATED:20250707T221235Z
LAST-MODIFIED:20250707T221235Z
UID:10047176-1755453600-1755475140@atlantea.news
SUMMARY:Έκθεση ζωγραφικής του Ted Lundgren
DESCRIPTION:
URL:https://atlantea.news/event/%ce%ad%ce%ba%ce%b8%ce%b5%cf%83%ce%b7-%ce%b6%cf%89%ce%b3%cf%81%ce%b1%cf%86%ce%b9%ce%ba%ce%ae%cf%82-%cf%84%ce%bf%cf%85-ted-lundgren/2025-08-17/
LOCATION:Εκθεσιακός χώρος Εστίας Πύργου\, Κεντρική Πλατεία Πύργου\, Σαντορίνη\, 84700\, Greece
CATEGORIES:Έκθεση
GEO:36.4166485;25.432447
X-APPLE-STRUCTURED-LOCATION;VALUE=URI;X-ADDRESS=Εκθεσιακός χώρος Εστίας Πύργου Κεντρική Πλατεία Πύργου Σαντορίνη 84700 Greece;X-APPLE-RADIUS=500;X-TITLE=Κεντρική Πλατεία Πύργου:geo:25.432447,36.4166485
END:VEVENT
BEGIN:VEVENT
DTSTART;TZID=Europe/Moscow:20250817T203000
DTEND;TZID=Europe/Moscow:20250817T203000
DTSTAMP:20260425T134456
CREATED:20250707T221455Z
LAST-MODIFIED:20250806T103557Z
UID:10047182-1755462600-1755462600@atlantea.news
SUMMARY:Παρουσίαση ποιητικής συλλογής Ευαγγελίας Φύτρου
DESCRIPTION:
URL:https://atlantea.news/event/%cf%80%ce%b1%cf%81%ce%bf%cf%85%cf%83%ce%af%ce%b1%cf%83%ce%b7-%cf%80%ce%bf%ce%b9%ce%b7%cf%84%ce%b9%ce%ba%ce%ae%cf%82-%cf%83%cf%85%ce%bb%ce%bb%ce%bf%ce%b3%ce%ae%cf%82-%ce%b5%cf%85%ce%b1%ce%b3%ce%b3/
LOCATION:Κεντρική Πλατεία Πύργου\, Πύργος\, Σαντορίνη\, 84701\, Greece
CATEGORIES:Παρουσίαση
END:VEVENT
BEGIN:VEVENT
DTSTART;TZID=Europe/Athens:20250817T203000
DTEND;TZID=Europe/Athens:20250817T203000
DTSTAMP:20260425T134456
CREATED:20250813T102923Z
LAST-MODIFIED:20250813T104026Z
UID:10047300-1755462600-1755462600@atlantea.news
SUMMARY:Προβολή ταινίας "Βαβυλωνία"
DESCRIPTION:
URL:https://atlantea.news/event/%cf%80%cf%81%ce%bf%ce%b2%ce%bf%ce%bb%ce%ae-%cf%84%ce%b1%ce%b9%ce%bd%ce%af%ce%b1%cf%82-%ce%b2%ce%b1%ce%b2%cf%85%ce%bb%cf%89%ce%bd%ce%af%ce%b1/
LOCATION:Μεγαλοχώρι\, Σαντορίνη\, Greece
CATEGORIES:Σινεμά
END:VEVENT
BEGIN:VEVENT
DTSTART;TZID=Europe/Athens:20250817T203000
DTEND;TZID=Europe/Athens:20250817T230000
DTSTAMP:20260425T134456
CREATED:20250817T054336Z
LAST-MODIFIED:20250817T054547Z
UID:10047306-1755462600-1755471600@atlantea.news
SUMMARY:Θεματικό πάρτι '80s-'90s-'00s στα Φηρά
DESCRIPTION:
URL:https://atlantea.news/event/%ce%b8%ce%b5%ce%bc%ce%b1%cf%84%ce%b9%ce%ba%cf%8c-%cf%80%ce%ac%cf%81%cf%84%ce%b9-80s-90s-00s-%cf%83%cf%84%ce%b1-%cf%86%ce%b7%cf%81%ce%ac/
LOCATION:Κεντρική Πλατεία Φηρών\, Φηρά\, Σαντορίνη\, 84700\, Greece
CATEGORIES:Διάφορα,Συναυλία - Μουσική εκδήλωση
END:VEVENT
END:VCALENDAR