BEGIN:VCALENDAR
VERSION:2.0
PRODID:-//Atlantea - ECPv6.15.9//NONSGML v1.0//EN
CALSCALE:GREGORIAN
METHOD:PUBLISH
X-ORIGINAL-URL:https://atlantea.news
X-WR-CALDESC:Events for Atlantea
REFRESH-INTERVAL;VALUE=DURATION:PT1H
X-Robots-Tag:noindex
X-PUBLISHED-TTL:PT1H
BEGIN:VTIMEZONE
TZID:Europe/Athens
BEGIN:DAYLIGHT
TZOFFSETFROM:+0200
TZOFFSETTO:+0300
TZNAME:EEST
DTSTART:20240331T010000
END:DAYLIGHT
BEGIN:STANDARD
TZOFFSETFROM:+0300
TZOFFSETTO:+0200
TZNAME:EET
DTSTART:20241027T010000
END:STANDARD
BEGIN:DAYLIGHT
TZOFFSETFROM:+0200
TZOFFSETTO:+0300
TZNAME:EEST
DTSTART:20250330T010000
END:DAYLIGHT
BEGIN:STANDARD
TZOFFSETFROM:+0300
TZOFFSETTO:+0200
TZNAME:EET
DTSTART:20251026T010000
END:STANDARD
BEGIN:DAYLIGHT
TZOFFSETFROM:+0200
TZOFFSETTO:+0300
TZNAME:EEST
DTSTART:20260329T010000
END:DAYLIGHT
BEGIN:STANDARD
TZOFFSETFROM:+0300
TZOFFSETTO:+0200
TZNAME:EET
DTSTART:20261025T010000
END:STANDARD
END:VTIMEZONE
BEGIN:VTIMEZONE
TZID:Europe/Moscow
BEGIN:STANDARD
TZOFFSETFROM:+0300
TZOFFSETTO:+0300
TZNAME:MSK
DTSTART:20240101T000000
END:STANDARD
END:VTIMEZONE
BEGIN:VEVENT
DTSTART;TZID=Europe/Athens:20250819T100000
DTEND;TZID=Europe/Athens:20250819T200000
DTSTAMP:20260425T134431
CREATED:20250805T082637Z
LAST-MODIFIED:20251027T145229Z
UID:10047236-1755597600-1755633600@atlantea.news
SUMMARY:Έκθεση φωτογραφίας "Nelly’s. Η Σαντορίνη του μεσοπολέμου"
DESCRIPTION:
URL:https://atlantea.news/event/%ce%ad%ce%ba%ce%b8%ce%b5%cf%83%ce%b7%cf%82-%cf%86%cf%89%cf%84%ce%bf%ce%b3%cf%81%ce%b1%cf%86%ce%af%ce%b1-nellys-%ce%b7-%cf%83%ce%b1%ce%bd%cf%84%ce%bf%cf%81%ce%af%ce%bd%ce%b7-%cf%84%ce%bf/2025-08-19/
LOCATION:Κέντρο Φωτογραφίας Kastelana\, Καστέλι\, Πύργος\, Σαντορίνη\, 84701\, Greece
CATEGORIES:Έκθεση
END:VEVENT
BEGIN:VEVENT
DTSTART;TZID=Europe/Moscow:20250819T120000
DTEND;TZID=Europe/Moscow:20250819T200000
DTSTAMP:20260425T134431
CREATED:20250422T095809Z
LAST-MODIFIED:20250506T163047Z
UID:10046795-1755604800-1755633600@atlantea.news
SUMMARY:Έκθεση φωτογραφίας του Robert McCabe
DESCRIPTION:“Lively Matter: Μία φωτογραφική τεκμηρίωση της Σαντορίνης μεταξύ 1954 και 1964”
URL:https://atlantea.news/event/%ce%ad%ce%ba%ce%b8%ce%b5%cf%83%ce%b7-%cf%86%cf%89%cf%84%ce%bf%ce%b3%cf%81%ce%b1%cf%86%ce%af%ce%b1%cf%82-%cf%84%ce%bf%cf%85-robert-mccabe/2025-08-19/
LOCATION:Vassaltis Vineyards\, Βουρβούλος\, Σαντορίνη\, 84700\, Greece
CATEGORIES:Έκθεση
ORGANIZER;CN="Vassaltis Vineyards":MAILTO:info@vassaltis.com
END:VEVENT
BEGIN:VEVENT
DTSTART;TZID=Europe/Moscow:20250819T180000
DTEND;TZID=Europe/Moscow:20250819T235900
DTSTAMP:20260425T134431
CREATED:20250707T221235Z
LAST-MODIFIED:20250707T221235Z
UID:10047178-1755626400-1755647940@atlantea.news
SUMMARY:Έκθεση ζωγραφικής του Ted Lundgren
DESCRIPTION:
URL:https://atlantea.news/event/%ce%ad%ce%ba%ce%b8%ce%b5%cf%83%ce%b7-%ce%b6%cf%89%ce%b3%cf%81%ce%b1%cf%86%ce%b9%ce%ba%ce%ae%cf%82-%cf%84%ce%bf%cf%85-ted-lundgren/2025-08-19/
LOCATION:Εκθεσιακός χώρος Εστίας Πύργου\, Κεντρική Πλατεία Πύργου\, Σαντορίνη\, 84700\, Greece
CATEGORIES:Έκθεση
GEO:36.4166485;25.432447
X-APPLE-STRUCTURED-LOCATION;VALUE=URI;X-ADDRESS=Εκθεσιακός χώρος Εστίας Πύργου Κεντρική Πλατεία Πύργου Σαντορίνη 84700 Greece;X-APPLE-RADIUS=500;X-TITLE=Κεντρική Πλατεία Πύργου:geo:25.432447,36.4166485
END:VEVENT
BEGIN:VEVENT
DTSTART;TZID=Europe/Athens:20250819T203000
DTEND;TZID=Europe/Athens:20250819T203000
DTSTAMP:20260425T134431
CREATED:20250814T164210Z
LAST-MODIFIED:20250814T165453Z
UID:10047305-1755635400-1755635400@atlantea.news
SUMMARY:Βραδιά ντίσκο στον Πύργο
DESCRIPTION:
URL:https://atlantea.news/event/%ce%b2%cf%81%ce%b1%ce%b4%ce%b9%ce%ac-%ce%bd%cf%84%ce%af%cf%83%ce%ba%ce%bf-%cf%83%cf%84%ce%bf-%cf%80%cf%8d%cf%81%ce%b3%ce%bf/
LOCATION:Κεντρική Πλατεία Πύργου\, Πύργος\, Σαντορίνη\, 84701\, Greece
CATEGORIES:Συναυλία - Μουσική εκδήλωση
END:VEVENT
BEGIN:VEVENT
DTSTART;TZID=Europe/Moscow:20250819T210000
DTEND;TZID=Europe/Moscow:20250819T210000
DTSTAMP:20260425T134431
CREATED:20250723T192434Z
LAST-MODIFIED:20250723T194302Z
UID:10047205-1755637200-1755637200@atlantea.news
SUMMARY:Φεστιβάλ "Στη σκιά της Κόρης" με την Ευτυχία Μητρίτσα
DESCRIPTION:Παράσταση “Αιώνιες Γυναίκες”
URL:https://atlantea.news/event/%cf%86%ce%b5%cf%83%cf%84%ce%b9%ce%b2%ce%ac%ce%bb-%cf%83%cf%84%ce%b7-%cf%83%ce%ba%ce%b9%ce%ac-%cf%84%ce%b7%cf%82-%ce%ba%cf%8c%cf%81%ce%b7%cf%82-%ce%bc%ce%b5-%cf%84%ce%b7%ce%bd-%ce%b5%cf%85%cf%84/
LOCATION:Ζυθοποιία Φτέλος\, Καρτεράδος\, Σαντορίνη\, 84700\, Greece
CATEGORIES:Συναυλία - Μουσική εκδήλωση
ORGANIZER;CN="%CE%A6%CE%B5%CF%83%CF%84%CE%B9%CE%B2%CE%AC%CE%BB '%CE%A3%CF%84%CE%B7 %CF%83%CE%BA%CE%B9%CE%AC %CF%84%CE%B7%CF%82 %CE%9A%CF%8C%CF%81%CE%B7%CF%82'":MAILTO:stiskiatiskorisfestival@gmail.com
END:VEVENT
END:VCALENDAR