BEGIN:VCALENDAR
VERSION:2.0
PRODID:-//Atlantea - ECPv6.15.9//NONSGML v1.0//EN
CALSCALE:GREGORIAN
METHOD:PUBLISH
X-ORIGINAL-URL:https://atlantea.news
X-WR-CALDESC:Events for Atlantea
REFRESH-INTERVAL;VALUE=DURATION:PT1H
X-Robots-Tag:noindex
X-PUBLISHED-TTL:PT1H
BEGIN:VTIMEZONE
TZID:Europe/Athens
BEGIN:DAYLIGHT
TZOFFSETFROM:+0200
TZOFFSETTO:+0300
TZNAME:EEST
DTSTART:20240331T010000
END:DAYLIGHT
BEGIN:STANDARD
TZOFFSETFROM:+0300
TZOFFSETTO:+0200
TZNAME:EET
DTSTART:20241027T010000
END:STANDARD
BEGIN:DAYLIGHT
TZOFFSETFROM:+0200
TZOFFSETTO:+0300
TZNAME:EEST
DTSTART:20250330T010000
END:DAYLIGHT
BEGIN:STANDARD
TZOFFSETFROM:+0300
TZOFFSETTO:+0200
TZNAME:EET
DTSTART:20251026T010000
END:STANDARD
BEGIN:DAYLIGHT
TZOFFSETFROM:+0200
TZOFFSETTO:+0300
TZNAME:EEST
DTSTART:20260329T010000
END:DAYLIGHT
BEGIN:STANDARD
TZOFFSETFROM:+0300
TZOFFSETTO:+0200
TZNAME:EET
DTSTART:20261025T010000
END:STANDARD
END:VTIMEZONE
BEGIN:VTIMEZONE
TZID:Europe/Moscow
BEGIN:STANDARD
TZOFFSETFROM:+0300
TZOFFSETTO:+0300
TZNAME:MSK
DTSTART:20240101T000000
END:STANDARD
END:VTIMEZONE
BEGIN:VEVENT
DTSTART;TZID=Europe/Athens:20250825T100000
DTEND;TZID=Europe/Athens:20250825T200000
DTSTAMP:20260425T134430
CREATED:20250805T082637Z
LAST-MODIFIED:20251027T145229Z
UID:10047241-1756116000-1756152000@atlantea.news
SUMMARY:Έκθεση φωτογραφίας "Nelly’s. Η Σαντορίνη του μεσοπολέμου"
DESCRIPTION:
URL:https://atlantea.news/event/%ce%ad%ce%ba%ce%b8%ce%b5%cf%83%ce%b7%cf%82-%cf%86%cf%89%cf%84%ce%bf%ce%b3%cf%81%ce%b1%cf%86%ce%af%ce%b1-nellys-%ce%b7-%cf%83%ce%b1%ce%bd%cf%84%ce%bf%cf%81%ce%af%ce%bd%ce%b7-%cf%84%ce%bf/2025-08-25/
LOCATION:Κέντρο Φωτογραφίας Kastelana\, Καστέλι\, Πύργος\, Σαντορίνη\, 84701\, Greece
CATEGORIES:Έκθεση
END:VEVENT
BEGIN:VEVENT
DTSTART;TZID=Europe/Moscow:20250825T120000
DTEND;TZID=Europe/Moscow:20250825T200000
DTSTAMP:20260425T134430
CREATED:20250422T095809Z
LAST-MODIFIED:20250506T163047Z
UID:10046801-1756123200-1756152000@atlantea.news
SUMMARY:Έκθεση φωτογραφίας του Robert McCabe
DESCRIPTION:“Lively Matter: Μία φωτογραφική τεκμηρίωση της Σαντορίνης μεταξύ 1954 και 1964”
URL:https://atlantea.news/event/%ce%ad%ce%ba%ce%b8%ce%b5%cf%83%ce%b7-%cf%86%cf%89%cf%84%ce%bf%ce%b3%cf%81%ce%b1%cf%86%ce%af%ce%b1%cf%82-%cf%84%ce%bf%cf%85-robert-mccabe/2025-08-25/
LOCATION:Vassaltis Vineyards\, Βουρβούλος\, Σαντορίνη\, 84700\, Greece
CATEGORIES:Έκθεση
ORGANIZER;CN="Vassaltis Vineyards":MAILTO:info@vassaltis.com
END:VEVENT
BEGIN:VEVENT
DTSTART;TZID=Europe/Athens:20250825T210000
DTEND;TZID=Europe/Athens:20250825T210000
DTSTAMP:20260425T134430
CREATED:20250731T121834Z
LAST-MODIFIED:20250825T123852Z
UID:10047212-1756155600-1756155600@atlantea.news
SUMMARY:Αφιέρωμα στον Δημήτρη Μητροπάνο
DESCRIPTION:8ο Φεστιβάλ Στρογγύλη \nΤραγουδούν οι Δημήτρης Μπάσης\, Κώστας Τριανταφυλλίδης και Δημήτρης Μπάκουλης
URL:https://atlantea.news/event/%ce%b1%cf%86%ce%b9%ce%ad%cf%81%cf%89%ce%bc%ce%b1-%cf%83%cf%84%ce%bf%ce%bd-%ce%b4%ce%b7%ce%bc%ce%ae%cf%84%cf%81%ce%b7-%ce%bc%ce%b7%cf%84%cf%81%ce%bf%cf%80%ce%ac%ce%bd%ce%bf/
LOCATION:Προαύλιος χώρος Κλειστού Γυμναστηρίου\, Καρτεράδος\, Σαντορίνη\, 84700\, Greece
CATEGORIES:Συναυλία - Μουσική εκδήλωση
GEO:36.4115625;25.4464635
X-APPLE-STRUCTURED-LOCATION;VALUE=URI;X-ADDRESS=Προαύλιος χώρος Κλειστού Γυμναστηρίου Καρτεράδος Σαντορίνη 84700 Greece;X-APPLE-RADIUS=500;X-TITLE=Καρτεράδος:geo:25.4464635,36.4115625
END:VEVENT
BEGIN:VEVENT
DTSTART;TZID=Europe/Athens:20250825T210000
DTEND;TZID=Europe/Athens:20250825T210000
DTSTAMP:20260425T134430
CREATED:20250820T192545Z
LAST-MODIFIED:20250820T192545Z
UID:10047308-1756155600-1756155600@atlantea.news
SUMMARY:Μουσική εκδήλωση με τον Ηλία Βαμβακούση και τη Βίκη Σταθοπούλου
DESCRIPTION:
URL:https://atlantea.news/event/%ce%bc%ce%bf%cf%85%cf%83%ce%b9%ce%ba%ce%ae-%ce%b5%ce%ba%ce%b4%ce%ae%ce%bb%cf%89%cf%83%ce%b7-%ce%bc%ce%b5-%cf%84%ce%bf%ce%bd-%ce%b7%ce%bb%ce%af%ce%b1-%ce%b2%ce%b1%ce%bc%ce%b2%ce%b1%ce%ba%ce%bf%cf%8d/
LOCATION:Κεντρική Πλατεία Πύργου\, Πύργος\, Σαντορίνη\, 84701\, Greece
CATEGORIES:Συναυλία - Μουσική εκδήλωση
END:VEVENT
END:VCALENDAR