BEGIN:VCALENDAR
VERSION:2.0
PRODID:-//Atlantea - ECPv6.15.9//NONSGML v1.0//EN
CALSCALE:GREGORIAN
METHOD:PUBLISH
X-ORIGINAL-URL:https://atlantea.news
X-WR-CALDESC:Events for Atlantea
REFRESH-INTERVAL;VALUE=DURATION:PT1H
X-Robots-Tag:noindex
X-PUBLISHED-TTL:PT1H
BEGIN:VTIMEZONE
TZID:Europe/Moscow
BEGIN:STANDARD
TZOFFSETFROM:+0300
TZOFFSETTO:+0300
TZNAME:MSK
DTSTART:20240101T000000
END:STANDARD
END:VTIMEZONE
BEGIN:VTIMEZONE
TZID:Europe/Athens
BEGIN:DAYLIGHT
TZOFFSETFROM:+0200
TZOFFSETTO:+0300
TZNAME:EEST
DTSTART:20240331T010000
END:DAYLIGHT
BEGIN:STANDARD
TZOFFSETFROM:+0300
TZOFFSETTO:+0200
TZNAME:EET
DTSTART:20241027T010000
END:STANDARD
BEGIN:DAYLIGHT
TZOFFSETFROM:+0200
TZOFFSETTO:+0300
TZNAME:EEST
DTSTART:20250330T010000
END:DAYLIGHT
BEGIN:STANDARD
TZOFFSETFROM:+0300
TZOFFSETTO:+0200
TZNAME:EET
DTSTART:20251026T010000
END:STANDARD
BEGIN:DAYLIGHT
TZOFFSETFROM:+0200
TZOFFSETTO:+0300
TZNAME:EEST
DTSTART:20260329T010000
END:DAYLIGHT
BEGIN:STANDARD
TZOFFSETFROM:+0300
TZOFFSETTO:+0200
TZNAME:EET
DTSTART:20261025T010000
END:STANDARD
END:VTIMEZONE
BEGIN:VEVENT
DTSTART;TZID=Europe/Moscow:20250827T100000
DTEND;TZID=Europe/Moscow:20250827T180000
DTSTAMP:20260425T134426
CREATED:20250703T131153Z
LAST-MODIFIED:20250703T131153Z
UID:10047063-1756288800-1756317600@atlantea.news
SUMMARY:Έκθεση ζωγραφικής "Θηραϊκές Τελετουργίες"
DESCRIPTION:Της Άρτεμης Χατζηγιαννάκη
URL:https://atlantea.news/event/%ce%ad%ce%ba%ce%b8%ce%b5%cf%83%ce%b7-%ce%b6%cf%89%ce%b3%cf%81%ce%b1%cf%86%ce%b9%ce%ba%ce%ae%cf%82-%ce%b8%ce%b7%cf%81%ce%b1%cf%8a%ce%ba%ce%ad%cf%82-%cf%84%ce%b5%ce%bb%ce%b5%cf%84%ce%bf%cf%85%cf%81/2025-08-27/
LOCATION:Βιομηχανικό Μουσείο Τομάτας «Δ. Νομικός»\, Βλυχάδα\, Σαντορίνη\, 84700\, Greece
CATEGORIES:Έκθεση
GEO:36.3364529;25.4366155
X-APPLE-STRUCTURED-LOCATION;VALUE=URI;X-ADDRESS=Βιομηχανικό Μουσείο Τομάτας «Δ. Νομικός» Βλυχάδα Σαντορίνη 84700 Greece;X-APPLE-RADIUS=500;X-TITLE=Βλυχάδα:geo:25.4366155,36.3364529
END:VEVENT
BEGIN:VEVENT
DTSTART;TZID=Europe/Moscow:20250827T120000
DTEND;TZID=Europe/Moscow:20250827T200000
DTSTAMP:20260425T134426
CREATED:20250422T095809Z
LAST-MODIFIED:20250506T163047Z
UID:10046803-1756296000-1756324800@atlantea.news
SUMMARY:Έκθεση φωτογραφίας του Robert McCabe
DESCRIPTION:“Lively Matter: Μία φωτογραφική τεκμηρίωση της Σαντορίνης μεταξύ 1954 και 1964”
URL:https://atlantea.news/event/%ce%ad%ce%ba%ce%b8%ce%b5%cf%83%ce%b7-%cf%86%cf%89%cf%84%ce%bf%ce%b3%cf%81%ce%b1%cf%86%ce%af%ce%b1%cf%82-%cf%84%ce%bf%cf%85-robert-mccabe/2025-08-27/
LOCATION:Vassaltis Vineyards\, Βουρβούλος\, Σαντορίνη\, 84700\, Greece
CATEGORIES:Έκθεση
ORGANIZER;CN="Vassaltis Vineyards":MAILTO:info@vassaltis.com
END:VEVENT
BEGIN:VEVENT
DTSTART;TZID=Europe/Athens:20250827T200000
DTEND;TZID=Europe/Athens:20250827T200000
DTSTAMP:20260425T134426
CREATED:20250826T122438Z
LAST-MODIFIED:20250826T122648Z
UID:10047313-1756324800-1756324800@atlantea.news
SUMMARY:Μουσική παράσταση στα Φηρά
DESCRIPTION:
URL:https://atlantea.news/event/%ce%bc%ce%bf%cf%85%cf%83%ce%b9%ce%ba%ce%ae-%cf%80%ce%b1%cf%81%ce%ac%cf%83%cf%84%ce%b1%cf%83%ce%b7-%cf%83%cf%84%ce%b1-%cf%86%ce%b7%cf%81%ce%ac/
LOCATION:Μητρόπολη Φηρών\, Φηρά\, Σαντορίνη\, 84700\, Greece
CATEGORIES:Συναυλία - Μουσική εκδήλωση
END:VEVENT
BEGIN:VEVENT
DTSTART;TZID=Europe/Athens:20250827T200000
DTEND;TZID=Europe/Athens:20250827T200000
DTSTAMP:20260425T134426
CREATED:20250827T081922Z
LAST-MODIFIED:20250827T085718Z
UID:10047314-1756324800-1756324800@atlantea.news
SUMMARY:Γιορτή Αγ. Φανουρίου
DESCRIPTION:Με τον Αργύρη Αρβανίτη στο βιολί και τον Μιχάλη Βάλβη στο λαούτο
URL:https://atlantea.news/event/%ce%b3%ce%b9%ce%bf%cf%81%cf%84%ce%ae-%ce%b1%ce%b3-%cf%86%ce%b1%ce%bd%ce%bf%cf%85%cf%81%ce%af%ce%bf%cf%85/
LOCATION:Πλατεία Καρτεράδου\, Καρτεράδος\, Σαντορίνη\, 84700\, Greece
CATEGORIES:Έθιμο-Πανηγύρι
END:VEVENT
END:VCALENDAR