BEGIN:VCALENDAR
VERSION:2.0
PRODID:-//Atlantea - ECPv6.15.9//NONSGML v1.0//EN
CALSCALE:GREGORIAN
METHOD:PUBLISH
X-WR-CALNAME:Atlantea
X-ORIGINAL-URL:https://atlantea.news
X-WR-CALDESC:Events for Atlantea
REFRESH-INTERVAL;VALUE=DURATION:PT1H
X-Robots-Tag:noindex
X-PUBLISHED-TTL:PT1H
BEGIN:VTIMEZONE
TZID:Europe/Moscow
BEGIN:STANDARD
TZOFFSETFROM:+0300
TZOFFSETTO:+0300
TZNAME:MSK
DTSTART:20240101T000000
END:STANDARD
END:VTIMEZONE
BEGIN:VTIMEZONE
TZID:Europe/Athens
BEGIN:DAYLIGHT
TZOFFSETFROM:+0200
TZOFFSETTO:+0300
TZNAME:EEST
DTSTART:20240331T010000
END:DAYLIGHT
BEGIN:STANDARD
TZOFFSETFROM:+0300
TZOFFSETTO:+0200
TZNAME:EET
DTSTART:20241027T010000
END:STANDARD
BEGIN:DAYLIGHT
TZOFFSETFROM:+0200
TZOFFSETTO:+0300
TZNAME:EEST
DTSTART:20250330T010000
END:DAYLIGHT
BEGIN:STANDARD
TZOFFSETFROM:+0300
TZOFFSETTO:+0200
TZNAME:EET
DTSTART:20251026T010000
END:STANDARD
BEGIN:DAYLIGHT
TZOFFSETFROM:+0200
TZOFFSETTO:+0300
TZNAME:EEST
DTSTART:20260329T010000
END:DAYLIGHT
BEGIN:STANDARD
TZOFFSETFROM:+0300
TZOFFSETTO:+0200
TZNAME:EET
DTSTART:20261025T010000
END:STANDARD
END:VTIMEZONE
BEGIN:VEVENT
DTSTART;TZID=Europe/Moscow:20250828T100000
DTEND;TZID=Europe/Moscow:20250828T180000
DTSTAMP:20260425T145807
CREATED:20250703T131153Z
LAST-MODIFIED:20250703T131153Z
UID:10047064-1756375200-1756404000@atlantea.news
SUMMARY:Έκθεση ζωγραφικής "Θηραϊκές Τελετουργίες"
DESCRIPTION:Της Άρτεμης Χατζηγιαννάκη
URL:https://atlantea.news/event/%ce%ad%ce%ba%ce%b8%ce%b5%cf%83%ce%b7-%ce%b6%cf%89%ce%b3%cf%81%ce%b1%cf%86%ce%b9%ce%ba%ce%ae%cf%82-%ce%b8%ce%b7%cf%81%ce%b1%cf%8a%ce%ba%ce%ad%cf%82-%cf%84%ce%b5%ce%bb%ce%b5%cf%84%ce%bf%cf%85%cf%81/2025-08-28/
LOCATION:Βιομηχανικό Μουσείο Τομάτας «Δ. Νομικός»\, Βλυχάδα\, Σαντορίνη\, 84700\, Greece
CATEGORIES:Έκθεση
GEO:36.3364529;25.4366155
X-APPLE-STRUCTURED-LOCATION;VALUE=URI;X-ADDRESS=Βιομηχανικό Μουσείο Τομάτας «Δ. Νομικός» Βλυχάδα Σαντορίνη 84700 Greece;X-APPLE-RADIUS=500;X-TITLE=Βλυχάδα:geo:25.4366155,36.3364529
END:VEVENT
BEGIN:VEVENT
DTSTART;TZID=Europe/Athens:20250828T100000
DTEND;TZID=Europe/Athens:20250828T200000
DTSTAMP:20260425T145807
CREATED:20250805T082637Z
LAST-MODIFIED:20251027T145229Z
UID:10047243-1756375200-1756411200@atlantea.news
SUMMARY:Έκθεση φωτογραφίας "Nelly’s. Η Σαντορίνη του μεσοπολέμου"
DESCRIPTION:
URL:https://atlantea.news/event/%ce%ad%ce%ba%ce%b8%ce%b5%cf%83%ce%b7%cf%82-%cf%86%cf%89%cf%84%ce%bf%ce%b3%cf%81%ce%b1%cf%86%ce%af%ce%b1-nellys-%ce%b7-%cf%83%ce%b1%ce%bd%cf%84%ce%bf%cf%81%ce%af%ce%bd%ce%b7-%cf%84%ce%bf/2025-08-28/
LOCATION:Κέντρο Φωτογραφίας Kastelana\, Καστέλι\, Πύργος\, Σαντορίνη\, 84701\, Greece
CATEGORIES:Έκθεση
END:VEVENT
BEGIN:VEVENT
DTSTART;TZID=Europe/Moscow:20250828T120000
DTEND;TZID=Europe/Moscow:20250828T200000
DTSTAMP:20260425T145807
CREATED:20250422T095809Z
LAST-MODIFIED:20250506T163047Z
UID:10046804-1756382400-1756411200@atlantea.news
SUMMARY:Έκθεση φωτογραφίας του Robert McCabe
DESCRIPTION:“Lively Matter: Μία φωτογραφική τεκμηρίωση της Σαντορίνης μεταξύ 1954 και 1964”
URL:https://atlantea.news/event/%ce%ad%ce%ba%ce%b8%ce%b5%cf%83%ce%b7-%cf%86%cf%89%cf%84%ce%bf%ce%b3%cf%81%ce%b1%cf%86%ce%af%ce%b1%cf%82-%cf%84%ce%bf%cf%85-robert-mccabe/2025-08-28/
LOCATION:Vassaltis Vineyards\, Βουρβούλος\, Σαντορίνη\, 84700\, Greece
CATEGORIES:Έκθεση
ORGANIZER;CN="Vassaltis Vineyards":MAILTO:info@vassaltis.com
END:VEVENT
BEGIN:VEVENT
DTSTART;TZID=Europe/Moscow:20250828T210000
DTEND;TZID=Europe/Moscow:20250828T210000
DTSTAMP:20260425T145807
CREATED:20250710T113736Z
LAST-MODIFIED:20250826T124131Z
UID:10047188-1756414800-1756414800@atlantea.news
SUMMARY:Μουσική εκδήλωση με τον Θοδωρή Βουτσικάκη
DESCRIPTION:
URL:https://atlantea.news/event/%ce%bc%ce%bf%cf%85%cf%83%ce%b9%ce%ba%ce%ae-%ce%b5%ce%ba%ce%b4%ce%ae%ce%bb%cf%89%cf%83%ce%b7-%ce%bc%ce%b5-%cf%84%ce%bf%ce%bd-%ce%b8%ce%bf%ce%b4%cf%89%cf%81%ce%ae-%ce%b2%ce%bf%cf%85%cf%84%cf%83%ce%b9/
LOCATION:Κεντρική Πλατεία Πύργου\, Πύργος\, Σαντορίνη\, 84701\, Greece
CATEGORIES:Συναυλία - Μουσική εκδήλωση
END:VEVENT
BEGIN:VEVENT
DTSTART;TZID=Europe/Athens:20250828T210000
DTEND;TZID=Europe/Athens:20250828T210000
DTSTAMP:20260425T145807
CREATED:20250821T183804Z
LAST-MODIFIED:20250821T190731Z
UID:10047309-1756414800-1756414800@atlantea.news
SUMMARY:Νησιώτικα και κρητικά τραγούδια στο Ακρωτήρι
DESCRIPTION:
URL:https://atlantea.news/event/%ce%bd%ce%b7%cf%83%ce%b9%cf%8e%cf%84%ce%b9%ce%ba%ce%b1-%ce%ba%ce%b1%ce%b9-%ce%ba%cf%81%ce%b7%cf%84%ce%b9%ce%ba%ce%ac-%cf%84%cf%81%ce%b1%ce%b3%ce%bf%cf%8d%ce%b4%ce%b9%ce%b1-%cf%83%cf%84%ce%bf-%ce%b1/
LOCATION:Κεντρική πλατεία Ακρωτηρίου\, Ακρωτήρι\, Σαντορίνη\, 84700
CATEGORIES:Συναυλία - Μουσική εκδήλωση
END:VEVENT
END:VCALENDAR