BEGIN:VCALENDAR
VERSION:2.0
PRODID:-//Atlantea - ECPv6.15.9//NONSGML v1.0//EN
CALSCALE:GREGORIAN
METHOD:PUBLISH
X-ORIGINAL-URL:https://atlantea.news
X-WR-CALDESC:Events for Atlantea
REFRESH-INTERVAL;VALUE=DURATION:PT1H
X-Robots-Tag:noindex
X-PUBLISHED-TTL:PT1H
BEGIN:VTIMEZONE
TZID:Europe/Moscow
BEGIN:STANDARD
TZOFFSETFROM:+0300
TZOFFSETTO:+0300
TZNAME:MSK
DTSTART:20240101T000000
END:STANDARD
END:VTIMEZONE
BEGIN:VTIMEZONE
TZID:Europe/Athens
BEGIN:DAYLIGHT
TZOFFSETFROM:+0200
TZOFFSETTO:+0300
TZNAME:EEST
DTSTART:20240331T010000
END:DAYLIGHT
BEGIN:STANDARD
TZOFFSETFROM:+0300
TZOFFSETTO:+0200
TZNAME:EET
DTSTART:20241027T010000
END:STANDARD
BEGIN:DAYLIGHT
TZOFFSETFROM:+0200
TZOFFSETTO:+0300
TZNAME:EEST
DTSTART:20250330T010000
END:DAYLIGHT
BEGIN:STANDARD
TZOFFSETFROM:+0300
TZOFFSETTO:+0200
TZNAME:EET
DTSTART:20251026T010000
END:STANDARD
BEGIN:DAYLIGHT
TZOFFSETFROM:+0200
TZOFFSETTO:+0300
TZNAME:EEST
DTSTART:20260329T010000
END:DAYLIGHT
BEGIN:STANDARD
TZOFFSETFROM:+0300
TZOFFSETTO:+0200
TZNAME:EET
DTSTART:20261025T010000
END:STANDARD
END:VTIMEZONE
BEGIN:VEVENT
DTSTART;TZID=Europe/Moscow:20250905T100000
DTEND;TZID=Europe/Moscow:20250905T180000
DTSTAMP:20260425T132946
CREATED:20250703T131153Z
LAST-MODIFIED:20250703T131153Z
UID:10047071-1757066400-1757095200@atlantea.news
SUMMARY:Έκθεση ζωγραφικής "Θηραϊκές Τελετουργίες"
DESCRIPTION:Της Άρτεμης Χατζηγιαννάκη
URL:https://atlantea.news/event/%ce%ad%ce%ba%ce%b8%ce%b5%cf%83%ce%b7-%ce%b6%cf%89%ce%b3%cf%81%ce%b1%cf%86%ce%b9%ce%ba%ce%ae%cf%82-%ce%b8%ce%b7%cf%81%ce%b1%cf%8a%ce%ba%ce%ad%cf%82-%cf%84%ce%b5%ce%bb%ce%b5%cf%84%ce%bf%cf%85%cf%81/2025-09-05/
LOCATION:Βιομηχανικό Μουσείο Τομάτας «Δ. Νομικός»\, Βλυχάδα\, Σαντορίνη\, 84700\, Greece
CATEGORIES:Έκθεση
GEO:36.3364529;25.4366155
X-APPLE-STRUCTURED-LOCATION;VALUE=URI;X-ADDRESS=Βιομηχανικό Μουσείο Τομάτας «Δ. Νομικός» Βλυχάδα Σαντορίνη 84700 Greece;X-APPLE-RADIUS=500;X-TITLE=Βλυχάδα:geo:25.4366155,36.3364529
END:VEVENT
BEGIN:VEVENT
DTSTART;TZID=Europe/Athens:20250905T100000
DTEND;TZID=Europe/Athens:20250905T190000
DTSTAMP:20260425T132946
CREATED:20250829T122301Z
LAST-MODIFIED:20250829T122642Z
UID:10047325-1757066400-1757098800@atlantea.news
SUMMARY:Έκθεση φωτογραφίας "Τοπία\, Άνθρωποι\, Αφηγήσεις μοναχικότητας"
DESCRIPTION:
URL:https://atlantea.news/event/%ce%ad%ce%ba%ce%b8%ce%b5%cf%83%ce%b7-%cf%86%cf%89%cf%84%ce%bf%ce%b3%cf%81%ce%b1%cf%86%ce%af%ce%b1%cf%82-%cf%84%ce%bf%cf%80%ce%af%ce%b1-%ce%ac%ce%bd%ce%b8%cf%81%cf%89%cf%80%ce%bf%ce%b9-%ce%b1%cf%86/2025-09-05/
LOCATION:“Συμπόσιον” Κέντρο Πολιτισμού\, Μεγαλοχώρι\, Σαντορίνη\, 84700\, Greece
CATEGORIES:Έκθεση
END:VEVENT
BEGIN:VEVENT
DTSTART;TZID=Europe/Athens:20250905T100000
DTEND;TZID=Europe/Athens:20250905T200000
DTSTAMP:20260425T132946
CREATED:20250805T082637Z
LAST-MODIFIED:20251027T145229Z
UID:10047250-1757066400-1757102400@atlantea.news
SUMMARY:Έκθεση φωτογραφίας "Nelly’s. Η Σαντορίνη του μεσοπολέμου"
DESCRIPTION:
URL:https://atlantea.news/event/%ce%ad%ce%ba%ce%b8%ce%b5%cf%83%ce%b7%cf%82-%cf%86%cf%89%cf%84%ce%bf%ce%b3%cf%81%ce%b1%cf%86%ce%af%ce%b1-nellys-%ce%b7-%cf%83%ce%b1%ce%bd%cf%84%ce%bf%cf%81%ce%af%ce%bd%ce%b7-%cf%84%ce%bf/2025-09-05/
LOCATION:Κέντρο Φωτογραφίας Kastelana\, Καστέλι\, Πύργος\, Σαντορίνη\, 84701\, Greece
CATEGORIES:Έκθεση
END:VEVENT
BEGIN:VEVENT
DTSTART;TZID=Europe/Moscow:20250905T120000
DTEND;TZID=Europe/Moscow:20250905T200000
DTSTAMP:20260425T132946
CREATED:20250422T095809Z
LAST-MODIFIED:20250506T163047Z
UID:10046812-1757073600-1757102400@atlantea.news
SUMMARY:Έκθεση φωτογραφίας του Robert McCabe
DESCRIPTION:“Lively Matter: Μία φωτογραφική τεκμηρίωση της Σαντορίνης μεταξύ 1954 και 1964”
URL:https://atlantea.news/event/%ce%ad%ce%ba%ce%b8%ce%b5%cf%83%ce%b7-%cf%86%cf%89%cf%84%ce%bf%ce%b3%cf%81%ce%b1%cf%86%ce%af%ce%b1%cf%82-%cf%84%ce%bf%cf%85-robert-mccabe/2025-09-05/
LOCATION:Vassaltis Vineyards\, Βουρβούλος\, Σαντορίνη\, 84700\, Greece
CATEGORIES:Έκθεση
ORGANIZER;CN="Vassaltis Vineyards":MAILTO:info@vassaltis.com
END:VEVENT
BEGIN:VEVENT
DTSTART;TZID=Europe/Athens:20250905T200000
DTEND;TZID=Europe/Athens:20250905T200000
DTSTAMP:20260425T132946
CREATED:20250901T135137Z
LAST-MODIFIED:20250901T135300Z
UID:10047371-1757102400-1757102400@atlantea.news
SUMMARY:Προβολή ντοκιμαντέρ "Στο σώμα της"
DESCRIPTION:
URL:https://atlantea.news/event/%cf%80%cf%81%ce%bf%ce%b2%ce%bf%ce%bb%ce%ae-%ce%bd%cf%84%ce%bf%ce%ba%ce%b9%ce%bc%ce%b1%ce%bd%cf%84%ce%ad%cf%81-%cf%83%cf%84%ce%bf-%cf%83%cf%8e%ce%bc%ce%b1-%cf%84%ce%b7%cf%82/
LOCATION:Δημοτικό Σχολείο Θηρασίας\, Θηρασία\, Greece
CATEGORIES:Σινεμά
GEO:36.4365762;25.3370947
END:VEVENT
BEGIN:VEVENT
DTSTART;TZID=Europe/Athens:20250905T200000
DTEND;TZID=Europe/Athens:20250905T200000
DTSTAMP:20260425T132946
CREATED:20250902T214728Z
LAST-MODIFIED:20250902T215424Z
UID:10047375-1757102400-1757102400@atlantea.news
SUMMARY:Αθλητική ημερίδα στον Πύργο
DESCRIPTION:
URL:https://atlantea.news/event/%ce%b1%ce%b8%ce%bb%ce%b7%cf%84%ce%b9%ce%ba%ce%ae-%ce%b7%ce%bc%ce%b5%cf%81%ce%af%ce%b4%ce%b1-%cf%83%cf%84%ce%bf%ce%bd-%cf%80%cf%8d%cf%81%ce%b3%ce%bf/
LOCATION:Κεντρική Πλατεία Πύργου\, Πύργος\, Σαντορίνη\, 84701\, Greece
CATEGORIES:Ομιλία
END:VEVENT
BEGIN:VEVENT
DTSTART;TZID=Europe/Athens:20250905T210000
DTEND;TZID=Europe/Athens:20250905T210000
DTSTAMP:20260425T132946
CREATED:20250828T092150Z
LAST-MODIFIED:20250828T092243Z
UID:10047317-1757106000-1757106000@atlantea.news
SUMMARY:Τα έντεχνα
DESCRIPTION:Φεστιβάλ Στρογγύλη on the road
URL:https://atlantea.news/event/%cf%84%ce%b1-%ce%ad%ce%bd%cf%84%ce%b5%cf%87%ce%bd%ce%b1/
LOCATION:Φηροστεφάνι\, Σαντορίνη\, 84700\, Greece
CATEGORIES:Συναυλία - Μουσική εκδήλωση
GEO:36.3931562;25.4615092
END:VEVENT
END:VCALENDAR