BEGIN:VCALENDAR
VERSION:2.0
PRODID:-//Atlantea - ECPv6.15.9//NONSGML v1.0//EN
CALSCALE:GREGORIAN
METHOD:PUBLISH
X-ORIGINAL-URL:https://atlantea.news
X-WR-CALDESC:Events for Atlantea
REFRESH-INTERVAL;VALUE=DURATION:PT1H
X-Robots-Tag:noindex
X-PUBLISHED-TTL:PT1H
BEGIN:VTIMEZONE
TZID:Europe/Athens
BEGIN:DAYLIGHT
TZOFFSETFROM:+0200
TZOFFSETTO:+0300
TZNAME:EEST
DTSTART:20240331T010000
END:DAYLIGHT
BEGIN:STANDARD
TZOFFSETFROM:+0300
TZOFFSETTO:+0200
TZNAME:EET
DTSTART:20241027T010000
END:STANDARD
BEGIN:DAYLIGHT
TZOFFSETFROM:+0200
TZOFFSETTO:+0300
TZNAME:EEST
DTSTART:20250330T010000
END:DAYLIGHT
BEGIN:STANDARD
TZOFFSETFROM:+0300
TZOFFSETTO:+0200
TZNAME:EET
DTSTART:20251026T010000
END:STANDARD
BEGIN:DAYLIGHT
TZOFFSETFROM:+0200
TZOFFSETTO:+0300
TZNAME:EEST
DTSTART:20260329T010000
END:DAYLIGHT
BEGIN:STANDARD
TZOFFSETFROM:+0300
TZOFFSETTO:+0200
TZNAME:EET
DTSTART:20261025T010000
END:STANDARD
END:VTIMEZONE
BEGIN:VEVENT
DTSTART;TZID=Europe/Athens:20251129T150000
DTEND;TZID=Europe/Athens:20251129T190000
DTSTAMP:20260425T143539
CREATED:20251128T224345Z
LAST-MODIFIED:20251128T224345Z
UID:10048190-1764428400-1764442800@atlantea.news
SUMMARY:Χριστουγεννιάτικο bazaar στον Καρτεράδο
DESCRIPTION:
URL:https://atlantea.news/event/%cf%87%cf%81%ce%b9%cf%83%cf%84%ce%bf%cf%85%ce%b3%ce%b5%ce%bd%ce%bd%ce%b9%ce%ac%cf%84%ce%b9%ce%ba%ce%bf-bazaar-%cf%83%cf%84%ce%bf%ce%bd-%ce%ba%ce%b1%cf%81%cf%84%ce%b5%cf%81%ce%ac%ce%b4%ce%bf/
LOCATION:Πλατεία Καρτεράδου\, Καρτεράδος\, Σαντορίνη\, 84700\, Greece
CATEGORIES:Διάφορα
END:VEVENT
BEGIN:VEVENT
DTSTART;TZID=Europe/Athens:20251129T204500
DTEND;TZID=Europe/Athens:20251129T204500
DTSTAMP:20260425T143539
CREATED:20251125T222311Z
LAST-MODIFIED:20251125T222822Z
UID:10048186-1764449100-1764449100@atlantea.news
SUMMARY:Η πόρνη από πάνω
DESCRIPTION:
URL:https://atlantea.news/event/%ce%b7-%cf%80%cf%8c%cf%81%ce%bd%ce%b7-%ce%b1%cf%80%cf%8c-%cf%80%ce%ac%ce%bd%cf%89-2/2025-11-29/
LOCATION:Μπελλώνειο Πολιτιστικό Κέντρο\, Φηρά\, Σαντορίνη\, 84700\, Greece
CATEGORIES:Θέατρο
END:VEVENT
END:VCALENDAR