BEGIN:VCALENDAR
VERSION:2.0
PRODID:-//Atlantea - ECPv6.15.9//NONSGML v1.0//EN
CALSCALE:GREGORIAN
METHOD:PUBLISH
X-ORIGINAL-URL:https://atlantea.news
X-WR-CALDESC:Events for Atlantea
REFRESH-INTERVAL;VALUE=DURATION:PT1H
X-Robots-Tag:noindex
X-PUBLISHED-TTL:PT1H
BEGIN:VTIMEZONE
TZID:Europe/Athens
BEGIN:DAYLIGHT
TZOFFSETFROM:+0200
TZOFFSETTO:+0300
TZNAME:EEST
DTSTART:20250330T010000
END:DAYLIGHT
BEGIN:STANDARD
TZOFFSETFROM:+0300
TZOFFSETTO:+0200
TZNAME:EET
DTSTART:20251026T010000
END:STANDARD
BEGIN:DAYLIGHT
TZOFFSETFROM:+0200
TZOFFSETTO:+0300
TZNAME:EEST
DTSTART:20260329T010000
END:DAYLIGHT
BEGIN:STANDARD
TZOFFSETFROM:+0300
TZOFFSETTO:+0200
TZNAME:EET
DTSTART:20261025T010000
END:STANDARD
BEGIN:DAYLIGHT
TZOFFSETFROM:+0200
TZOFFSETTO:+0300
TZNAME:EEST
DTSTART:20270328T010000
END:DAYLIGHT
BEGIN:STANDARD
TZOFFSETFROM:+0300
TZOFFSETTO:+0200
TZNAME:EET
DTSTART:20271031T010000
END:STANDARD
END:VTIMEZONE
BEGIN:VEVENT
DTSTART;TZID=Europe/Athens:20260329T150000
DTEND;TZID=Europe/Athens:20260329T150000
DTSTAMP:20260424T233419
CREATED:20260327T185630Z
LAST-MODIFIED:20260328T154151Z
UID:10048318-1774796400-1774796400@atlantea.news
SUMMARY:Πασχαλινές δράσεις στο Μεγαλοχώρι
DESCRIPTION:
URL:https://atlantea.news/event/%cf%80%ce%b1%cf%83%cf%87%ce%b1%ce%bb%ce%b9%ce%bd%ce%ad%cf%82-%ce%b4%cf%81%ce%ac%cf%83%ce%b5%ce%b9%cf%82-%cf%83%cf%84%ce%bf-%ce%bc%ce%b5%ce%b3%ce%b1%ce%bb%ce%bf%cf%87%cf%8e%cf%81%ce%b9/
LOCATION:Γραφεία Πολιτιστικού Συλλόγου Μετόχι\, Μεγαλοχώρι\, Σαντορίνη\, 84700
CATEGORIES:Για παιδιά,Διάφορα
ATTACH;FMTTYPE=image/jpeg:https://atlantea.news/wp-content/uploads/2026/03/pasxalines_draseis.jpg
END:VEVENT
END:VCALENDAR