BEGIN:VCALENDAR
VERSION:2.0
PRODID:-//Atlantea - ECPv6.15.9//NONSGML v1.0//EN
CALSCALE:GREGORIAN
METHOD:PUBLISH
X-ORIGINAL-URL:https://atlantea.news
X-WR-CALDESC:Events for Atlantea
REFRESH-INTERVAL;VALUE=DURATION:PT1H
X-Robots-Tag:noindex
X-PUBLISHED-TTL:PT1H
BEGIN:VTIMEZONE
TZID:Europe/Athens
BEGIN:DAYLIGHT
TZOFFSETFROM:+0200
TZOFFSETTO:+0300
TZNAME:EEST
DTSTART:20250330T010000
END:DAYLIGHT
BEGIN:STANDARD
TZOFFSETFROM:+0300
TZOFFSETTO:+0200
TZNAME:EET
DTSTART:20251026T010000
END:STANDARD
BEGIN:DAYLIGHT
TZOFFSETFROM:+0200
TZOFFSETTO:+0300
TZNAME:EEST
DTSTART:20260329T010000
END:DAYLIGHT
BEGIN:STANDARD
TZOFFSETFROM:+0300
TZOFFSETTO:+0200
TZNAME:EET
DTSTART:20261025T010000
END:STANDARD
BEGIN:DAYLIGHT
TZOFFSETFROM:+0200
TZOFFSETTO:+0300
TZNAME:EEST
DTSTART:20270328T010000
END:DAYLIGHT
BEGIN:STANDARD
TZOFFSETFROM:+0300
TZOFFSETTO:+0200
TZNAME:EET
DTSTART:20271031T010000
END:STANDARD
END:VTIMEZONE
BEGIN:VEVENT
DTSTART;TZID=Europe/Athens:20260425T180000
DTEND;TZID=Europe/Athens:20260425T180000
DTSTAMP:20260425T163923
CREATED:20260408T174650Z
LAST-MODIFIED:20260421T112457Z
UID:10048325-1777140000-1777140000@atlantea.news
SUMMARY:Τελικός του Κυπέλλου Ελλάδας μπάσκετ με αμαξίδιο
DESCRIPTION:
URL:https://atlantea.news/event/%cf%84%ce%b5%ce%bb%ce%b9%ce%ba%cf%8c%cf%82-%cf%84%ce%bf%cf%85-%ce%ba%cf%85%cf%80%ce%ad%ce%bb%ce%bb%ce%bf%cf%85-%ce%b5%ce%bb%ce%bb%ce%ac%ce%b4%ce%b1%cf%82-%ce%bc%cf%80%ce%ac%cf%83%ce%ba%ce%b5%cf%84/
LOCATION:Κλειστό Γυμναστήριο Σαντορίνης\, Καρτεράδος\, Σαντορινη\, 84700\, Greece
CATEGORIES:Αγώνας
END:VEVENT
END:VCALENDAR