BEGIN:VCALENDAR
VERSION:2.0
PRODID:-//Atlantea - ECPv6.15.9//NONSGML v1.0//EN
CALSCALE:GREGORIAN
METHOD:PUBLISH
X-ORIGINAL-URL:https://atlantea.news
X-WR-CALDESC:Events for Atlantea
REFRESH-INTERVAL;VALUE=DURATION:PT1H
X-Robots-Tag:noindex
X-PUBLISHED-TTL:PT1H
BEGIN:VTIMEZONE
TZID:Europe/Athens
BEGIN:DAYLIGHT
TZOFFSETFROM:+0200
TZOFFSETTO:+0300
TZNAME:EEST
DTSTART:20250330T010000
END:DAYLIGHT
BEGIN:STANDARD
TZOFFSETFROM:+0300
TZOFFSETTO:+0200
TZNAME:EET
DTSTART:20251026T010000
END:STANDARD
BEGIN:DAYLIGHT
TZOFFSETFROM:+0200
TZOFFSETTO:+0300
TZNAME:EEST
DTSTART:20260329T010000
END:DAYLIGHT
BEGIN:STANDARD
TZOFFSETFROM:+0300
TZOFFSETTO:+0200
TZNAME:EET
DTSTART:20261025T010000
END:STANDARD
BEGIN:DAYLIGHT
TZOFFSETFROM:+0200
TZOFFSETTO:+0300
TZNAME:EEST
DTSTART:20270328T010000
END:DAYLIGHT
BEGIN:STANDARD
TZOFFSETFROM:+0300
TZOFFSETTO:+0200
TZNAME:EET
DTSTART:20271031T010000
END:STANDARD
END:VTIMEZONE
BEGIN:VEVENT
DTSTART;TZID=Europe/Athens:20260408T193000
DTEND;TZID=Europe/Athens:20260408T193000
DTSTAMP:20260425T181149
CREATED:20260406T074516Z
LAST-MODIFIED:20260406T074955Z
UID:10048324-1775676600-1775676600@atlantea.news
SUMMARY:ΑΟ Θήρας - Παναθηναϊκός
DESCRIPTION:Για την ημιτελική σειρά της Volley League γυναικών
URL:https://atlantea.news/event/%ce%b1%ce%bf-%ce%b8%ce%ae%cf%81%ce%b1%cf%82-%cf%80%ce%b1%ce%bd%ce%b1%ce%b8%ce%b7%ce%bd%ce%b1%cf%8a%ce%ba%cf%8c%cf%82-6/
LOCATION:Κλειστό Γυμναστήριο Σαντορίνης\, Καρτεράδος\, Σαντορινη\, 84700\, Greece
CATEGORIES:Αγώνας
END:VEVENT
BEGIN:VEVENT
DTSTART;TZID=Europe/Athens:20260424T180000
DTEND;TZID=Europe/Athens:20260424T180000
DTSTAMP:20260425T181149
CREATED:20260421T112745Z
LAST-MODIFIED:20260421T113301Z
UID:10048330-1777053600-1777053600@atlantea.news
SUMMARY:Φιλανθρωπικός αγώνας ποδοσφαίρου
DESCRIPTION:
URL:https://atlantea.news/event/%cf%86%ce%b9%ce%bb%ce%b1%ce%bd%ce%b8%cf%81%cf%89%cf%80%ce%b9%ce%ba%cf%8c%cf%82-%ce%b1%ce%b3%cf%8e%ce%bd%ce%b1%cf%82-%cf%80%ce%bf%ce%b4%ce%bf%cf%83%cf%86%ce%b1%ce%af%cf%81%ce%bf%cf%85/
LOCATION:Δημοτικό Γήπεδο Φηρών\, Φηρά\, Σαντορίνη\, 84700\, Greece
CATEGORIES:Αγώνας
GEO:36.42;25.431667
X-APPLE-STRUCTURED-LOCATION;VALUE=URI;X-ADDRESS=Δημοτικό Γήπεδο Φηρών Φηρά Σαντορίνη 84700 Greece;X-APPLE-RADIUS=500;X-TITLE=Φηρά:geo:25.431667,36.42
END:VEVENT
BEGIN:VEVENT
DTSTART;TZID=Europe/Athens:20260425T180000
DTEND;TZID=Europe/Athens:20260425T180000
DTSTAMP:20260425T181149
CREATED:20260408T174650Z
LAST-MODIFIED:20260421T112457Z
UID:10048325-1777140000-1777140000@atlantea.news
SUMMARY:Τελικός του Κυπέλλου Ελλάδας μπάσκετ με αμαξίδιο
DESCRIPTION:
URL:https://atlantea.news/event/%cf%84%ce%b5%ce%bb%ce%b9%ce%ba%cf%8c%cf%82-%cf%84%ce%bf%cf%85-%ce%ba%cf%85%cf%80%ce%ad%ce%bb%ce%bb%ce%bf%cf%85-%ce%b5%ce%bb%ce%bb%ce%ac%ce%b4%ce%b1%cf%82-%ce%bc%cf%80%ce%ac%cf%83%ce%ba%ce%b5%cf%84/
LOCATION:Κλειστό Γυμναστήριο Σαντορίνης\, Καρτεράδος\, Σαντορινη\, 84700\, Greece
CATEGORIES:Αγώνας
END:VEVENT
END:VCALENDAR