BEGIN:VCALENDAR
VERSION:2.0
PRODID:-//Atlantea - ECPv6.15.9//NONSGML v1.0//EN
CALSCALE:GREGORIAN
METHOD:PUBLISH
X-WR-CALNAME:Atlantea
X-ORIGINAL-URL:https://atlantea.news
X-WR-CALDESC:Events for Atlantea
REFRESH-INTERVAL;VALUE=DURATION:PT1H
X-Robots-Tag:noindex
X-PUBLISHED-TTL:PT1H
BEGIN:VTIMEZONE
TZID:Europe/Athens
BEGIN:DAYLIGHT
TZOFFSETFROM:+0200
TZOFFSETTO:+0300
TZNAME:EEST
DTSTART:20240331T010000
END:DAYLIGHT
BEGIN:STANDARD
TZOFFSETFROM:+0300
TZOFFSETTO:+0200
TZNAME:EET
DTSTART:20241027T010000
END:STANDARD
BEGIN:DAYLIGHT
TZOFFSETFROM:+0200
TZOFFSETTO:+0300
TZNAME:EEST
DTSTART:20250330T010000
END:DAYLIGHT
BEGIN:STANDARD
TZOFFSETFROM:+0300
TZOFFSETTO:+0200
TZNAME:EET
DTSTART:20251026T010000
END:STANDARD
BEGIN:DAYLIGHT
TZOFFSETFROM:+0200
TZOFFSETTO:+0300
TZNAME:EEST
DTSTART:20260329T010000
END:DAYLIGHT
BEGIN:STANDARD
TZOFFSETFROM:+0300
TZOFFSETTO:+0200
TZNAME:EET
DTSTART:20261025T010000
END:STANDARD
END:VTIMEZONE
BEGIN:VEVENT
DTSTART;TZID=Europe/Athens:20251013T190000
DTEND;TZID=Europe/Athens:20251013T190000
DTSTAMP:20260426T051449
CREATED:20251009T234101Z
LAST-MODIFIED:20251009T234340Z
UID:10048146-1760382000-1760382000@atlantea.news
SUMMARY:Θεραπευτική της Oικογένειας - 1η συνάντηση
DESCRIPTION:
URL:https://atlantea.news/event/%ce%b8%ce%b5%cf%81%ce%b1%cf%80%ce%b5%cf%85%cf%84%ce%b9%ce%ba%ce%ae-%cf%84%ce%b7%cf%82-o%ce%b9%ce%ba%ce%bf%ce%b3%ce%ad%ce%bd%ce%b5%ce%b9%ce%b1%cf%82-1%ce%b7-%cf%83%cf%85%ce%bd%ce%ac%ce%bd%cf%84%ce%b7/
LOCATION:Πνευματικό Κέντρο Αγ. Παντελεήμονα\, Έξω Γωνιά\, Σαντορίνη\, 84700\, Greece
CATEGORIES:Ομιλία
END:VEVENT
BEGIN:VEVENT
DTSTART;TZID=Europe/Athens:20251025T190000
DTEND;TZID=Europe/Athens:20251025T190000
DTSTAMP:20260426T051449
CREATED:20251024T142643Z
LAST-MODIFIED:20251024T143328Z
UID:10048161-1761418800-1761418800@atlantea.news
SUMMARY:Έθιμο Αγίου Αβερκίου χωρίς γιορτή
DESCRIPTION:Δείτε περισσότερα εδώ.
URL:https://atlantea.news/event/%ce%ad%ce%b8%ce%b9%ce%bc%ce%bf-%ce%b1%ce%b3%ce%af%ce%bf%cf%85-%ce%b1%ce%b2%ce%b5%cf%81%ce%ba%ce%af%ce%bf%cf%85-%cf%87%cf%89%cf%81%ce%af%cf%82-%ce%b3%ce%b9%ce%bf%cf%81%cf%84%ce%ae/
LOCATION:Ζυθοποιία Φτέλος\, Καρτεράδος\, Σαντορίνη\, 84700\, Greece
CATEGORIES:Ομιλία,Παρουσίαση
END:VEVENT
BEGIN:VEVENT
DTSTART;TZID=Europe/Athens:20251029T180000
DTEND;TZID=Europe/Athens:20251029T180000
DTSTAMP:20260426T051449
CREATED:20251020T111833Z
LAST-MODIFIED:20251020T112120Z
UID:10048154-1761760800-1761760800@atlantea.news
SUMMARY:Σχολή Γονέων: Σχοινοβατώντας ως σύζυγοι και γονείς σε μια ανέραστη πραγματικότητα
DESCRIPTION:Εισήγηση από τον Μητροπολίτη Καλαμαριάς και Νέας Κρίνης κ. Ιουστίνο Μπαρδάκα \nΘα προηγηθεί αγιασμός για την έναρξη του νέου κύκλου συναντήσεων της Σχολής Γονέων
URL:https://atlantea.news/event/%cf%83%cf%87%ce%bf%ce%bb%ce%ae-%ce%b3%ce%bf%ce%bd%ce%ad%cf%89%ce%bd-%cf%83%cf%87%ce%bf%ce%b9%ce%bd%ce%bf%ce%b2%ce%b1%cf%84%cf%8e%ce%bd%cf%84%ce%b1%cf%82-%cf%89%cf%82-%cf%83%cf%8d%ce%b6%cf%85%ce%b3/
LOCATION:Πνευματικό Κέντρο Ι.Ν. Παναγίας Γλυκογαλούσας\, Καρτεράδος\, Σαντορίνη\, 84700\, Greece
CATEGORIES:Ομιλία,Σεμινάριο
ORGANIZER;CN="%CE%A0%CE%B1%CE%B9%CE%B4%CE%B9%CE%BA%CF%8C%CF%82 %CE%A3%CF%84%CE%B1%CE%B8%CE%BC%CF%8C%CF%82 %CE%97 %CE%93%CE%BB%CF%85%CE%BA%CE%BF%CE%B3%CE%B1%CE%BB%CE%BF%CF%8D%CF%83%CE%B1":MAILTO:glikogalousa@yahoo.gr
END:VEVENT
END:VCALENDAR