BEGIN:VCALENDAR
VERSION:2.0
PRODID:-//Atlantea - ECPv6.15.9//NONSGML v1.0//EN
CALSCALE:GREGORIAN
METHOD:PUBLISH
X-ORIGINAL-URL:https://atlantea.news
X-WR-CALDESC:Events for Atlantea
REFRESH-INTERVAL;VALUE=DURATION:PT1H
X-Robots-Tag:noindex
X-PUBLISHED-TTL:PT1H
BEGIN:VTIMEZONE
TZID:Europe/Athens
BEGIN:DAYLIGHT
TZOFFSETFROM:+0200
TZOFFSETTO:+0300
TZNAME:EEST
DTSTART:20250330T010000
END:DAYLIGHT
BEGIN:STANDARD
TZOFFSETFROM:+0300
TZOFFSETTO:+0200
TZNAME:EET
DTSTART:20251026T010000
END:STANDARD
BEGIN:DAYLIGHT
TZOFFSETFROM:+0200
TZOFFSETTO:+0300
TZNAME:EEST
DTSTART:20260329T010000
END:DAYLIGHT
BEGIN:STANDARD
TZOFFSETFROM:+0300
TZOFFSETTO:+0200
TZNAME:EET
DTSTART:20261025T010000
END:STANDARD
BEGIN:DAYLIGHT
TZOFFSETFROM:+0200
TZOFFSETTO:+0300
TZNAME:EEST
DTSTART:20270328T010000
END:DAYLIGHT
BEGIN:STANDARD
TZOFFSETFROM:+0300
TZOFFSETTO:+0200
TZNAME:EET
DTSTART:20271031T010000
END:STANDARD
END:VTIMEZONE
BEGIN:VEVENT
DTSTART;TZID=Europe/Athens:20260227T180000
DTEND;TZID=Europe/Athens:20260227T180000
DTSTAMP:20260424T165439
CREATED:20260224T133237Z
LAST-MODIFIED:20260224T145237Z
UID:10048306-1772215200-1772215200@atlantea.news
SUMMARY:Σκέψη\, Παιδεία και Τεχνητή Νοημοσύνη
DESCRIPTION:
URL:https://atlantea.news/event/%cf%83%ce%ba%ce%ad%cf%88%ce%b7-%cf%80%ce%b1%ce%b9%ce%b4%ce%b5%ce%af%ce%b1-%ce%ba%ce%b1%ce%b9-%cf%84%ce%b5%cf%87%ce%bd%ce%b7%cf%84%ce%ae-%ce%bd%ce%bf%ce%b7%ce%bc%ce%bf%cf%83%cf%8d%ce%bd%ce%b7/
LOCATION:Μπελλώνειο Πολιτιστικό Κέντρο\, Φηρά\, Σαντορίνη\, 84700\, Greece
CATEGORIES:Ομιλία
ORGANIZER;CN="%CE%A3%CF%8D%CE%BB%CE%BB%CE%BF%CE%B3%CE%BF%CF%82 %CE%95%CE%BA%CF%80%CE%B1%CE%B9%CE%B4%CE%B5%CF%85%CF%84%CE%B9%CE%BA%CF%8E%CE%BD %CE%A0%CF%81%CF%89%CF%84%CE%BF%CE%B2%CE%AC%CE%B8%CE%BC%CE%B9%CE%B1%CF%82 %CE%95%CE%BA%CF%80%CE%B1%CE%AF%CE%B4%CE%B5%CF%85%CF%83%CE%B7%CF%82 %CE%98%CE%AE%CF%81%CE%B1%CF%82 %CE%BA%CE%B1%CE%B9 %CE%9D%CE%AE%CF%83%CF%89%CE%BD":MAILTO:spethiras@gmail.com
END:VEVENT
BEGIN:VEVENT
DTSTART;TZID=Europe/Athens:20260228T173000
DTEND;TZID=Europe/Athens:20260228T200000
DTSTAMP:20260424T165439
CREATED:20260224T092547Z
LAST-MODIFIED:20260224T092813Z
UID:10048303-1772299800-1772308800@atlantea.news
SUMMARY:Σακχαρώδης Διαβήτης: Από το χθες έως το αύριο
DESCRIPTION:Δείτε περισσότερα εδώ
URL:https://atlantea.news/event/%cf%83%ce%b1%ce%ba%cf%87%ce%b1%cf%81%cf%8e%ce%b4%ce%b7%cf%82-%ce%b4%ce%b9%ce%b1%ce%b2%ce%ae%cf%84%ce%b7%cf%82-%ce%b1%cf%80%cf%8c-%cf%84%ce%bf-%cf%87%ce%b8%ce%b5%cf%82-%ce%ad%cf%89%cf%82-%cf%84%ce%bf/
LOCATION:Εστία Πύργου\, Πύργος\, Σαντορίνη\, 84701\, Greece
CATEGORIES:Ομιλία
END:VEVENT
END:VCALENDAR