BEGIN:VCALENDAR
VERSION:2.0
PRODID:-//Atlantea - ECPv6.15.9//NONSGML v1.0//EN
CALSCALE:GREGORIAN
METHOD:PUBLISH
X-WR-CALNAME:Atlantea
X-ORIGINAL-URL:https://atlantea.news
X-WR-CALDESC:Events for Atlantea
REFRESH-INTERVAL;VALUE=DURATION:PT1H
X-Robots-Tag:noindex
X-PUBLISHED-TTL:PT1H
BEGIN:VTIMEZONE
TZID:Europe/Athens
BEGIN:DAYLIGHT
TZOFFSETFROM:+0200
TZOFFSETTO:+0300
TZNAME:EEST
DTSTART:20250330T010000
END:DAYLIGHT
BEGIN:STANDARD
TZOFFSETFROM:+0300
TZOFFSETTO:+0200
TZNAME:EET
DTSTART:20251026T010000
END:STANDARD
BEGIN:DAYLIGHT
TZOFFSETFROM:+0200
TZOFFSETTO:+0300
TZNAME:EEST
DTSTART:20260329T010000
END:DAYLIGHT
BEGIN:STANDARD
TZOFFSETFROM:+0300
TZOFFSETTO:+0200
TZNAME:EET
DTSTART:20261025T010000
END:STANDARD
BEGIN:DAYLIGHT
TZOFFSETFROM:+0200
TZOFFSETTO:+0300
TZNAME:EEST
DTSTART:20270328T010000
END:DAYLIGHT
BEGIN:STANDARD
TZOFFSETFROM:+0300
TZOFFSETTO:+0200
TZNAME:EET
DTSTART:20271031T010000
END:STANDARD
END:VTIMEZONE
BEGIN:VEVENT
DTSTART;TZID=Europe/Athens:20260323T180000
DTEND;TZID=Europe/Athens:20260323T180000
DTSTAMP:20260424T180442
CREATED:20260319T104343Z
LAST-MODIFIED:20260319T104528Z
UID:10048316-1774288800-1774288800@atlantea.news
SUMMARY:Εφηβεία και πρόληψη των εξαρτήσεων
DESCRIPTION:
URL:https://atlantea.news/event/%ce%b5%cf%86%ce%b7%ce%b2%ce%b5%ce%af%ce%b1-%ce%ba%ce%b1%ce%b9-%cf%80%cf%81%cf%8c%ce%bb%ce%b7%cf%88%ce%b7-%cf%84%cf%89%ce%bd-%ce%b5%ce%be%ce%b1%cf%81%cf%84%ce%ae%cf%83%ce%b5%cf%89%ce%bd-2/
LOCATION:Αίθουσα εκδηλώσεων Γυμνασίου Μεσαριάς\, Μεσαριά\, 84700\, Greece
CATEGORIES:Ομιλία
GEO:36.3990884;25.4477265
X-APPLE-STRUCTURED-LOCATION;VALUE=URI;X-ADDRESS=Αίθουσα εκδηλώσεων Γυμνασίου Μεσαριάς Μεσαριά 84700 Greece;X-APPLE-RADIUS=500;X-TITLE=Μεσαριά:geo:25.4477265,36.3990884
END:VEVENT
BEGIN:VEVENT
DTSTART;TZID=Europe/Athens:20260327T193000
DTEND;TZID=Europe/Athens:20260327T193000
DTSTAMP:20260424T180442
CREATED:20260317T143727Z
LAST-MODIFIED:20260317T145402Z
UID:10048314-1774639800-1774639800@atlantea.news
SUMMARY:Ενημερωτική εκδήλωση για το ηφαίστειο
DESCRIPTION:Δείτε περισσότερα εδώ.
URL:https://atlantea.news/event/%ce%b5%ce%bd%ce%b7%ce%bc%ce%b5%cf%81%cf%89%cf%84%ce%b9%ce%ba%ce%ae-%ce%b5%ce%ba%ce%b4%ce%ae%ce%bb%cf%89%cf%83%ce%b7-%ce%b3%ce%b9%ce%b1-%cf%84%ce%bf-%ce%b7%cf%86%ce%b1%ce%af%cf%83%cf%84%ce%b5%ce%b9-4/
LOCATION:Μπελλώνειο Πολιτιστικό Κέντρο\, Φηρά\, Σαντορίνη\, 84700\, Greece
CATEGORIES:Ομιλία
ORGANIZER;CN="%CE%99.%CE%9C.%CE%A0.%CE%97.%CE%A3. - %CE%99%CE%BD%CF%83%CF%84%CE%B9%CF%84%CE%BF%CF%8D%CF%84%CE%BF %CE%9C%CE%B5%CE%BB%CE%AD%CF%84%CE%B7%CF%82 & %CE%A0%CE%B1%CF%81%CE%B1%CE%BA%CE%BF%CE%BB%CE%BF%CF%8D%CE%B8%CE%B7%CF%83%CE%B7%CF%82 %CE%97%CF%86%CE%B1%CE%B9%CF%83%CF%84%CE%B5%CE%AF%CE%BF%CF%85 %CE%A3%CE%B1%CE%BD%CF%84%CE%BF%CF%81%CE%AF%CE%BD%CE%B7%CF%82":MAILTO:ismosav@otenet.gr
END:VEVENT
BEGIN:VEVENT
DTSTART;TZID=Europe/Athens:20260328T110000
DTEND;TZID=Europe/Athens:20260328T110000
DTSTAMP:20260424T180442
CREATED:20251020T114447Z
LAST-MODIFIED:20251020T114715Z
UID:10048159-1774695600-1774695600@atlantea.news
SUMMARY:Σχολή Γονέων: ΔΕΠΥ-ραζει στη Σαντορίνη - Αξιολόγηση και τεχνικές παρέμβασης
DESCRIPTION:Εισηγητής: Δρ. Φώτης Παπαναστασίου\, Ειδικός Παιδαγωγός
URL:https://atlantea.news/event/%cf%83%cf%87%ce%bf%ce%bb%ce%ae-%ce%b3%ce%bf%ce%bd%ce%ad%cf%89%ce%bd-%ce%b4%ce%b5%cf%80%cf%85-%cf%81%ce%b1%ce%b6%ce%b5%ce%b9-%cf%83%cf%84%ce%b7-%cf%83%ce%b1%ce%bd%cf%84%ce%bf%cf%81%ce%af%ce%bd%ce%b7/
LOCATION:Πνευματικό Κέντρο Ι.Ν. Παναγίας Γλυκογαλούσας\, Καρτεράδος\, Σαντορίνη\, 84700\, Greece
CATEGORIES:Ομιλία,Σεμινάριο
ORGANIZER;CN="%CE%A0%CE%B1%CE%B9%CE%B4%CE%B9%CE%BA%CF%8C%CF%82 %CE%A3%CF%84%CE%B1%CE%B8%CE%BC%CF%8C%CF%82 %CE%97 %CE%93%CE%BB%CF%85%CE%BA%CE%BF%CE%B3%CE%B1%CE%BB%CE%BF%CF%8D%CF%83%CE%B1":MAILTO:glikogalousa@yahoo.gr
END:VEVENT
END:VCALENDAR