BEGIN:VCALENDAR
VERSION:2.0
PRODID:-//Atlantea - ECPv6.15.9//NONSGML v1.0//EN
CALSCALE:GREGORIAN
METHOD:PUBLISH
X-WR-CALNAME:Atlantea
X-ORIGINAL-URL:https://atlantea.news
X-WR-CALDESC:Events for Atlantea
REFRESH-INTERVAL;VALUE=DURATION:PT1H
X-Robots-Tag:noindex
X-PUBLISHED-TTL:PT1H
BEGIN:VTIMEZONE
TZID:Europe/Athens
BEGIN:DAYLIGHT
TZOFFSETFROM:+0200
TZOFFSETTO:+0300
TZNAME:EEST
DTSTART:20240331T010000
END:DAYLIGHT
BEGIN:STANDARD
TZOFFSETFROM:+0300
TZOFFSETTO:+0200
TZNAME:EET
DTSTART:20241027T010000
END:STANDARD
BEGIN:DAYLIGHT
TZOFFSETFROM:+0200
TZOFFSETTO:+0300
TZNAME:EEST
DTSTART:20250330T010000
END:DAYLIGHT
BEGIN:STANDARD
TZOFFSETFROM:+0300
TZOFFSETTO:+0200
TZNAME:EET
DTSTART:20251026T010000
END:STANDARD
BEGIN:DAYLIGHT
TZOFFSETFROM:+0200
TZOFFSETTO:+0300
TZNAME:EEST
DTSTART:20260329T010000
END:DAYLIGHT
BEGIN:STANDARD
TZOFFSETFROM:+0300
TZOFFSETTO:+0200
TZNAME:EET
DTSTART:20261025T010000
END:STANDARD
BEGIN:DAYLIGHT
TZOFFSETFROM:+0200
TZOFFSETTO:+0300
TZNAME:EEST
DTSTART:20270328T010000
END:DAYLIGHT
BEGIN:STANDARD
TZOFFSETFROM:+0300
TZOFFSETTO:+0200
TZNAME:EET
DTSTART:20271031T010000
END:STANDARD
END:VTIMEZONE
BEGIN:VEVENT
DTSTART;TZID=Europe/Athens:20251217T173000
DTEND;TZID=Europe/Athens:20251217T173000
DTSTAMP:20260425T135024
CREATED:20251216T104104Z
LAST-MODIFIED:20251216T121909Z
UID:10048249-1765992600-1765992600@atlantea.news
SUMMARY:Το σπιτάκι του Αη Βασίλη στο Μεγαλοχώρι
DESCRIPTION:
URL:https://atlantea.news/event/%cf%84%ce%bf-%cf%83%cf%80%ce%b9%cf%84%ce%ac%ce%ba%ce%b9-%cf%84%ce%bf%cf%85-%ce%b1%ce%b7-%ce%b2%ce%b1%cf%83%ce%af%ce%bb%ce%b7-%cf%83%cf%84%ce%bf-%ce%bc%ce%b5%ce%b3%ce%b1%ce%bb%ce%bf%cf%87%cf%8e%cf%81/
LOCATION:Κεντρική Πλατεία Μεγαλοχωρίου\, Μεγαλοχώρι\, Σαντορίνη\, 84700\, Greece
CATEGORIES:Διάφορα
GEO:36.3758227;25.4317145
X-APPLE-STRUCTURED-LOCATION;VALUE=URI;X-ADDRESS=Κεντρική Πλατεία Μεγαλοχωρίου Μεγαλοχώρι Σαντορίνη 84700 Greece;X-APPLE-RADIUS=500;X-TITLE=Μεγαλοχώρι:geo:25.4317145,36.3758227
END:VEVENT
BEGIN:VEVENT
DTSTART;TZID=Europe/Athens:20251217T180000
DTEND;TZID=Europe/Athens:20251217T180000
DTSTAMP:20260425T135024
CREATED:20251210T140539Z
LAST-MODIFIED:20251210T141212Z
UID:10048242-1765994400-1765994400@atlantea.news
SUMMARY:Χριστουγεννιάτικη υμνωδία στον Καρτεράδο
DESCRIPTION:
URL:https://atlantea.news/event/%cf%87%cf%81%ce%b9%cf%83%cf%84%ce%bf%cf%85%ce%b3%ce%b5%ce%bd%ce%bd%ce%b9%ce%ac%cf%84%ce%b9%ce%ba%ce%b7-%cf%85%ce%bc%ce%bd%cf%89%ce%b4%ce%af%ce%b1-%cf%83%cf%84%ce%bf%ce%bd-%ce%ba%ce%b1%cf%81%cf%84/
LOCATION:Πνευματικό Κέντρο Ι.Ν. Παναγίας Γλυκογαλούσας\, Καρτεράδος\, Σαντορίνη\, 84700\, Greece
CATEGORIES:Συναυλία - Μουσική εκδήλωση
END:VEVENT
BEGIN:VEVENT
DTSTART;TZID=Europe/Athens:20251217T183000
DTEND;TZID=Europe/Athens:20251217T183000
DTSTAMP:20260425T135024
CREATED:20251205T232853Z
LAST-MODIFIED:20251215T105748Z
UID:10048247-1765996200-1765996200@atlantea.news
SUMMARY:Το χριστουγεννιάτικο δώρο του Καραγκιόζη
DESCRIPTION:
URL:https://atlantea.news/event/%cf%84%ce%bf-%cf%87%cf%81%ce%b9%cf%83%cf%84%ce%bf%cf%85%ce%b3%ce%b5%ce%bd%ce%bd%ce%b9%ce%ac%cf%84%ce%b9%ce%ba%ce%bf-%ce%b4%cf%8e%cf%81%ce%bf-%cf%84%ce%bf%cf%85-%ce%ba%ce%b1%cf%81%ce%b1%ce%b3%ce%ba-2/
LOCATION:Μπελλώνειο Πολιτιστικό Κέντρο\, Φηρά\, Σαντορίνη\, 84700\, Greece
CATEGORIES:Για παιδιά,Θέατρο
END:VEVENT
BEGIN:VEVENT
DTSTART;TZID=Europe/Athens:20251217T190000
DTEND;TZID=Europe/Athens:20251217T190000
DTSTAMP:20260425T135024
CREATED:20251214T210022Z
LAST-MODIFIED:20251215T105847Z
UID:10048248-1765998000-1765998000@atlantea.news
SUMMARY:ΑΟ Θήρας - Ολυμπιακός
DESCRIPTION:
URL:https://atlantea.news/event/%ce%b1%ce%bf-%ce%b8%ce%ae%cf%81%ce%b1%cf%82-%ce%bf%ce%bb%cf%85%ce%bc%cf%80%ce%b9%ce%b1%ce%ba%cf%8c%cf%82-10/
LOCATION:Κλειστό Γυμναστήριο Σαντορίνης\, Καρτεράδος\, Σαντορινη\, 84700\, Greece
CATEGORIES:Αγώνας
END:VEVENT
BEGIN:VEVENT
DTSTART;TZID=Europe/Athens:20251218T170000
DTEND;TZID=Europe/Athens:20251218T210000
DTSTAMP:20260425T135024
CREATED:20251205T231207Z
LAST-MODIFIED:20251205T231207Z
UID:10048215-1766077200-1766091600@atlantea.news
SUMMARY:Χριστουγεννιάτικο Χωριό
DESCRIPTION:
URL:https://atlantea.news/event/%cf%87%cf%81%ce%b9%cf%83%cf%84%ce%bf%cf%85%ce%b3%ce%b5%ce%bd%ce%bd%ce%b9%ce%ac%cf%84%ce%b9%ce%ba%ce%bf-%cf%87%cf%89%cf%81%ce%b9%cf%8c-11/2025-12-18/
LOCATION:Κεντρική Πλατεία Φηρών\, Φηρά\, Σαντορίνη\, 84700\, Greece
CATEGORIES:Διάφορα
END:VEVENT
BEGIN:VEVENT
DTSTART;TZID=Europe/Athens:20251219T170000
DTEND;TZID=Europe/Athens:20251219T210000
DTSTAMP:20260425T135024
CREATED:20251205T231207Z
LAST-MODIFIED:20251205T231207Z
UID:10048216-1766163600-1766178000@atlantea.news
SUMMARY:Χριστουγεννιάτικο Χωριό
DESCRIPTION:
URL:https://atlantea.news/event/%cf%87%cf%81%ce%b9%cf%83%cf%84%ce%bf%cf%85%ce%b3%ce%b5%ce%bd%ce%bd%ce%b9%ce%ac%cf%84%ce%b9%ce%ba%ce%bf-%cf%87%cf%89%cf%81%ce%b9%cf%8c-11/2025-12-19/
LOCATION:Κεντρική Πλατεία Φηρών\, Φηρά\, Σαντορίνη\, 84700\, Greece
CATEGORIES:Διάφορα
END:VEVENT
BEGIN:VEVENT
DTSTART;TZID=Europe/Athens:20251220T140000
DTEND;TZID=Europe/Athens:20251220T210000
DTSTAMP:20260425T135024
CREATED:20251205T230834Z
LAST-MODIFIED:20251205T230834Z
UID:10048199-1766239200-1766264400@atlantea.news
SUMMARY:Χριστουγεννιάτικο Χωριό
DESCRIPTION:
URL:https://atlantea.news/event/%cf%87%cf%81%ce%b9%cf%83%cf%84%ce%bf%cf%85%ce%b3%ce%b5%ce%bd%ce%bd%ce%b9%ce%ac%cf%84%ce%b9%ce%ba%ce%bf-%cf%87%cf%89%cf%81%ce%b9%cf%8c-10/2025-12-20/
LOCATION:Κεντρική Πλατεία Φηρών\, Φηρά\, Σαντορίνη\, 84700\, Greece
CATEGORIES:Διάφορα
END:VEVENT
BEGIN:VEVENT
DTSTART;TZID=Europe/Athens:20251220T183000
DTEND;TZID=Europe/Athens:20251220T183000
DTSTAMP:20260425T135024
CREATED:20251205T233134Z
LAST-MODIFIED:20251205T233145Z
UID:10048233-1766255400-1766255400@atlantea.news
SUMMARY:Transcription Ensemble
DESCRIPTION:Εκδήλωση με κλασική μουσική
URL:https://atlantea.news/event/transcription-ensemble/
LOCATION:Μπελλώνειο Πολιτιστικό Κέντρο\, Φηρά\, Σαντορίνη\, 84700\, Greece
CATEGORIES:Συναυλία - Μουσική εκδήλωση
END:VEVENT
BEGIN:VEVENT
DTSTART;TZID=Europe/Athens:20251221T140000
DTEND;TZID=Europe/Athens:20251221T210000
DTSTAMP:20260425T135024
CREATED:20251205T230834Z
LAST-MODIFIED:20251205T230834Z
UID:10048200-1766325600-1766350800@atlantea.news
SUMMARY:Χριστουγεννιάτικο Χωριό
DESCRIPTION:
URL:https://atlantea.news/event/%cf%87%cf%81%ce%b9%cf%83%cf%84%ce%bf%cf%85%ce%b3%ce%b5%ce%bd%ce%bd%ce%b9%ce%ac%cf%84%ce%b9%ce%ba%ce%bf-%cf%87%cf%89%cf%81%ce%b9%cf%8c-10/2025-12-21/
LOCATION:Κεντρική Πλατεία Φηρών\, Φηρά\, Σαντορίνη\, 84700\, Greece
CATEGORIES:Διάφορα
END:VEVENT
BEGIN:VEVENT
DTSTART;TZID=Europe/Athens:20251222T170000
DTEND;TZID=Europe/Athens:20251222T210000
DTSTAMP:20260425T135024
CREATED:20251205T231207Z
LAST-MODIFIED:20251205T231207Z
UID:10048217-1766422800-1766437200@atlantea.news
SUMMARY:Χριστουγεννιάτικο Χωριό
DESCRIPTION:
URL:https://atlantea.news/event/%cf%87%cf%81%ce%b9%cf%83%cf%84%ce%bf%cf%85%ce%b3%ce%b5%ce%bd%ce%bd%ce%b9%ce%ac%cf%84%ce%b9%ce%ba%ce%bf-%cf%87%cf%89%cf%81%ce%b9%cf%8c-11/2025-12-22/
LOCATION:Κεντρική Πλατεία Φηρών\, Φηρά\, Σαντορίνη\, 84700\, Greece
CATEGORIES:Διάφορα
END:VEVENT
BEGIN:VEVENT
DTSTART;TZID=Europe/Athens:20251223T170000
DTEND;TZID=Europe/Athens:20251223T210000
DTSTAMP:20260425T135024
CREATED:20251205T231207Z
LAST-MODIFIED:20251205T231207Z
UID:10048218-1766509200-1766523600@atlantea.news
SUMMARY:Χριστουγεννιάτικο Χωριό
DESCRIPTION:
URL:https://atlantea.news/event/%cf%87%cf%81%ce%b9%cf%83%cf%84%ce%bf%cf%85%ce%b3%ce%b5%ce%bd%ce%bd%ce%b9%ce%ac%cf%84%ce%b9%ce%ba%ce%bf-%cf%87%cf%89%cf%81%ce%b9%cf%8c-11/2025-12-23/
LOCATION:Κεντρική Πλατεία Φηρών\, Φηρά\, Σαντορίνη\, 84700\, Greece
CATEGORIES:Διάφορα
END:VEVENT
BEGIN:VEVENT
DTSTART;TZID=Europe/Athens:20251223T183000
DTEND;TZID=Europe/Athens:20251223T183000
DTSTAMP:20260425T135024
CREATED:20251205T233453Z
LAST-MODIFIED:20251205T233616Z
UID:10048234-1766514600-1766514600@atlantea.news
SUMMARY:Μουσική εκδήλωση με Αλκιβιάδη Κωνσταντόπουλο και Ευσταθία
DESCRIPTION:
URL:https://atlantea.news/event/%ce%bc%ce%bf%cf%85%cf%83%ce%b9%ce%ba%ce%ae-%ce%b5%ce%ba%ce%b4%ce%ae%ce%bb%cf%89%cf%83%ce%b7-%ce%bc%ce%b5-%ce%b1%ce%bb%ce%ba%ce%b9%ce%b2%ce%b9%ce%ac%ce%b4%ce%b7-%ce%ba%cf%89%ce%bd%cf%83%cf%84%ce%b1/
LOCATION:Μπελλώνειο Πολιτιστικό Κέντρο\, Φηρά\, Σαντορίνη\, 84700\, Greece
END:VEVENT
BEGIN:VEVENT
DTSTART;TZID=Europe/Athens:20251224T170000
DTEND;TZID=Europe/Athens:20251224T210000
DTSTAMP:20260425T135024
CREATED:20251205T231207Z
LAST-MODIFIED:20251205T231207Z
UID:10048219-1766595600-1766610000@atlantea.news
SUMMARY:Χριστουγεννιάτικο Χωριό
DESCRIPTION:
URL:https://atlantea.news/event/%cf%87%cf%81%ce%b9%cf%83%cf%84%ce%bf%cf%85%ce%b3%ce%b5%ce%bd%ce%bd%ce%b9%ce%ac%cf%84%ce%b9%ce%ba%ce%bf-%cf%87%cf%89%cf%81%ce%b9%cf%8c-11/2025-12-24/
LOCATION:Κεντρική Πλατεία Φηρών\, Φηρά\, Σαντορίνη\, 84700\, Greece
CATEGORIES:Διάφορα
END:VEVENT
BEGIN:VEVENT
DTSTART;TZID=Europe/Athens:20251225T140000
DTEND;TZID=Europe/Athens:20251225T210000
DTSTAMP:20260425T135024
CREATED:20251205T230834Z
LAST-MODIFIED:20251205T230834Z
UID:10048201-1766671200-1766696400@atlantea.news
SUMMARY:Χριστουγεννιάτικο Χωριό
DESCRIPTION:
URL:https://atlantea.news/event/%cf%87%cf%81%ce%b9%cf%83%cf%84%ce%bf%cf%85%ce%b3%ce%b5%ce%bd%ce%bd%ce%b9%ce%ac%cf%84%ce%b9%ce%ba%ce%bf-%cf%87%cf%89%cf%81%ce%b9%cf%8c-10/2025-12-25/
LOCATION:Κεντρική Πλατεία Φηρών\, Φηρά\, Σαντορίνη\, 84700\, Greece
CATEGORIES:Διάφορα
END:VEVENT
BEGIN:VEVENT
DTSTART;TZID=Europe/Athens:20251226T170000
DTEND;TZID=Europe/Athens:20251226T210000
DTSTAMP:20260425T135024
CREATED:20251205T231207Z
LAST-MODIFIED:20251205T231207Z
UID:10048220-1766768400-1766782800@atlantea.news
SUMMARY:Χριστουγεννιάτικο Χωριό
DESCRIPTION:
URL:https://atlantea.news/event/%cf%87%cf%81%ce%b9%cf%83%cf%84%ce%bf%cf%85%ce%b3%ce%b5%ce%bd%ce%bd%ce%b9%ce%ac%cf%84%ce%b9%ce%ba%ce%bf-%cf%87%cf%89%cf%81%ce%b9%cf%8c-11/2025-12-26/
LOCATION:Κεντρική Πλατεία Φηρών\, Φηρά\, Σαντορίνη\, 84700\, Greece
CATEGORIES:Διάφορα
END:VEVENT
BEGIN:VEVENT
DTSTART;TZID=Europe/Athens:20251227T140000
DTEND;TZID=Europe/Athens:20251227T210000
DTSTAMP:20260425T135024
CREATED:20251205T230834Z
LAST-MODIFIED:20251205T230834Z
UID:10048202-1766844000-1766869200@atlantea.news
SUMMARY:Χριστουγεννιάτικο Χωριό
DESCRIPTION:
URL:https://atlantea.news/event/%cf%87%cf%81%ce%b9%cf%83%cf%84%ce%bf%cf%85%ce%b3%ce%b5%ce%bd%ce%bd%ce%b9%ce%ac%cf%84%ce%b9%ce%ba%ce%bf-%cf%87%cf%89%cf%81%ce%b9%cf%8c-10/2025-12-27/
LOCATION:Κεντρική Πλατεία Φηρών\, Φηρά\, Σαντορίνη\, 84700\, Greece
CATEGORIES:Διάφορα
END:VEVENT
BEGIN:VEVENT
DTSTART;TZID=Europe/Athens:20251227T183000
DTEND;TZID=Europe/Athens:20251227T183000
DTSTAMP:20260425T135024
CREATED:20251209T112720Z
LAST-MODIFIED:20251209T112732Z
UID:10048237-1766860200-1766860200@atlantea.news
SUMMARY:Μουσική εκδήλωση με το Τρίο Λα
DESCRIPTION:Με ρεμπέτικη μουσική
URL:https://atlantea.news/event/%ce%bc%ce%bf%cf%85%cf%83%ce%b9%ce%ba%ce%ae-%ce%b5%ce%ba%ce%b4%ce%ae%ce%bb%cf%89%cf%83%ce%b7-%ce%bc%ce%b5-%cf%84%ce%bf-%cf%84%cf%81%ce%af%ce%bf-%ce%bb%ce%b1/
LOCATION:Μπελλώνειο Πολιτιστικό Κέντρο\, Φηρά\, Σαντορίνη\, 84700\, Greece
CATEGORIES:Συναυλία - Μουσική εκδήλωση
END:VEVENT
BEGIN:VEVENT
DTSTART;TZID=Europe/Athens:20251228T140000
DTEND;TZID=Europe/Athens:20251228T210000
DTSTAMP:20260425T135024
CREATED:20251205T230834Z
LAST-MODIFIED:20251205T230834Z
UID:10048203-1766930400-1766955600@atlantea.news
SUMMARY:Χριστουγεννιάτικο Χωριό
DESCRIPTION:
URL:https://atlantea.news/event/%cf%87%cf%81%ce%b9%cf%83%cf%84%ce%bf%cf%85%ce%b3%ce%b5%ce%bd%ce%bd%ce%b9%ce%ac%cf%84%ce%b9%ce%ba%ce%bf-%cf%87%cf%89%cf%81%ce%b9%cf%8c-10/2025-12-28/
LOCATION:Κεντρική Πλατεία Φηρών\, Φηρά\, Σαντορίνη\, 84700\, Greece
CATEGORIES:Διάφορα
END:VEVENT
BEGIN:VEVENT
DTSTART;TZID=Europe/Athens:20251228T173000
DTEND;TZID=Europe/Athens:20251228T173000
DTSTAMP:20260425T135024
CREATED:20251228T090031Z
LAST-MODIFIED:20251228T090106Z
UID:10048250-1766943000-1766943000@atlantea.news
SUMMARY:Προβολή χριστουγεννιάτικης ταινίας στο Ακρωτήρι
DESCRIPTION:
URL:https://atlantea.news/event/%cf%80%cf%81%ce%bf%ce%b2%ce%bf%ce%bb%ce%ae-%cf%87%cf%81%ce%b9%cf%83%cf%84%ce%bf%cf%85%ce%b3%ce%b5%ce%bd%ce%bd%ce%b9%ce%ac%cf%84%ce%b9%ce%ba%ce%b7%cf%82-%cf%84%ce%b1%ce%b9%ce%bd%ce%af%ce%b1%cf%82/
LOCATION:Παιδική χαρά Ακρωτηρίου\, Ακρωτήρι\, Σαντορίνη\, 84700\, Greece
CATEGORIES:Σινεμά
END:VEVENT
BEGIN:VEVENT
DTSTART;TZID=Europe/Athens:20251229T170000
DTEND;TZID=Europe/Athens:20251229T210000
DTSTAMP:20260425T135024
CREATED:20251205T231207Z
LAST-MODIFIED:20251205T231207Z
UID:10048221-1767027600-1767042000@atlantea.news
SUMMARY:Χριστουγεννιάτικο Χωριό
DESCRIPTION:
URL:https://atlantea.news/event/%cf%87%cf%81%ce%b9%cf%83%cf%84%ce%bf%cf%85%ce%b3%ce%b5%ce%bd%ce%bd%ce%b9%ce%ac%cf%84%ce%b9%ce%ba%ce%bf-%cf%87%cf%89%cf%81%ce%b9%cf%8c-11/2025-12-29/
LOCATION:Κεντρική Πλατεία Φηρών\, Φηρά\, Σαντορίνη\, 84700\, Greece
CATEGORIES:Διάφορα
END:VEVENT
BEGIN:VEVENT
DTSTART;TZID=Europe/Athens:20251230T170000
DTEND;TZID=Europe/Athens:20251230T210000
DTSTAMP:20260425T135024
CREATED:20251205T231207Z
LAST-MODIFIED:20251205T231207Z
UID:10048222-1767114000-1767128400@atlantea.news
SUMMARY:Χριστουγεννιάτικο Χωριό
DESCRIPTION:
URL:https://atlantea.news/event/%cf%87%cf%81%ce%b9%cf%83%cf%84%ce%bf%cf%85%ce%b3%ce%b5%ce%bd%ce%bd%ce%b9%ce%ac%cf%84%ce%b9%ce%ba%ce%bf-%cf%87%cf%89%cf%81%ce%b9%cf%8c-11/2025-12-30/
LOCATION:Κεντρική Πλατεία Φηρών\, Φηρά\, Σαντορίνη\, 84700\, Greece
CATEGORIES:Διάφορα
END:VEVENT
BEGIN:VEVENT
DTSTART;TZID=Europe/Athens:20251230T183000
DTEND;TZID=Europe/Athens:20251230T183000
DTSTAMP:20260425T135024
CREATED:20251209T112938Z
LAST-MODIFIED:20251209T113039Z
UID:10048238-1767119400-1767119400@atlantea.news
SUMMARY:Μουσική εκδήλωση με τους 3 ΟΝ
DESCRIPTION:Με μουσική από τον κινηματογράφο
URL:https://atlantea.news/event/%ce%bc%ce%bf%cf%85%cf%83%ce%b9%ce%ba%ce%ae-%ce%b5%ce%ba%ce%b4%ce%ae%ce%bb%cf%89%cf%83%ce%b7-%ce%bc%ce%b5-%cf%84%ce%bf%cf%85%cf%82-3-%ce%bf%ce%bd/
LOCATION:Μπελλώνειο Πολιτιστικό Κέντρο\, Φηρά\, Σαντορίνη\, 84700\, Greece
CATEGORIES:Συναυλία - Μουσική εκδήλωση
END:VEVENT
BEGIN:VEVENT
DTSTART;TZID=Europe/Athens:20251231T170000
DTEND;TZID=Europe/Athens:20251231T210000
DTSTAMP:20260425T135024
CREATED:20251205T231207Z
LAST-MODIFIED:20251205T231207Z
UID:10048223-1767200400-1767214800@atlantea.news
SUMMARY:Χριστουγεννιάτικο Χωριό
DESCRIPTION:
URL:https://atlantea.news/event/%cf%87%cf%81%ce%b9%cf%83%cf%84%ce%bf%cf%85%ce%b3%ce%b5%ce%bd%ce%bd%ce%b9%ce%ac%cf%84%ce%b9%ce%ba%ce%bf-%cf%87%cf%89%cf%81%ce%b9%cf%8c-11/2025-12-31/
LOCATION:Κεντρική Πλατεία Φηρών\, Φηρά\, Σαντορίνη\, 84700\, Greece
CATEGORIES:Διάφορα
END:VEVENT
BEGIN:VEVENT
DTSTART;TZID=Europe/Athens:20260101T140000
DTEND;TZID=Europe/Athens:20260101T210000
DTSTAMP:20260425T135024
CREATED:20251205T230834Z
LAST-MODIFIED:20251205T230834Z
UID:10048204-1767276000-1767301200@atlantea.news
SUMMARY:Χριστουγεννιάτικο Χωριό
DESCRIPTION:
URL:https://atlantea.news/event/%cf%87%cf%81%ce%b9%cf%83%cf%84%ce%bf%cf%85%ce%b3%ce%b5%ce%bd%ce%bd%ce%b9%ce%ac%cf%84%ce%b9%ce%ba%ce%bf-%cf%87%cf%89%cf%81%ce%b9%cf%8c-10/2026-01-01/
LOCATION:Κεντρική Πλατεία Φηρών\, Φηρά\, Σαντορίνη\, 84700\, Greece
CATEGORIES:Διάφορα
END:VEVENT
BEGIN:VEVENT
DTSTART;TZID=Europe/Athens:20260102T170000
DTEND;TZID=Europe/Athens:20260102T210000
DTSTAMP:20260425T135024
CREATED:20251205T231207Z
LAST-MODIFIED:20251205T231207Z
UID:10048224-1767373200-1767387600@atlantea.news
SUMMARY:Χριστουγεννιάτικο Χωριό
DESCRIPTION:
URL:https://atlantea.news/event/%cf%87%cf%81%ce%b9%cf%83%cf%84%ce%bf%cf%85%ce%b3%ce%b5%ce%bd%ce%bd%ce%b9%ce%ac%cf%84%ce%b9%ce%ba%ce%bf-%cf%87%cf%89%cf%81%ce%b9%cf%8c-11/2026-01-02/
LOCATION:Κεντρική Πλατεία Φηρών\, Φηρά\, Σαντορίνη\, 84700\, Greece
CATEGORIES:Διάφορα
END:VEVENT
BEGIN:VEVENT
DTSTART;TZID=Europe/Athens:20260103T140000
DTEND;TZID=Europe/Athens:20260103T210000
DTSTAMP:20260425T135024
CREATED:20251205T230834Z
LAST-MODIFIED:20251205T230834Z
UID:10048205-1767448800-1767474000@atlantea.news
SUMMARY:Χριστουγεννιάτικο Χωριό
DESCRIPTION:
URL:https://atlantea.news/event/%cf%87%cf%81%ce%b9%cf%83%cf%84%ce%bf%cf%85%ce%b3%ce%b5%ce%bd%ce%bd%ce%b9%ce%ac%cf%84%ce%b9%ce%ba%ce%bf-%cf%87%cf%89%cf%81%ce%b9%cf%8c-10/2026-01-03/
LOCATION:Κεντρική Πλατεία Φηρών\, Φηρά\, Σαντορίνη\, 84700\, Greece
CATEGORIES:Διάφορα
END:VEVENT
BEGIN:VEVENT
DTSTART;TZID=Europe/Athens:20260104T140000
DTEND;TZID=Europe/Athens:20260104T210000
DTSTAMP:20260425T135024
CREATED:20251205T230834Z
LAST-MODIFIED:20251205T230834Z
UID:10048206-1767535200-1767560400@atlantea.news
SUMMARY:Χριστουγεννιάτικο Χωριό
DESCRIPTION:
URL:https://atlantea.news/event/%cf%87%cf%81%ce%b9%cf%83%cf%84%ce%bf%cf%85%ce%b3%ce%b5%ce%bd%ce%bd%ce%b9%ce%ac%cf%84%ce%b9%ce%ba%ce%bf-%cf%87%cf%89%cf%81%ce%b9%cf%8c-10/2026-01-04/
LOCATION:Κεντρική Πλατεία Φηρών\, Φηρά\, Σαντορίνη\, 84700\, Greece
CATEGORIES:Διάφορα
END:VEVENT
BEGIN:VEVENT
DTSTART;TZID=Europe/Athens:20260104T183000
DTEND;TZID=Europe/Athens:20260104T183000
DTSTAMP:20260425T135024
CREATED:20251209T113242Z
LAST-MODIFIED:20251209T113324Z
UID:10048239-1767551400-1767551400@atlantea.news
SUMMARY:Μουσική εκδήλωση με τον Θοδωρή Κουέλη και τον Νίκο Γκιόλια
DESCRIPTION:Με παραδοσιακή και έντεχνη μουσική
URL:https://atlantea.news/event/%ce%bc%ce%bf%cf%85%cf%83%ce%b9%ce%ba%ce%ae-%ce%b5%ce%ba%ce%b4%ce%ae%ce%bb%cf%89%cf%83%ce%b7-%ce%bc%ce%b5-%cf%84%ce%bf%ce%bd-%ce%b8%ce%bf%ce%b4%cf%89%cf%81%ce%ae-%ce%ba%ce%bf%cf%85%ce%ad%ce%bb%ce%b7/
LOCATION:Μπελλώνειο Πολιτιστικό Κέντρο\, Φηρά\, Σαντορίνη\, 84700\, Greece
CATEGORIES:Συναυλία - Μουσική εκδήλωση
END:VEVENT
BEGIN:VEVENT
DTSTART;TZID=Europe/Athens:20260105T170000
DTEND;TZID=Europe/Athens:20260105T210000
DTSTAMP:20260425T135024
CREATED:20251205T231207Z
LAST-MODIFIED:20251205T231207Z
UID:10048225-1767632400-1767646800@atlantea.news
SUMMARY:Χριστουγεννιάτικο Χωριό
DESCRIPTION:
URL:https://atlantea.news/event/%cf%87%cf%81%ce%b9%cf%83%cf%84%ce%bf%cf%85%ce%b3%ce%b5%ce%bd%ce%bd%ce%b9%ce%ac%cf%84%ce%b9%ce%ba%ce%bf-%cf%87%cf%89%cf%81%ce%b9%cf%8c-11/2026-01-05/
LOCATION:Κεντρική Πλατεία Φηρών\, Φηρά\, Σαντορίνη\, 84700\, Greece
CATEGORIES:Διάφορα
END:VEVENT
BEGIN:VEVENT
DTSTART;TZID=Europe/Athens:20260106T170000
DTEND;TZID=Europe/Athens:20260106T210000
DTSTAMP:20260425T135024
CREATED:20251205T231207Z
LAST-MODIFIED:20251205T231207Z
UID:10048226-1767718800-1767733200@atlantea.news
SUMMARY:Χριστουγεννιάτικο Χωριό
DESCRIPTION:
URL:https://atlantea.news/event/%cf%87%cf%81%ce%b9%cf%83%cf%84%ce%bf%cf%85%ce%b3%ce%b5%ce%bd%ce%bd%ce%b9%ce%ac%cf%84%ce%b9%ce%ba%ce%bf-%cf%87%cf%89%cf%81%ce%b9%cf%8c-11/2026-01-06/
LOCATION:Κεντρική Πλατεία Φηρών\, Φηρά\, Σαντορίνη\, 84700\, Greece
CATEGORIES:Διάφορα
END:VEVENT
END:VCALENDAR