BEGIN:VCALENDAR
VERSION:2.0
PRODID:-//Atlantea - ECPv6.15.9//NONSGML v1.0//EN
CALSCALE:GREGORIAN
METHOD:PUBLISH
X-WR-CALNAME:Atlantea
X-ORIGINAL-URL:https://atlantea.news
X-WR-CALDESC:Events for Atlantea
REFRESH-INTERVAL;VALUE=DURATION:PT1H
X-Robots-Tag:noindex
X-PUBLISHED-TTL:PT1H
BEGIN:VTIMEZONE
TZID:Europe/Moscow
BEGIN:STANDARD
TZOFFSETFROM:+0300
TZOFFSETTO:+0300
TZNAME:MSK
DTSTART:20240101T000000
END:STANDARD
END:VTIMEZONE
BEGIN:VTIMEZONE
TZID:Europe/Athens
BEGIN:DAYLIGHT
TZOFFSETFROM:+0200
TZOFFSETTO:+0300
TZNAME:EEST
DTSTART:20240331T010000
END:DAYLIGHT
BEGIN:STANDARD
TZOFFSETFROM:+0300
TZOFFSETTO:+0200
TZNAME:EET
DTSTART:20241027T010000
END:STANDARD
BEGIN:DAYLIGHT
TZOFFSETFROM:+0200
TZOFFSETTO:+0300
TZNAME:EEST
DTSTART:20250330T010000
END:DAYLIGHT
BEGIN:STANDARD
TZOFFSETFROM:+0300
TZOFFSETTO:+0200
TZNAME:EET
DTSTART:20251026T010000
END:STANDARD
BEGIN:DAYLIGHT
TZOFFSETFROM:+0200
TZOFFSETTO:+0300
TZNAME:EEST
DTSTART:20260329T010000
END:DAYLIGHT
BEGIN:STANDARD
TZOFFSETFROM:+0300
TZOFFSETTO:+0200
TZNAME:EET
DTSTART:20261025T010000
END:STANDARD
END:VTIMEZONE
BEGIN:VEVENT
DTSTART;TZID=Europe/Moscow:20250919T100000
DTEND;TZID=Europe/Moscow:20250919T180000
DTSTAMP:20260425T163213
CREATED:20250703T131153Z
LAST-MODIFIED:20250703T131153Z
UID:10047083-1758276000-1758304800@atlantea.news
SUMMARY:Έκθεση ζωγραφικής "Θηραϊκές Τελετουργίες"
DESCRIPTION:Της Άρτεμης Χατζηγιαννάκη
URL:https://atlantea.news/event/%ce%ad%ce%ba%ce%b8%ce%b5%cf%83%ce%b7-%ce%b6%cf%89%ce%b3%cf%81%ce%b1%cf%86%ce%b9%ce%ba%ce%ae%cf%82-%ce%b8%ce%b7%cf%81%ce%b1%cf%8a%ce%ba%ce%ad%cf%82-%cf%84%ce%b5%ce%bb%ce%b5%cf%84%ce%bf%cf%85%cf%81/2025-09-19/
LOCATION:Βιομηχανικό Μουσείο Τομάτας «Δ. Νομικός»\, Βλυχάδα\, Σαντορίνη\, 84700\, Greece
CATEGORIES:Έκθεση
GEO:36.3364529;25.4366155
X-APPLE-STRUCTURED-LOCATION;VALUE=URI;X-ADDRESS=Βιομηχανικό Μουσείο Τομάτας «Δ. Νομικός» Βλυχάδα Σαντορίνη 84700 Greece;X-APPLE-RADIUS=500;X-TITLE=Βλυχάδα:geo:25.4366155,36.3364529
END:VEVENT
BEGIN:VEVENT
DTSTART;TZID=Europe/Athens:20250919T100000
DTEND;TZID=Europe/Athens:20250919T190000
DTSTAMP:20260425T163213
CREATED:20250829T122301Z
LAST-MODIFIED:20250829T122642Z
UID:10047337-1758276000-1758308400@atlantea.news
SUMMARY:Έκθεση φωτογραφίας "Τοπία\, Άνθρωποι\, Αφηγήσεις μοναχικότητας"
DESCRIPTION:
URL:https://atlantea.news/event/%ce%ad%ce%ba%ce%b8%ce%b5%cf%83%ce%b7-%cf%86%cf%89%cf%84%ce%bf%ce%b3%cf%81%ce%b1%cf%86%ce%af%ce%b1%cf%82-%cf%84%ce%bf%cf%80%ce%af%ce%b1-%ce%ac%ce%bd%ce%b8%cf%81%cf%89%cf%80%ce%bf%ce%b9-%ce%b1%cf%86/2025-09-19/
LOCATION:“Συμπόσιον” Κέντρο Πολιτισμού\, Μεγαλοχώρι\, Σαντορίνη\, 84700\, Greece
CATEGORIES:Έκθεση
END:VEVENT
BEGIN:VEVENT
DTSTART;TZID=Europe/Athens:20250919T100000
DTEND;TZID=Europe/Athens:20250919T200000
DTSTAMP:20260425T163213
CREATED:20250805T082637Z
LAST-MODIFIED:20251027T145229Z
UID:10047262-1758276000-1758312000@atlantea.news
SUMMARY:Έκθεση φωτογραφίας "Nelly’s. Η Σαντορίνη του μεσοπολέμου"
DESCRIPTION:
URL:https://atlantea.news/event/%ce%ad%ce%ba%ce%b8%ce%b5%cf%83%ce%b7%cf%82-%cf%86%cf%89%cf%84%ce%bf%ce%b3%cf%81%ce%b1%cf%86%ce%af%ce%b1-nellys-%ce%b7-%cf%83%ce%b1%ce%bd%cf%84%ce%bf%cf%81%ce%af%ce%bd%ce%b7-%cf%84%ce%bf/2025-09-19/
LOCATION:Κέντρο Φωτογραφίας Kastelana\, Καστέλι\, Πύργος\, Σαντορίνη\, 84701\, Greece
CATEGORIES:Έκθεση
END:VEVENT
BEGIN:VEVENT
DTSTART;TZID=Europe/Moscow:20250919T120000
DTEND;TZID=Europe/Moscow:20250919T200000
DTSTAMP:20260425T163213
CREATED:20250422T095809Z
LAST-MODIFIED:20250506T163047Z
UID:10046826-1758283200-1758312000@atlantea.news
SUMMARY:Έκθεση φωτογραφίας του Robert McCabe
DESCRIPTION:“Lively Matter: Μία φωτογραφική τεκμηρίωση της Σαντορίνης μεταξύ 1954 και 1964”
URL:https://atlantea.news/event/%ce%ad%ce%ba%ce%b8%ce%b5%cf%83%ce%b7-%cf%86%cf%89%cf%84%ce%bf%ce%b3%cf%81%ce%b1%cf%86%ce%af%ce%b1%cf%82-%cf%84%ce%bf%cf%85-robert-mccabe/2025-09-19/
LOCATION:Vassaltis Vineyards\, Βουρβούλος\, Σαντορίνη\, 84700\, Greece
CATEGORIES:Έκθεση
ORGANIZER;CN="Vassaltis Vineyards":MAILTO:info@vassaltis.com
END:VEVENT
BEGIN:VEVENT
DTSTART;TZID=Europe/Athens:20250919T190000
DTEND;TZID=Europe/Athens:20250919T190000
DTSTAMP:20260425T163213
CREATED:20250813T110539Z
LAST-MODIFIED:20250915T174438Z
UID:10047303-1758308400-1758308400@atlantea.news
SUMMARY:Η Σαντορίνη της Άρτεμης Χατζηγιαννάκη
DESCRIPTION:Στο πλαίσιο της έκθεσης “Θηραϊκές Τελετουργίες” \nΟμιλητές: ο δημοσιογράφος και συγγραφέας Νίκος Βατόπουλος\, ο ψυχίατρος ψυχοθεραπευτής Δημήτρης Γεωργιάδης και οι επιμελητές της έκθεσης Λευτέρης Ζώρζος\, αρχαιολόγος και Νίνα Γεωργιάδου\, αρχιτέκτονας. \nΔείτε αναλυτικά εδώ.
URL:https://atlantea.news/event/%cf%84%ce%b1-%cf%80%ce%bf%ce%bb%ce%bb%ce%ac-%cf%80%cf%81%cf%8c%cf%83%cf%89%cf%80%ce%b1-%cf%84%ce%b7%cf%82-%cf%83%ce%b1%ce%bd%cf%84%ce%bf%cf%81%ce%af%ce%bd%ce%b7%cf%82-%cf%83%cf%84%ce%bf%ce%bd-%cf%87/
LOCATION:Βιομηχανικό Μουσείο Τομάτας «Δ. Νομικός»\, Βλυχάδα\, Σαντορίνη\, 84700\, Greece
CATEGORIES:Ομιλία
GEO:36.3364529;25.4366155
X-APPLE-STRUCTURED-LOCATION;VALUE=URI;X-ADDRESS=Βιομηχανικό Μουσείο Τομάτας «Δ. Νομικός» Βλυχάδα Σαντορίνη 84700 Greece;X-APPLE-RADIUS=500;X-TITLE=Βλυχάδα:geo:25.4366155,36.3364529
END:VEVENT
BEGIN:VEVENT
DTSTART;TZID=Europe/Moscow:20250920T100000
DTEND;TZID=Europe/Moscow:20250920T180000
DTSTAMP:20260425T163213
CREATED:20250703T131153Z
LAST-MODIFIED:20250703T131153Z
UID:10047084-1758362400-1758391200@atlantea.news
SUMMARY:Έκθεση ζωγραφικής "Θηραϊκές Τελετουργίες"
DESCRIPTION:Της Άρτεμης Χατζηγιαννάκη
URL:https://atlantea.news/event/%ce%ad%ce%ba%ce%b8%ce%b5%cf%83%ce%b7-%ce%b6%cf%89%ce%b3%cf%81%ce%b1%cf%86%ce%b9%ce%ba%ce%ae%cf%82-%ce%b8%ce%b7%cf%81%ce%b1%cf%8a%ce%ba%ce%ad%cf%82-%cf%84%ce%b5%ce%bb%ce%b5%cf%84%ce%bf%cf%85%cf%81/2025-09-20/
LOCATION:Βιομηχανικό Μουσείο Τομάτας «Δ. Νομικός»\, Βλυχάδα\, Σαντορίνη\, 84700\, Greece
CATEGORIES:Έκθεση
GEO:36.3364529;25.4366155
X-APPLE-STRUCTURED-LOCATION;VALUE=URI;X-ADDRESS=Βιομηχανικό Μουσείο Τομάτας «Δ. Νομικός» Βλυχάδα Σαντορίνη 84700 Greece;X-APPLE-RADIUS=500;X-TITLE=Βλυχάδα:geo:25.4366155,36.3364529
END:VEVENT
BEGIN:VEVENT
DTSTART;TZID=Europe/Athens:20250920T100000
DTEND;TZID=Europe/Athens:20250920T190000
DTSTAMP:20260425T163213
CREATED:20250829T122301Z
LAST-MODIFIED:20250829T122642Z
UID:10047338-1758362400-1758394800@atlantea.news
SUMMARY:Έκθεση φωτογραφίας "Τοπία\, Άνθρωποι\, Αφηγήσεις μοναχικότητας"
DESCRIPTION:
URL:https://atlantea.news/event/%ce%ad%ce%ba%ce%b8%ce%b5%cf%83%ce%b7-%cf%86%cf%89%cf%84%ce%bf%ce%b3%cf%81%ce%b1%cf%86%ce%af%ce%b1%cf%82-%cf%84%ce%bf%cf%80%ce%af%ce%b1-%ce%ac%ce%bd%ce%b8%cf%81%cf%89%cf%80%ce%bf%ce%b9-%ce%b1%cf%86/2025-09-20/
LOCATION:“Συμπόσιον” Κέντρο Πολιτισμού\, Μεγαλοχώρι\, Σαντορίνη\, 84700\, Greece
CATEGORIES:Έκθεση
END:VEVENT
BEGIN:VEVENT
DTSTART;TZID=Europe/Athens:20250920T100000
DTEND;TZID=Europe/Athens:20250920T200000
DTSTAMP:20260425T163213
CREATED:20250805T082637Z
LAST-MODIFIED:20251027T145229Z
UID:10047263-1758362400-1758398400@atlantea.news
SUMMARY:Έκθεση φωτογραφίας "Nelly’s. Η Σαντορίνη του μεσοπολέμου"
DESCRIPTION:
URL:https://atlantea.news/event/%ce%ad%ce%ba%ce%b8%ce%b5%cf%83%ce%b7%cf%82-%cf%86%cf%89%cf%84%ce%bf%ce%b3%cf%81%ce%b1%cf%86%ce%af%ce%b1-nellys-%ce%b7-%cf%83%ce%b1%ce%bd%cf%84%ce%bf%cf%81%ce%af%ce%bd%ce%b7-%cf%84%ce%bf/2025-09-20/
LOCATION:Κέντρο Φωτογραφίας Kastelana\, Καστέλι\, Πύργος\, Σαντορίνη\, 84701\, Greece
CATEGORIES:Έκθεση
END:VEVENT
BEGIN:VEVENT
DTSTART;TZID=Europe/Moscow:20250920T120000
DTEND;TZID=Europe/Moscow:20250920T200000
DTSTAMP:20260425T163213
CREATED:20250422T095809Z
LAST-MODIFIED:20250506T163047Z
UID:10046827-1758369600-1758398400@atlantea.news
SUMMARY:Έκθεση φωτογραφίας του Robert McCabe
DESCRIPTION:“Lively Matter: Μία φωτογραφική τεκμηρίωση της Σαντορίνης μεταξύ 1954 και 1964”
URL:https://atlantea.news/event/%ce%ad%ce%ba%ce%b8%ce%b5%cf%83%ce%b7-%cf%86%cf%89%cf%84%ce%bf%ce%b3%cf%81%ce%b1%cf%86%ce%af%ce%b1%cf%82-%cf%84%ce%bf%cf%85-robert-mccabe/2025-09-20/
LOCATION:Vassaltis Vineyards\, Βουρβούλος\, Σαντορίνη\, 84700\, Greece
CATEGORIES:Έκθεση
ORGANIZER;CN="Vassaltis Vineyards":MAILTO:info@vassaltis.com
END:VEVENT
BEGIN:VEVENT
DTSTART;TZID=Europe/Athens:20250920T200000
DTEND;TZID=Europe/Athens:20250920T200000
DTSTAMP:20260425T163213
CREATED:20250919T092629Z
LAST-MODIFIED:20250919T092744Z
UID:10047746-1758398400-1758398400@atlantea.news
SUMMARY:Συναυλία Δημήτρη Παπαδημητρίου
DESCRIPTION:Στο πλαίσιο των Ηφαιστείων 2025
URL:https://atlantea.news/event/%cf%83%cf%85%ce%bd%ce%b1%cf%85%ce%bb%ce%af%ce%b1-%ce%b4%ce%b7%ce%bc%ce%ae%cf%84%cf%81%ce%b7-%cf%80%ce%b1%cf%80%ce%b1%ce%b4%ce%b7%ce%bc%ce%b7%cf%84%cf%81%ce%af%ce%bf%cf%85/
LOCATION:Ένωση Συνεταιρισμών Θηραϊκών Προϊόντων – Santowines\, Πύργος\, Σαντορίνη\, 84700\, Greece
CATEGORIES:Συναυλία - Μουσική εκδήλωση
END:VEVENT
BEGIN:VEVENT
DTSTART;TZID=Europe/Moscow:20250921T100000
DTEND;TZID=Europe/Moscow:20250921T180000
DTSTAMP:20260425T163213
CREATED:20250703T131153Z
LAST-MODIFIED:20250703T131153Z
UID:10047085-1758448800-1758477600@atlantea.news
SUMMARY:Έκθεση ζωγραφικής "Θηραϊκές Τελετουργίες"
DESCRIPTION:Της Άρτεμης Χατζηγιαννάκη
URL:https://atlantea.news/event/%ce%ad%ce%ba%ce%b8%ce%b5%cf%83%ce%b7-%ce%b6%cf%89%ce%b3%cf%81%ce%b1%cf%86%ce%b9%ce%ba%ce%ae%cf%82-%ce%b8%ce%b7%cf%81%ce%b1%cf%8a%ce%ba%ce%ad%cf%82-%cf%84%ce%b5%ce%bb%ce%b5%cf%84%ce%bf%cf%85%cf%81/2025-09-21/
LOCATION:Βιομηχανικό Μουσείο Τομάτας «Δ. Νομικός»\, Βλυχάδα\, Σαντορίνη\, 84700\, Greece
CATEGORIES:Έκθεση
GEO:36.3364529;25.4366155
X-APPLE-STRUCTURED-LOCATION;VALUE=URI;X-ADDRESS=Βιομηχανικό Μουσείο Τομάτας «Δ. Νομικός» Βλυχάδα Σαντορίνη 84700 Greece;X-APPLE-RADIUS=500;X-TITLE=Βλυχάδα:geo:25.4366155,36.3364529
END:VEVENT
BEGIN:VEVENT
DTSTART;TZID=Europe/Athens:20250921T100000
DTEND;TZID=Europe/Athens:20250921T190000
DTSTAMP:20260425T163213
CREATED:20250829T122301Z
LAST-MODIFIED:20250829T122642Z
UID:10047339-1758448800-1758481200@atlantea.news
SUMMARY:Έκθεση φωτογραφίας "Τοπία\, Άνθρωποι\, Αφηγήσεις μοναχικότητας"
DESCRIPTION:
URL:https://atlantea.news/event/%ce%ad%ce%ba%ce%b8%ce%b5%cf%83%ce%b7-%cf%86%cf%89%cf%84%ce%bf%ce%b3%cf%81%ce%b1%cf%86%ce%af%ce%b1%cf%82-%cf%84%ce%bf%cf%80%ce%af%ce%b1-%ce%ac%ce%bd%ce%b8%cf%81%cf%89%cf%80%ce%bf%ce%b9-%ce%b1%cf%86/2025-09-21/
LOCATION:“Συμπόσιον” Κέντρο Πολιτισμού\, Μεγαλοχώρι\, Σαντορίνη\, 84700\, Greece
CATEGORIES:Έκθεση
END:VEVENT
BEGIN:VEVENT
DTSTART;TZID=Europe/Athens:20250921T100000
DTEND;TZID=Europe/Athens:20250921T200000
DTSTAMP:20260425T163213
CREATED:20250805T082637Z
LAST-MODIFIED:20251027T145229Z
UID:10047264-1758448800-1758484800@atlantea.news
SUMMARY:Έκθεση φωτογραφίας "Nelly’s. Η Σαντορίνη του μεσοπολέμου"
DESCRIPTION:
URL:https://atlantea.news/event/%ce%ad%ce%ba%ce%b8%ce%b5%cf%83%ce%b7%cf%82-%cf%86%cf%89%cf%84%ce%bf%ce%b3%cf%81%ce%b1%cf%86%ce%af%ce%b1-nellys-%ce%b7-%cf%83%ce%b1%ce%bd%cf%84%ce%bf%cf%81%ce%af%ce%bd%ce%b7-%cf%84%ce%bf/2025-09-21/
LOCATION:Κέντρο Φωτογραφίας Kastelana\, Καστέλι\, Πύργος\, Σαντορίνη\, 84701\, Greece
CATEGORIES:Έκθεση
END:VEVENT
BEGIN:VEVENT
DTSTART;TZID=Europe/Moscow:20250921T120000
DTEND;TZID=Europe/Moscow:20250921T200000
DTSTAMP:20260425T163213
CREATED:20250422T095809Z
LAST-MODIFIED:20250506T163047Z
UID:10046828-1758456000-1758484800@atlantea.news
SUMMARY:Έκθεση φωτογραφίας του Robert McCabe
DESCRIPTION:“Lively Matter: Μία φωτογραφική τεκμηρίωση της Σαντορίνης μεταξύ 1954 και 1964”
URL:https://atlantea.news/event/%ce%ad%ce%ba%ce%b8%ce%b5%cf%83%ce%b7-%cf%86%cf%89%cf%84%ce%bf%ce%b3%cf%81%ce%b1%cf%86%ce%af%ce%b1%cf%82-%cf%84%ce%bf%cf%85-robert-mccabe/2025-09-21/
LOCATION:Vassaltis Vineyards\, Βουρβούλος\, Σαντορίνη\, 84700\, Greece
CATEGORIES:Έκθεση
ORGANIZER;CN="Vassaltis Vineyards":MAILTO:info@vassaltis.com
END:VEVENT
BEGIN:VEVENT
DTSTART;TZID=Europe/Athens:20250921T150000
DTEND;TZID=Europe/Athens:20250921T150000
DTSTAMP:20260425T163213
CREATED:20250919T080558Z
LAST-MODIFIED:20250919T080558Z
UID:10047745-1758466800-1758466800@atlantea.news
SUMMARY:Αναπαράσταση τράτας
DESCRIPTION:
URL:https://atlantea.news/event/%ce%b1%ce%bd%ce%b1%cf%80%ce%b1%cf%81%ce%ac%cf%83%cf%84%ce%b1%cf%83%ce%b7-%cf%84%cf%81%ce%ac%cf%84%ce%b1%cf%82-2/
LOCATION:Περίβολος\, Περίβολος\, Σαντορίνη\, 84700\, Greece
CATEGORIES:Διάφορα
GEO:36.5931727;24.8949022
X-APPLE-STRUCTURED-LOCATION;VALUE=URI;X-ADDRESS=Περίβολος Περίβολος Σαντορίνη 84700 Greece;X-APPLE-RADIUS=500;X-TITLE=Περίβολος:geo:24.8949022,36.5931727
END:VEVENT
BEGIN:VEVENT
DTSTART;TZID=Europe/Athens:20250921T173000
DTEND;TZID=Europe/Athens:20250921T173000
DTSTAMP:20260425T163213
CREATED:20250828T092555Z
LAST-MODIFIED:20250921T091038Z
UID:10047320-1758475800-1758475800@atlantea.news
SUMMARY:Αφιέρωμα στο ελληνικό τραγούδι με τους "The Hollywood Project"
DESCRIPTION:Φεστιβάλ Στρογγύλη On the road \n 
URL:https://atlantea.news/event/the-hollywood-project/
LOCATION:Μητρόπολη Φηρών\, Φηρά\, Σαντορίνη\, 84700\, Greece
CATEGORIES:Συναυλία - Μουσική εκδήλωση
END:VEVENT
BEGIN:VEVENT
DTSTART;TZID=Europe/Athens:20250921T190000
DTEND;TZID=Europe/Athens:20250921T190000
DTSTAMP:20260425T163213
CREATED:20250919T092825Z
LAST-MODIFIED:20250919T092906Z
UID:10047747-1758481200-1758481200@atlantea.news
SUMMARY:Συναυλία Αντιγόνης Κατσούρη
DESCRIPTION:Στο πλαίσιο των Ηφαιστείων 2025
URL:https://atlantea.news/event/%cf%83%cf%85%ce%bd%ce%b1%cf%85%ce%bb%ce%af%ce%b1-%ce%b1%ce%bd%cf%84%ce%b9%ce%b3%cf%8c%ce%bd%ce%b7%cf%82-%ce%ba%ce%b1%cf%84%cf%83%ce%bf%cf%8d%cf%81%ce%b7/
LOCATION:Μητρόπολη Φηρών\, Φηρά\, Σαντορίνη\, 84700\, Greece
CATEGORIES:Συναυλία - Μουσική εκδήλωση
END:VEVENT
BEGIN:VEVENT
DTSTART;TZID=Europe/Athens:20250921T200000
DTEND;TZID=Europe/Athens:20250921T200000
DTSTAMP:20260425T163213
CREATED:20250808T230458Z
LAST-MODIFIED:20250919T092450Z
UID:10047296-1758484800-1758484800@atlantea.news
SUMMARY:Ηφαίστεια 2025
DESCRIPTION:Πυροτεχνήματα και drone show μετά τη δύση του ηλίου
URL:https://atlantea.news/event/%ce%b7%cf%86%ce%b1%ce%af%cf%83%cf%84%ce%b5%ce%b9%ce%b1-2025/
LOCATION:Νέα Καμένη\, Καλντέρα\, Σαντορίνη\, 84700\, Greece
CATEGORIES:Διάφορα
END:VEVENT
BEGIN:VEVENT
DTSTART;TZID=Europe/Athens:20250922T100000
DTEND;TZID=Europe/Athens:20250922T200000
DTSTAMP:20260425T163213
CREATED:20250805T082637Z
LAST-MODIFIED:20251027T145229Z
UID:10047265-1758535200-1758571200@atlantea.news
SUMMARY:Έκθεση φωτογραφίας "Nelly’s. Η Σαντορίνη του μεσοπολέμου"
DESCRIPTION:
URL:https://atlantea.news/event/%ce%ad%ce%ba%ce%b8%ce%b5%cf%83%ce%b7%cf%82-%cf%86%cf%89%cf%84%ce%bf%ce%b3%cf%81%ce%b1%cf%86%ce%af%ce%b1-nellys-%ce%b7-%cf%83%ce%b1%ce%bd%cf%84%ce%bf%cf%81%ce%af%ce%bd%ce%b7-%cf%84%ce%bf/2025-09-22/
LOCATION:Κέντρο Φωτογραφίας Kastelana\, Καστέλι\, Πύργος\, Σαντορίνη\, 84701\, Greece
CATEGORIES:Έκθεση
END:VEVENT
BEGIN:VEVENT
DTSTART;TZID=Europe/Moscow:20250922T120000
DTEND;TZID=Europe/Moscow:20250922T200000
DTSTAMP:20260425T163213
CREATED:20250422T095809Z
LAST-MODIFIED:20250506T163047Z
UID:10046829-1758542400-1758571200@atlantea.news
SUMMARY:Έκθεση φωτογραφίας του Robert McCabe
DESCRIPTION:“Lively Matter: Μία φωτογραφική τεκμηρίωση της Σαντορίνης μεταξύ 1954 και 1964”
URL:https://atlantea.news/event/%ce%ad%ce%ba%ce%b8%ce%b5%cf%83%ce%b7-%cf%86%cf%89%cf%84%ce%bf%ce%b3%cf%81%ce%b1%cf%86%ce%af%ce%b1%cf%82-%cf%84%ce%bf%cf%85-robert-mccabe/2025-09-22/
LOCATION:Vassaltis Vineyards\, Βουρβούλος\, Σαντορίνη\, 84700\, Greece
CATEGORIES:Έκθεση
ORGANIZER;CN="Vassaltis Vineyards":MAILTO:info@vassaltis.com
END:VEVENT
BEGIN:VEVENT
DTSTART;TZID=Europe/Moscow:20250923T100000
DTEND;TZID=Europe/Moscow:20250923T180000
DTSTAMP:20260425T163213
CREATED:20250703T131153Z
LAST-MODIFIED:20250703T131153Z
UID:10047086-1758621600-1758650400@atlantea.news
SUMMARY:Έκθεση ζωγραφικής "Θηραϊκές Τελετουργίες"
DESCRIPTION:Της Άρτεμης Χατζηγιαννάκη
URL:https://atlantea.news/event/%ce%ad%ce%ba%ce%b8%ce%b5%cf%83%ce%b7-%ce%b6%cf%89%ce%b3%cf%81%ce%b1%cf%86%ce%b9%ce%ba%ce%ae%cf%82-%ce%b8%ce%b7%cf%81%ce%b1%cf%8a%ce%ba%ce%ad%cf%82-%cf%84%ce%b5%ce%bb%ce%b5%cf%84%ce%bf%cf%85%cf%81/2025-09-23/
LOCATION:Βιομηχανικό Μουσείο Τομάτας «Δ. Νομικός»\, Βλυχάδα\, Σαντορίνη\, 84700\, Greece
CATEGORIES:Έκθεση
GEO:36.3364529;25.4366155
X-APPLE-STRUCTURED-LOCATION;VALUE=URI;X-ADDRESS=Βιομηχανικό Μουσείο Τομάτας «Δ. Νομικός» Βλυχάδα Σαντορίνη 84700 Greece;X-APPLE-RADIUS=500;X-TITLE=Βλυχάδα:geo:25.4366155,36.3364529
END:VEVENT
BEGIN:VEVENT
DTSTART;TZID=Europe/Athens:20250923T100000
DTEND;TZID=Europe/Athens:20250923T190000
DTSTAMP:20260425T163213
CREATED:20250829T122301Z
LAST-MODIFIED:20250829T122642Z
UID:10047340-1758621600-1758654000@atlantea.news
SUMMARY:Έκθεση φωτογραφίας "Τοπία\, Άνθρωποι\, Αφηγήσεις μοναχικότητας"
DESCRIPTION:
URL:https://atlantea.news/event/%ce%ad%ce%ba%ce%b8%ce%b5%cf%83%ce%b7-%cf%86%cf%89%cf%84%ce%bf%ce%b3%cf%81%ce%b1%cf%86%ce%af%ce%b1%cf%82-%cf%84%ce%bf%cf%80%ce%af%ce%b1-%ce%ac%ce%bd%ce%b8%cf%81%cf%89%cf%80%ce%bf%ce%b9-%ce%b1%cf%86/2025-09-23/
LOCATION:“Συμπόσιον” Κέντρο Πολιτισμού\, Μεγαλοχώρι\, Σαντορίνη\, 84700\, Greece
CATEGORIES:Έκθεση
END:VEVENT
BEGIN:VEVENT
DTSTART;TZID=Europe/Athens:20250923T100000
DTEND;TZID=Europe/Athens:20250923T200000
DTSTAMP:20260425T163213
CREATED:20250805T082637Z
LAST-MODIFIED:20251027T145229Z
UID:10047266-1758621600-1758657600@atlantea.news
SUMMARY:Έκθεση φωτογραφίας "Nelly’s. Η Σαντορίνη του μεσοπολέμου"
DESCRIPTION:
URL:https://atlantea.news/event/%ce%ad%ce%ba%ce%b8%ce%b5%cf%83%ce%b7%cf%82-%cf%86%cf%89%cf%84%ce%bf%ce%b3%cf%81%ce%b1%cf%86%ce%af%ce%b1-nellys-%ce%b7-%cf%83%ce%b1%ce%bd%cf%84%ce%bf%cf%81%ce%af%ce%bd%ce%b7-%cf%84%ce%bf/2025-09-23/
LOCATION:Κέντρο Φωτογραφίας Kastelana\, Καστέλι\, Πύργος\, Σαντορίνη\, 84701\, Greece
CATEGORIES:Έκθεση
END:VEVENT
BEGIN:VEVENT
DTSTART;TZID=Europe/Moscow:20250923T120000
DTEND;TZID=Europe/Moscow:20250923T200000
DTSTAMP:20260425T163213
CREATED:20250422T095809Z
LAST-MODIFIED:20250506T163047Z
UID:10046830-1758628800-1758657600@atlantea.news
SUMMARY:Έκθεση φωτογραφίας του Robert McCabe
DESCRIPTION:“Lively Matter: Μία φωτογραφική τεκμηρίωση της Σαντορίνης μεταξύ 1954 και 1964”
URL:https://atlantea.news/event/%ce%ad%ce%ba%ce%b8%ce%b5%cf%83%ce%b7-%cf%86%cf%89%cf%84%ce%bf%ce%b3%cf%81%ce%b1%cf%86%ce%af%ce%b1%cf%82-%cf%84%ce%bf%cf%85-robert-mccabe/2025-09-23/
LOCATION:Vassaltis Vineyards\, Βουρβούλος\, Σαντορίνη\, 84700\, Greece
CATEGORIES:Έκθεση
ORGANIZER;CN="Vassaltis Vineyards":MAILTO:info@vassaltis.com
END:VEVENT
BEGIN:VEVENT
DTSTART;TZID=Europe/Moscow:20250924T100000
DTEND;TZID=Europe/Moscow:20250924T180000
DTSTAMP:20260425T163213
CREATED:20250703T131153Z
LAST-MODIFIED:20250703T131153Z
UID:10047087-1758708000-1758736800@atlantea.news
SUMMARY:Έκθεση ζωγραφικής "Θηραϊκές Τελετουργίες"
DESCRIPTION:Της Άρτεμης Χατζηγιαννάκη
URL:https://atlantea.news/event/%ce%ad%ce%ba%ce%b8%ce%b5%cf%83%ce%b7-%ce%b6%cf%89%ce%b3%cf%81%ce%b1%cf%86%ce%b9%ce%ba%ce%ae%cf%82-%ce%b8%ce%b7%cf%81%ce%b1%cf%8a%ce%ba%ce%ad%cf%82-%cf%84%ce%b5%ce%bb%ce%b5%cf%84%ce%bf%cf%85%cf%81/2025-09-24/
LOCATION:Βιομηχανικό Μουσείο Τομάτας «Δ. Νομικός»\, Βλυχάδα\, Σαντορίνη\, 84700\, Greece
CATEGORIES:Έκθεση
GEO:36.3364529;25.4366155
X-APPLE-STRUCTURED-LOCATION;VALUE=URI;X-ADDRESS=Βιομηχανικό Μουσείο Τομάτας «Δ. Νομικός» Βλυχάδα Σαντορίνη 84700 Greece;X-APPLE-RADIUS=500;X-TITLE=Βλυχάδα:geo:25.4366155,36.3364529
END:VEVENT
BEGIN:VEVENT
DTSTART;TZID=Europe/Athens:20250924T100000
DTEND;TZID=Europe/Athens:20250924T190000
DTSTAMP:20260425T163213
CREATED:20250829T122301Z
LAST-MODIFIED:20250829T122642Z
UID:10047341-1758708000-1758740400@atlantea.news
SUMMARY:Έκθεση φωτογραφίας "Τοπία\, Άνθρωποι\, Αφηγήσεις μοναχικότητας"
DESCRIPTION:
URL:https://atlantea.news/event/%ce%ad%ce%ba%ce%b8%ce%b5%cf%83%ce%b7-%cf%86%cf%89%cf%84%ce%bf%ce%b3%cf%81%ce%b1%cf%86%ce%af%ce%b1%cf%82-%cf%84%ce%bf%cf%80%ce%af%ce%b1-%ce%ac%ce%bd%ce%b8%cf%81%cf%89%cf%80%ce%bf%ce%b9-%ce%b1%cf%86/2025-09-24/
LOCATION:“Συμπόσιον” Κέντρο Πολιτισμού\, Μεγαλοχώρι\, Σαντορίνη\, 84700\, Greece
CATEGORIES:Έκθεση
END:VEVENT
BEGIN:VEVENT
DTSTART;TZID=Europe/Moscow:20250924T120000
DTEND;TZID=Europe/Moscow:20250924T200000
DTSTAMP:20260425T163213
CREATED:20250422T095809Z
LAST-MODIFIED:20250506T163047Z
UID:10046831-1758715200-1758744000@atlantea.news
SUMMARY:Έκθεση φωτογραφίας του Robert McCabe
DESCRIPTION:“Lively Matter: Μία φωτογραφική τεκμηρίωση της Σαντορίνης μεταξύ 1954 και 1964”
URL:https://atlantea.news/event/%ce%ad%ce%ba%ce%b8%ce%b5%cf%83%ce%b7-%cf%86%cf%89%cf%84%ce%bf%ce%b3%cf%81%ce%b1%cf%86%ce%af%ce%b1%cf%82-%cf%84%ce%bf%cf%85-robert-mccabe/2025-09-24/
LOCATION:Vassaltis Vineyards\, Βουρβούλος\, Σαντορίνη\, 84700\, Greece
CATEGORIES:Έκθεση
ORGANIZER;CN="Vassaltis Vineyards":MAILTO:info@vassaltis.com
END:VEVENT
BEGIN:VEVENT
DTSTART;TZID=Europe/Athens:20250924T203000
DTEND;TZID=Europe/Athens:20250924T203000
DTSTAMP:20260425T163213
CREATED:20250919T225439Z
LAST-MODIFIED:20250919T225506Z
UID:10047748-1758745800-1758745800@atlantea.news
SUMMARY:Νησιώτικο γλέντι Παναγίας Μυρτιδιώτισσας
DESCRIPTION:
URL:https://atlantea.news/event/%ce%bd%ce%b7%cf%83%ce%b9%cf%8e%cf%84%ce%b9%ce%ba%ce%bf-%ce%b3%ce%bb%ce%ad%ce%bd%cf%84%ce%b9-%cf%80%ce%b1%ce%bd%ce%b1%ce%b3%ce%af%ce%b1%cf%82-%ce%bc%cf%85%cf%81%cf%84%ce%b9%ce%b4%ce%b9%cf%8e%cf%84/
LOCATION:Κεντρική πλατεία Καμαρίου\, Καμάρι\, Σαντορίνη\, 84700\, Greece
CATEGORIES:Έθιμο-Πανηγύρι
GEO:36.3770012;25.4807115
X-APPLE-STRUCTURED-LOCATION;VALUE=URI;X-ADDRESS=Κεντρική πλατεία Καμαρίου Καμάρι Σαντορίνη 84700 Greece;X-APPLE-RADIUS=500;X-TITLE=Καμάρι:geo:25.4807115,36.3770012
END:VEVENT
BEGIN:VEVENT
DTSTART;TZID=Europe/Athens:20250925T080000
DTEND;TZID=Europe/Athens:20250925T210000
DTSTAMP:20260425T163213
CREATED:20250919T233123Z
LAST-MODIFIED:20250923T093617Z
UID:10047749-1758787200-1758834000@atlantea.news
SUMMARY:Έκθεση σύγχρονης τέχνης "Ένας τόπος που ζητά να ξαποστάσει"
DESCRIPTION:Συμμετέχουν οι: Αγγέλου Αναστάσιος (φωτογράφος)\, Ασιμής Χριστόφορος (εικαστικός)\, Βλαντωνόπουλος Γιάννης (κεραμίστας)\, Κιτσοπούλου Λένα (σκηνοθέτιδα\, ηθοποιός\, εικαστικός)\, Κορακάκης Νίκος (φωτογράφος)\, Κουσκούρης Γρηγόρης (γλύπτης)\, Κυπρής Γιώργος (εικαστικός)\, Μάκαρης Ορφέας (κεραμίστας)\, Πέπος Βαγγέλης (εικαστικός)\, Ρηγόπουλος Νίκος (φωτογράφος)\, Ταλιαδούρου Μαρίνα (κεραμίστρια)\, Binzer Lea (εικαστικός)\, Ule Elwet (κεραμίστρια)
URL:https://atlantea.news/event/%ce%ad%ce%ba%ce%b8%ce%b5%cf%83%ce%b7-%cf%83%cf%8d%ce%b3%cf%87%cf%81%ce%bf%ce%bd%ce%b7%cf%82-%cf%84%ce%ad%cf%87%ce%bd%ce%b7%cf%82-%ce%ad%ce%bd%ce%b1%cf%82-%cf%84%cf%8c%cf%80%ce%bf%cf%82-%cf%80%ce%bf/2025-09-25/
LOCATION:Vedema Resort\, Μεγαλοχώρι\, Σαντορίνη\, 84700\, Greece
CATEGORIES:Έκθεση
END:VEVENT
BEGIN:VEVENT
DTSTART;TZID=Europe/Moscow:20250925T100000
DTEND;TZID=Europe/Moscow:20250925T180000
DTSTAMP:20260425T163213
CREATED:20250703T131153Z
LAST-MODIFIED:20250703T131153Z
UID:10047088-1758794400-1758823200@atlantea.news
SUMMARY:Έκθεση ζωγραφικής "Θηραϊκές Τελετουργίες"
DESCRIPTION:Της Άρτεμης Χατζηγιαννάκη
URL:https://atlantea.news/event/%ce%ad%ce%ba%ce%b8%ce%b5%cf%83%ce%b7-%ce%b6%cf%89%ce%b3%cf%81%ce%b1%cf%86%ce%b9%ce%ba%ce%ae%cf%82-%ce%b8%ce%b7%cf%81%ce%b1%cf%8a%ce%ba%ce%ad%cf%82-%cf%84%ce%b5%ce%bb%ce%b5%cf%84%ce%bf%cf%85%cf%81/2025-09-25/
LOCATION:Βιομηχανικό Μουσείο Τομάτας «Δ. Νομικός»\, Βλυχάδα\, Σαντορίνη\, 84700\, Greece
CATEGORIES:Έκθεση
GEO:36.3364529;25.4366155
X-APPLE-STRUCTURED-LOCATION;VALUE=URI;X-ADDRESS=Βιομηχανικό Μουσείο Τομάτας «Δ. Νομικός» Βλυχάδα Σαντορίνη 84700 Greece;X-APPLE-RADIUS=500;X-TITLE=Βλυχάδα:geo:25.4366155,36.3364529
END:VEVENT
END:VCALENDAR