BEGIN:VCALENDAR
VERSION:2.0
PRODID:-//Atlantea - ECPv6.15.9//NONSGML v1.0//EN
CALSCALE:GREGORIAN
METHOD:PUBLISH
X-ORIGINAL-URL:https://atlantea.news
X-WR-CALDESC:Events for Atlantea
REFRESH-INTERVAL;VALUE=DURATION:PT1H
X-Robots-Tag:noindex
X-PUBLISHED-TTL:PT1H
BEGIN:VTIMEZONE
TZID:Europe/Athens
BEGIN:DAYLIGHT
TZOFFSETFROM:+0200
TZOFFSETTO:+0300
TZNAME:EEST
DTSTART:20250330T010000
END:DAYLIGHT
BEGIN:STANDARD
TZOFFSETFROM:+0300
TZOFFSETTO:+0200
TZNAME:EET
DTSTART:20251026T010000
END:STANDARD
BEGIN:DAYLIGHT
TZOFFSETFROM:+0200
TZOFFSETTO:+0300
TZNAME:EEST
DTSTART:20260329T010000
END:DAYLIGHT
BEGIN:STANDARD
TZOFFSETFROM:+0300
TZOFFSETTO:+0200
TZNAME:EET
DTSTART:20261025T010000
END:STANDARD
BEGIN:DAYLIGHT
TZOFFSETFROM:+0200
TZOFFSETTO:+0300
TZNAME:EEST
DTSTART:20270328T010000
END:DAYLIGHT
BEGIN:STANDARD
TZOFFSETFROM:+0300
TZOFFSETTO:+0200
TZNAME:EET
DTSTART:20271031T010000
END:STANDARD
END:VTIMEZONE
BEGIN:VEVENT
DTSTART;TZID=Europe/Athens:20260425T183000
DTEND;TZID=Europe/Athens:20260425T183000
DTSTAMP:20260421T105622
CREATED:20260408T174650Z
LAST-MODIFIED:20260408T174814Z
UID:10048325-1777141800-1777141800@atlantea.news
SUMMARY:Τελικός του Κυπέλλου Ελλάδας μπάσκετ με αμαξίδιο
DESCRIPTION:
URL:https://atlantea.news/event/%cf%84%ce%b5%ce%bb%ce%b9%ce%ba%cf%8c%cf%82-%cf%84%ce%bf%cf%85-%ce%ba%cf%85%cf%80%ce%ad%ce%bb%ce%bb%ce%bf%cf%85-%ce%b5%ce%bb%ce%bb%ce%ac%ce%b4%ce%b1%cf%82-%ce%bc%cf%80%ce%ac%cf%83%ce%ba%ce%b5%cf%84/
LOCATION:Κλειστό Γυμναστήριο Σαντορίνης\, Καρτεράδος\, Σαντορινη\, 84700\, Greece
CATEGORIES:Αγώνας
END:VEVENT
BEGIN:VEVENT
DTSTART;TZID=Europe/Athens:20260426T180000
DTEND;TZID=Europe/Athens:20260426T180000
DTSTAMP:20260421T105622
CREATED:20260420T093853Z
LAST-MODIFIED:20260420T094201Z
UID:10048329-1777226400-1777226400@atlantea.news
SUMMARY:Η Ύβρις της Ανθρωπότητας
DESCRIPTION:Δείτε περισσότερα εδώ
URL:https://atlantea.news/event/%ce%b7-%cf%8d%ce%b2%cf%81%ce%b9%cf%82-%cf%84%ce%b7%cf%82-%ce%b1%ce%bd%ce%b8%cf%81%cf%89%cf%80%cf%8c%cf%84%ce%b7%cf%84%ce%b1%cf%82/
LOCATION:Αίθουσα εκδηλώσεων Γυμνασίου Μεσαριάς\, Μεσαριά\, 84700\, Greece
CATEGORIES:Σινεμά
ORGANIZER;CN="%CE%95%CE%BB%CE%BB%CE%B7%CE%BD%CE%B9%CE%BA%CE%AE %CE%95%CF%84%CE%B1%CE%B9%CF%81%CE%B5%CE%AF%CE%B1 %CE%A0%CE%B5%CF%81%CE%B9%CE%B2%CE%AC%CE%BB%CE%BB%CE%BF%CE%BD%CF%84%CE%BF%CF%82 %CE%BA%CE%B1%CE%B9 %CE%A0%CE%BF%CE%BB%CE%B9%CF%84%CE%B9%CF%83%CE%BC%CE%BF%CF%8D - %CE%A0%CE%B1%CF%81%CE%AC%CF%81%CF%84%CE%B7%CE%BC%CE%B1 %CE%98%CE%AE%CF%81%CE%B1%CF%82":MAILTO:elletsantorini@gmail.com
GEO:36.3990884;25.4477265
X-APPLE-STRUCTURED-LOCATION;VALUE=URI;X-ADDRESS=Αίθουσα εκδηλώσεων Γυμνασίου Μεσαριάς Μεσαριά 84700 Greece;X-APPLE-RADIUS=500;X-TITLE=Μεσαριά:geo:25.4477265,36.3990884
END:VEVENT
BEGIN:VEVENT
DTSTART;TZID=Europe/Athens:20260426T190000
DTEND;TZID=Europe/Athens:20260426T190000
DTSTAMP:20260421T105622
CREATED:20260123T215352Z
LAST-MODIFIED:20260123T220155Z
UID:10048279-1777230000-1777230000@atlantea.news
SUMMARY:Ρεμπέτικο Φόρουμ
DESCRIPTION:
URL:https://atlantea.news/event/%cf%81%ce%b5%ce%bc%cf%80%ce%ad%cf%84%ce%b9%ce%ba%ce%bf-%cf%86%cf%8c%cf%81%ce%bf%cf%85%ce%bc-2/
LOCATION:Μπελλώνειο Πολιτιστικό Κέντρο\, Φηρά\, Σαντορίνη\, 84700\, Greece
CATEGORIES:Συναυλία - Μουσική εκδήλωση
END:VEVENT
BEGIN:VEVENT
DTSTART;TZID=Europe/Athens:20260506T180000
DTEND;TZID=Europe/Athens:20260506T180000
DTSTAMP:20260421T105622
CREATED:20251020T114647Z
LAST-MODIFIED:20251020T114721Z
UID:10048160-1778090400-1778090400@atlantea.news
SUMMARY:Σχολή Γονέων: Έχει θέση η εκκλησία στην οικογένεια και στη διαπαιδαγώγηση των παιδιών;
DESCRIPTION:Εισηγητής: π. Σπυρίδων Βασιλάκος
URL:https://atlantea.news/event/%cf%83%cf%87%ce%bf%ce%bb%ce%ae-%ce%b3%ce%bf%ce%bd%ce%ad%cf%89%ce%bd-%ce%ad%cf%87%ce%b5%ce%b9-%ce%b8%ce%ad%cf%83%ce%b7-%ce%b7-%ce%b5%ce%ba%ce%ba%ce%bb%ce%b7%cf%83%ce%af%ce%b1-%cf%83%cf%84%ce%b7%ce%bd/
LOCATION:Πνευματικό Κέντρο Ι.Ν. Παναγίας Γλυκογαλούσας\, Καρτεράδος\, Σαντορίνη\, 84700\, Greece
CATEGORIES:Ομιλία,Σεμινάριο
ORGANIZER;CN="%CE%A0%CE%B1%CE%B9%CE%B4%CE%B9%CE%BA%CF%8C%CF%82 %CE%A3%CF%84%CE%B1%CE%B8%CE%BC%CF%8C%CF%82 %CE%97 %CE%93%CE%BB%CF%85%CE%BA%CE%BF%CE%B3%CE%B1%CE%BB%CE%BF%CF%8D%CF%83%CE%B1":MAILTO:glikogalousa@yahoo.gr
END:VEVENT
BEGIN:VEVENT
DTSTART;TZID=Europe/Athens:20260523T180000
DTEND;TZID=Europe/Athens:20260523T180000
DTSTAMP:20260421T105622
CREATED:20260417T224143Z
LAST-MODIFIED:20260417T224825Z
UID:10048328-1779559200-1779559200@atlantea.news
SUMMARY:Τελετή απονομής του Παγκόσμιου Μαθητικού Διαγωνισμού Ζωγραφικής
DESCRIPTION:“Η Κόρη της Αρχαίας Θήρας – στο Χθες\, στο Σήμερα\, στο Αύριο” \n 
URL:https://atlantea.news/event/%cf%84%ce%b5%ce%bb%ce%b5%cf%84%ce%ae-%ce%b1%cf%80%ce%bf%ce%bd%ce%bf%ce%bc%ce%ae%cf%82-%cf%84%ce%bf%cf%85-%cf%80%ce%b1%ce%b3%ce%ba%cf%8c%cf%83%ce%bc%ce%b9%ce%bf%cf%85-%ce%bc%ce%b1%ce%b8%ce%b7%cf%84/
LOCATION:Μπελλώνειο Πολιτιστικό Κέντρο\, Φηρά\, Σαντορίνη\, 84700\, Greece
CATEGORIES:Διαγωνισμός,Διάφορα
END:VEVENT
END:VCALENDAR