BEGIN:VCALENDAR
VERSION:2.0
PRODID:-//Atlantea - ECPv6.15.9//NONSGML v1.0//EN
CALSCALE:GREGORIAN
METHOD:PUBLISH
X-WR-CALNAME:Atlantea
X-ORIGINAL-URL:https://atlantea.news
X-WR-CALDESC:Events for Atlantea
REFRESH-INTERVAL;VALUE=DURATION:PT1H
X-Robots-Tag:noindex
X-PUBLISHED-TTL:PT1H
BEGIN:VTIMEZONE
TZID:Europe/Athens
BEGIN:DAYLIGHT
TZOFFSETFROM:+0200
TZOFFSETTO:+0300
TZNAME:EEST
DTSTART:20250330T010000
END:DAYLIGHT
BEGIN:STANDARD
TZOFFSETFROM:+0300
TZOFFSETTO:+0200
TZNAME:EET
DTSTART:20251026T010000
END:STANDARD
BEGIN:DAYLIGHT
TZOFFSETFROM:+0200
TZOFFSETTO:+0300
TZNAME:EEST
DTSTART:20260329T010000
END:DAYLIGHT
BEGIN:STANDARD
TZOFFSETFROM:+0300
TZOFFSETTO:+0200
TZNAME:EET
DTSTART:20261025T010000
END:STANDARD
BEGIN:DAYLIGHT
TZOFFSETFROM:+0200
TZOFFSETTO:+0300
TZNAME:EEST
DTSTART:20270328T010000
END:DAYLIGHT
BEGIN:STANDARD
TZOFFSETFROM:+0300
TZOFFSETTO:+0200
TZNAME:EET
DTSTART:20271031T010000
END:STANDARD
END:VTIMEZONE
BEGIN:VEVENT
DTSTART;TZID=Europe/Athens:20260105T170000
DTEND;TZID=Europe/Athens:20260105T210000
DTSTAMP:20260425T030924
CREATED:20251205T231207Z
LAST-MODIFIED:20251205T231207Z
UID:10048225-1767632400-1767646800@atlantea.news
SUMMARY:Χριστουγεννιάτικο Χωριό
DESCRIPTION:
URL:https://atlantea.news/event/%cf%87%cf%81%ce%b9%cf%83%cf%84%ce%bf%cf%85%ce%b3%ce%b5%ce%bd%ce%bd%ce%b9%ce%ac%cf%84%ce%b9%ce%ba%ce%bf-%cf%87%cf%89%cf%81%ce%b9%cf%8c-11/2026-01-05/
LOCATION:Κεντρική Πλατεία Φηρών\, Φηρά\, Σαντορίνη\, 84700\, Greece
CATEGORIES:Διάφορα
END:VEVENT
BEGIN:VEVENT
DTSTART;TZID=Europe/Athens:20260106T170000
DTEND;TZID=Europe/Athens:20260106T210000
DTSTAMP:20260425T030924
CREATED:20251205T231207Z
LAST-MODIFIED:20251205T231207Z
UID:10048226-1767718800-1767733200@atlantea.news
SUMMARY:Χριστουγεννιάτικο Χωριό
DESCRIPTION:
URL:https://atlantea.news/event/%cf%87%cf%81%ce%b9%cf%83%cf%84%ce%bf%cf%85%ce%b3%ce%b5%ce%bd%ce%bd%ce%b9%ce%ac%cf%84%ce%b9%ce%ba%ce%bf-%cf%87%cf%89%cf%81%ce%b9%cf%8c-11/2026-01-06/
LOCATION:Κεντρική Πλατεία Φηρών\, Φηρά\, Σαντορίνη\, 84700\, Greece
CATEGORIES:Διάφορα
END:VEVENT
BEGIN:VEVENT
DTSTART;TZID=Europe/Athens:20260107T170000
DTEND;TZID=Europe/Athens:20260107T210000
DTSTAMP:20260425T030924
CREATED:20251205T231207Z
LAST-MODIFIED:20251205T231207Z
UID:10048227-1767805200-1767819600@atlantea.news
SUMMARY:Χριστουγεννιάτικο Χωριό
DESCRIPTION:
URL:https://atlantea.news/event/%cf%87%cf%81%ce%b9%cf%83%cf%84%ce%bf%cf%85%ce%b3%ce%b5%ce%bd%ce%bd%ce%b9%ce%ac%cf%84%ce%b9%ce%ba%ce%bf-%cf%87%cf%89%cf%81%ce%b9%cf%8c-11/2026-01-07/
LOCATION:Κεντρική Πλατεία Φηρών\, Φηρά\, Σαντορίνη\, 84700\, Greece
CATEGORIES:Διάφορα
END:VEVENT
BEGIN:VEVENT
DTSTART;TZID=Europe/Athens:20260110T183000
DTEND;TZID=Europe/Athens:20260110T183000
DTSTAMP:20260425T030924
CREATED:20260108T114139Z
LAST-MODIFIED:20260108T144101Z
UID:10048256-1768069800-1768069800@atlantea.news
SUMMARY:Μουσικές διαδρομές με τους Ma Non Troppo
DESCRIPTION:Δείτε περισσότερα εδώ
URL:https://atlantea.news/event/%ce%bc%ce%bf%cf%85%cf%83%ce%b9%ce%ba%ce%ad%cf%82-%ce%b4%ce%b9%ce%b1%ce%b4%cf%81%ce%bf%ce%bc%ce%ad%cf%82-%ce%bc%ce%b5-%cf%84%ce%bf%cf%85%cf%82-ma-non-troppo/
LOCATION:Μπελλώνειο Πολιτιστικό Κέντρο\, Φηρά\, Σαντορίνη\, 84700\, Greece
CATEGORIES:Συναυλία - Μουσική εκδήλωση
END:VEVENT
END:VCALENDAR