BEGIN:VCALENDAR
VERSION:2.0
PRODID:-//Atlantea - ECPv6.15.9//NONSGML v1.0//EN
CALSCALE:GREGORIAN
METHOD:PUBLISH
X-ORIGINAL-URL:https://atlantea.news
X-WR-CALDESC:Events for Atlantea
REFRESH-INTERVAL;VALUE=DURATION:PT1H
X-Robots-Tag:noindex
X-PUBLISHED-TTL:PT1H
BEGIN:VTIMEZONE
TZID:Europe/Athens
BEGIN:DAYLIGHT
TZOFFSETFROM:+0200
TZOFFSETTO:+0300
TZNAME:EEST
DTSTART:20250330T010000
END:DAYLIGHT
BEGIN:STANDARD
TZOFFSETFROM:+0300
TZOFFSETTO:+0200
TZNAME:EET
DTSTART:20251026T010000
END:STANDARD
BEGIN:DAYLIGHT
TZOFFSETFROM:+0200
TZOFFSETTO:+0300
TZNAME:EEST
DTSTART:20260329T010000
END:DAYLIGHT
BEGIN:STANDARD
TZOFFSETFROM:+0300
TZOFFSETTO:+0200
TZNAME:EET
DTSTART:20261025T010000
END:STANDARD
BEGIN:DAYLIGHT
TZOFFSETFROM:+0200
TZOFFSETTO:+0300
TZNAME:EEST
DTSTART:20270328T010000
END:DAYLIGHT
BEGIN:STANDARD
TZOFFSETFROM:+0300
TZOFFSETTO:+0200
TZNAME:EET
DTSTART:20271031T010000
END:STANDARD
END:VTIMEZONE
BEGIN:VEVENT
DTSTART;TZID=Europe/Athens:20260302T190000
DTEND;TZID=Europe/Athens:20260302T190000
DTSTAMP:20260424T203000
CREATED:20260226T231855Z
LAST-MODIFIED:20260226T231955Z
UID:10048308-1772478000-1772478000@atlantea.news
SUMMARY:Προβολή ταινίας "Το τελευταίο σημείωμα"
DESCRIPTION:
URL:https://atlantea.news/event/%cf%80%cf%81%ce%bf%ce%b2%ce%bf%ce%bb%ce%ae-%cf%84%ce%b1%ce%b9%ce%bd%ce%af%ce%b1%cf%82-%cf%84%ce%bf-%cf%84%ce%b5%ce%bb%ce%b5%cf%85%cf%84%ce%b1%ce%af%ce%bf-%cf%83%ce%b7%ce%bc%ce%b5%ce%af%cf%89%ce%bc/
LOCATION:Villaggio Cinema\, Καμάρι\, 84700\, 84700\, Greece
CATEGORIES:Σινεμά
END:VEVENT
BEGIN:VEVENT
DTSTART;TZID=Europe/Athens:20260307T210000
DTEND;TZID=Europe/Athens:20260307T210000
DTSTAMP:20260424T203000
CREATED:20260206T083123Z
LAST-MODIFIED:20260206T083158Z
UID:10048291-1772917200-1772917200@atlantea.news
SUMMARY:Κεντρική εκδήλωση Συλλόγου Κρητών
DESCRIPTION:
URL:https://atlantea.news/event/%ce%ba%ce%b5%ce%bd%cf%84%cf%81%ce%b9%ce%ba%ce%ae-%ce%b5%ce%ba%ce%b4%ce%ae%ce%bb%cf%89%cf%83%ce%b7-%cf%83%cf%85%ce%bb%ce%bb%cf%8c%ce%b3%ce%bf%cf%85-%ce%ba%cf%81%ce%b7%cf%84%cf%8e%ce%bd-4/
LOCATION:Εστιατόριο Πύργος\, Πύργος\, Σαντορίνη\, 84701\, Greece
CATEGORIES:Χοροεσπερίδα
ORGANIZER;CN="%CE%A3%CF%8D%CE%BB%CE%BB%CE%BF%CE%B3%CE%BF%CF%82 %CE%9A%CF%81%CE%B7%CF%84%CF%8E%CE%BD %CE%A3%CE%B1%CE%BD%CF%84%CE%BF%CF%81%CE%AF%CE%BD%CE%B7%CF%82 '%CE%A4%CE%BF %CE%91%CF%81%CE%BA%CE%AC%CE%B4%CE%B9'":MAILTO:syllogoskrhton@yahoo.gr
END:VEVENT
BEGIN:VEVENT
DTSTART;TZID=Europe/Athens:20260308T113000
DTEND;TZID=Europe/Athens:20260308T113000
DTSTAMP:20260424T203000
CREATED:20260304T224723Z
LAST-MODIFIED:20260304T225014Z
UID:10048310-1772969400-1772969400@atlantea.news
SUMMARY:Τι Δήμο θέλουμε;
DESCRIPTION:
URL:https://atlantea.news/event/%cf%84%ce%b9-%ce%b4%ce%ae%ce%bc%ce%bf-%ce%b8%ce%ad%ce%bb%ce%bf%cf%85%ce%bc%ce%b5/
LOCATION:Villaggio Cinema\, Καμάρι\, 84700\, 84700\, Greece
CATEGORIES:Πολιτική εκδήλωση
END:VEVENT
BEGIN:VEVENT
DTSTART;TZID=Europe/Athens:20260308T183000
DTEND;TZID=Europe/Athens:20260308T183000
DTSTAMP:20260424T203000
CREATED:20260307T000510Z
LAST-MODIFIED:20260307T000510Z
UID:10048311-1772994600-1772994600@atlantea.news
SUMMARY:Η διατροφή και η γυμναστική σύμμαχος σε κάθε στάδιο της γυναίκας
DESCRIPTION:
URL:https://atlantea.news/event/%ce%b7-%ce%b4%ce%b9%ce%b1%cf%84%cf%81%ce%bf%cf%86%ce%ae-%ce%ba%ce%b1%ce%b9-%ce%b7-%ce%b3%cf%85%ce%bc%ce%bd%ce%b1%cf%83%cf%84%ce%b9%ce%ba%ce%ae-%cf%83%cf%8d%ce%bc%ce%bc%ce%b1%cf%87%ce%bf%cf%82-%cf%83/
LOCATION:Εστία Πύργου\, Πύργος\, Σαντορίνη\, 84701\, Greece
CATEGORIES:Ομιλία
END:VEVENT
BEGIN:VEVENT
DTSTART;TZID=Europe/Athens:20260308T190000
DTEND;TZID=Europe/Athens:20260308T190000
DTSTAMP:20260424T203000
CREATED:20260123T213531Z
LAST-MODIFIED:20260123T213701Z
UID:10048273-1772996400-1772996400@atlantea.news
SUMMARY:Αφιέρωμα στους μεγάλους λαϊκούς και έντεχνους συνθέτες
DESCRIPTION:Από τον Μανώλη Φύτρο
URL:https://atlantea.news/event/%ce%b1%cf%86%ce%b9%ce%ad%cf%81%cf%89%ce%bc%ce%b1-%cf%83%cf%84%ce%bf%cf%85%cf%82-%ce%bc%ce%b5%ce%b3%ce%ac%ce%bb%ce%bf%cf%85%cf%82-%ce%bb%ce%b1%cf%8a%ce%ba%ce%bf%cf%8d%cf%82-%ce%ba%ce%b1%ce%b9-%ce%ad/
LOCATION:Μπελλώνειο Πολιτιστικό Κέντρο\, Φηρά\, Σαντορίνη\, 84700\, Greece
CATEGORIES:Συναυλία - Μουσική εκδήλωση
END:VEVENT
END:VCALENDAR