BEGIN:VCALENDAR
VERSION:2.0
PRODID:-//Atlantea - ECPv6.15.9//NONSGML v1.0//EN
CALSCALE:GREGORIAN
METHOD:PUBLISH
X-ORIGINAL-URL:https://atlantea.news
X-WR-CALDESC:Events for Atlantea
REFRESH-INTERVAL;VALUE=DURATION:PT1H
X-Robots-Tag:noindex
X-PUBLISHED-TTL:PT1H
BEGIN:VTIMEZONE
TZID:Europe/Athens
BEGIN:DAYLIGHT
TZOFFSETFROM:+0200
TZOFFSETTO:+0300
TZNAME:EEST
DTSTART:20250330T010000
END:DAYLIGHT
BEGIN:STANDARD
TZOFFSETFROM:+0300
TZOFFSETTO:+0200
TZNAME:EET
DTSTART:20251026T010000
END:STANDARD
BEGIN:DAYLIGHT
TZOFFSETFROM:+0200
TZOFFSETTO:+0300
TZNAME:EEST
DTSTART:20260329T010000
END:DAYLIGHT
BEGIN:STANDARD
TZOFFSETFROM:+0300
TZOFFSETTO:+0200
TZNAME:EET
DTSTART:20261025T010000
END:STANDARD
BEGIN:DAYLIGHT
TZOFFSETFROM:+0200
TZOFFSETTO:+0300
TZNAME:EEST
DTSTART:20270328T010000
END:DAYLIGHT
BEGIN:STANDARD
TZOFFSETFROM:+0300
TZOFFSETTO:+0200
TZNAME:EET
DTSTART:20271031T010000
END:STANDARD
END:VTIMEZONE
BEGIN:VEVENT
DTSTART;TZID=Europe/Athens:20260401T190000
DTEND;TZID=Europe/Athens:20260401T190000
DTSTAMP:20260424T183939
CREATED:20260330T075143Z
LAST-MODIFIED:20260330T075655Z
UID:10048322-1775070000-1775070000@atlantea.news
SUMMARY:ΑΟ Θήρας - ΠΑΟΚ
DESCRIPTION:Το 3ο μεταξύ τους παιχνίδι για τα play off της Volley League γυναικών (θέσεις 1-4)
URL:https://atlantea.news/event/%ce%b1%ce%bf-%ce%b8%ce%ae%cf%81%ce%b1%cf%82-%cf%80%ce%b1%ce%bf%ce%ba-8/
LOCATION:Κλειστό Γυμναστήριο Σαντορίνης\, Καρτεράδος\, Σαντορινη\, 84700\, Greece
CATEGORIES:Αγώνας
END:VEVENT
BEGIN:VEVENT
DTSTART;TZID=Europe/Athens:20260402T190000
DTEND;TZID=Europe/Athens:20260402T190000
DTSTAMP:20260424T183939
CREATED:20260123T214847Z
LAST-MODIFIED:20260330T075244Z
UID:10048277-1775156400-1775156400@atlantea.news
SUMMARY:Ο λαγός έβαψε τα αυγά
DESCRIPTION:
URL:https://atlantea.news/event/%ce%bf-%ce%bb%ce%b1%ce%b3%cf%8c%cf%82-%ce%ad%ce%b2%ce%b1%cf%88%ce%b5-%cf%84%ce%b1-%ce%b1%cf%85%ce%b3%ce%ac/
LOCATION:Μπελλώνειο Πολιτιστικό Κέντρο\, Φηρά\, Σαντορίνη\, 84700\, Greece
CATEGORIES:Για παιδιά,Θέατρο
END:VEVENT
BEGIN:VEVENT
DTSTART;TZID=Europe/Athens:20260402T190000
DTEND;TZID=Europe/Athens:20260402T190000
DTSTAMP:20260424T183939
CREATED:20260329T203916Z
LAST-MODIFIED:20260331T201424Z
UID:10048321-1775156400-1775156400@atlantea.news
SUMMARY:Ιδού ο Νυμφίος έρχεται...
DESCRIPTION:
URL:https://atlantea.news/event/%ce%b9%ce%b4%ce%bf%cf%8d-%ce%bf-%ce%bd%cf%85%ce%bc%cf%86%ce%af%ce%bf%cf%82-%ce%ad%cf%81%cf%87%ce%b5%cf%84%ce%b1%ce%b9/
LOCATION:Πνευματικό Κέντρο Αγ. Παντελεήμονα\, Έξω Γωνιά\, Σαντορίνη\, 84700\, Greece
CATEGORIES:Συναυλία - Μουσική εκδήλωση
END:VEVENT
BEGIN:VEVENT
DTSTART;TZID=Europe/Athens:20260403T170000
DTEND;TZID=Europe/Athens:20260403T170000
DTSTAMP:20260424T183939
CREATED:20260329T203141Z
LAST-MODIFIED:20260329T203141Z
UID:10048320-1775235600-1775235600@atlantea.news
SUMMARY:Πασχαλινή γιορτή στον Πύργο
DESCRIPTION:
URL:https://atlantea.news/event/%cf%80%ce%b1%cf%83%cf%87%ce%b1%ce%bb%ce%b9%ce%bd%ce%ae-%ce%b3%ce%b9%ce%bf%cf%81%cf%84%ce%ae-%cf%83%cf%84%ce%bf%ce%bd-%cf%80%cf%8d%cf%81%ce%b3%ce%bf/
LOCATION:Κεντρική Πλατεία Πύργου\, Πύργος\, Σαντορίνη\, 84701\, Greece
CATEGORIES:Για παιδιά,Διάφορα
END:VEVENT
BEGIN:VEVENT
DTSTART;TZID=Europe/Athens:20260403T180000
DTEND;TZID=Europe/Athens:20260403T180000
DTSTAMP:20260424T183939
CREATED:20260311T223649Z
LAST-MODIFIED:20260311T231759Z
UID:10048313-1775239200-1775239200@atlantea.news
SUMMARY:Ογκολογική ημερίδα ενημέρωσης
DESCRIPTION:
URL:https://atlantea.news/event/%ce%bf%ce%b3%ce%ba%ce%bf%ce%bb%ce%bf%ce%b3%ce%b9%ce%ba%ce%ae-%ce%b7%ce%bc%ce%b5%cf%81%ce%af%ce%b4%ce%b1-%ce%b5%ce%bd%ce%b7%ce%bc%ce%ad%cf%81%cf%89%cf%83%ce%b7%cf%82/
LOCATION:Μπελλώνειο Πολιτιστικό Κέντρο\, Φηρά\, Σαντορίνη\, 84700\, Greece
CATEGORIES:Ομιλία
END:VEVENT
BEGIN:VEVENT
DTSTART;TZID=Europe/Athens:20260404T190000
DTEND;TZID=Europe/Athens:20260404T190000
DTSTAMP:20260424T183939
CREATED:20260123T215039Z
LAST-MODIFIED:20260403T135925Z
UID:10048278-1775329200-1775329200@atlantea.news
SUMMARY:Κονσέρτο κλασικής μουσικής
DESCRIPTION:
URL:https://atlantea.news/event/%ce%ba%ce%bf%ce%bd%cf%83%ce%ad%cf%81%cf%84%ce%bf-%ce%ba%ce%bb%ce%b1%cf%83%ce%b9%ce%ba%ce%ae%cf%82-%ce%bc%ce%bf%cf%85%cf%83%ce%b9%ce%ba%ce%ae%cf%82/
LOCATION:Μπελλώνειο Πολιτιστικό Κέντρο\, Φηρά\, Σαντορίνη\, 84700\, Greece
CATEGORIES:Συναυλία - Μουσική εκδήλωση
END:VEVENT
BEGIN:VEVENT
DTSTART;TZID=Europe/Athens:20260405T110000
DTEND;TZID=Europe/Athens:20260405T110000
DTSTAMP:20260424T183939
CREATED:20260327T185831Z
LAST-MODIFIED:20260327T190356Z
UID:10048319-1775386800-1775386800@atlantea.news
SUMMARY:Ανθοέκθεση και workshops
DESCRIPTION:
URL:https://atlantea.news/event/%ce%b1%ce%bd%ce%b8%ce%bf%ce%ad%ce%ba%ce%b8%ce%b5%cf%83%ce%b7-%ce%ba%ce%b1%ce%b9-workshops/
LOCATION:Δημοτικό σχολείο Μεσαριάς\, Μεσαριά\, Σαντορίνη\, 84700\, Greece
CATEGORIES:Για παιδιά,Διάφορα
GEO:36.3990884;25.4477265
X-APPLE-STRUCTURED-LOCATION;VALUE=URI;X-ADDRESS=Δημοτικό σχολείο Μεσαριάς Μεσαριά Σαντορίνη 84700 Greece;X-APPLE-RADIUS=500;X-TITLE=Μεσαριά:geo:25.4477265,36.3990884
END:VEVENT
BEGIN:VEVENT
DTSTART;TZID=Europe/Athens:20260405T120000
DTEND;TZID=Europe/Athens:20260405T200000
DTSTAMP:20260424T183939
CREATED:20251113T092827Z
LAST-MODIFIED:20251113T110504Z
UID:10048167-1775390400-1775419200@atlantea.news
SUMMARY:3η έκθεση κρασιού Estέres
DESCRIPTION:
URL:https://atlantea.news/event/3%ce%b7-%ce%ad%ce%ba%ce%b8%ce%b5%cf%83%ce%b7-%ce%ba%cf%81%ce%b1%cf%83%ce%b9%ce%bf%cf%8d-est%ce%adres/
LOCATION:Εστιατόριο Πύργος\, Πύργος\, Σαντορίνη\, 84701\, Greece
CATEGORIES:Έκθεση
ORGANIZER;CN="SanDrops":MAILTO:info@sandrops.gr
END:VEVENT
END:VCALENDAR