BEGIN:VCALENDAR
VERSION:2.0
PRODID:-//Atlantea - ECPv6.15.9//NONSGML v1.0//EN
CALSCALE:GREGORIAN
METHOD:PUBLISH
X-WR-CALNAME:Atlantea
X-ORIGINAL-URL:https://atlantea.news
X-WR-CALDESC:Events for Atlantea
REFRESH-INTERVAL;VALUE=DURATION:PT1H
X-Robots-Tag:noindex
X-PUBLISHED-TTL:PT1H
BEGIN:VTIMEZONE
TZID:Europe/Athens
BEGIN:DAYLIGHT
TZOFFSETFROM:+0200
TZOFFSETTO:+0300
TZNAME:EEST
DTSTART:20240331T010000
END:DAYLIGHT
BEGIN:STANDARD
TZOFFSETFROM:+0300
TZOFFSETTO:+0200
TZNAME:EET
DTSTART:20241027T010000
END:STANDARD
BEGIN:DAYLIGHT
TZOFFSETFROM:+0200
TZOFFSETTO:+0300
TZNAME:EEST
DTSTART:20250330T010000
END:DAYLIGHT
BEGIN:STANDARD
TZOFFSETFROM:+0300
TZOFFSETTO:+0200
TZNAME:EET
DTSTART:20251026T010000
END:STANDARD
BEGIN:DAYLIGHT
TZOFFSETFROM:+0200
TZOFFSETTO:+0300
TZNAME:EEST
DTSTART:20260329T010000
END:DAYLIGHT
BEGIN:STANDARD
TZOFFSETFROM:+0300
TZOFFSETTO:+0200
TZNAME:EET
DTSTART:20261025T010000
END:STANDARD
BEGIN:DAYLIGHT
TZOFFSETFROM:+0200
TZOFFSETTO:+0300
TZNAME:EEST
DTSTART:20270328T010000
END:DAYLIGHT
BEGIN:STANDARD
TZOFFSETFROM:+0300
TZOFFSETTO:+0200
TZNAME:EET
DTSTART:20271031T010000
END:STANDARD
END:VTIMEZONE
BEGIN:VEVENT
DTSTART;TZID=Europe/Athens:20260417T190000
DTEND;TZID=Europe/Athens:20260417T190000
DTSTAMP:20260421T161853
CREATED:20260123T215228Z
LAST-MODIFIED:20260414T071102Z
UID:10048280-1776452400-1776452400@atlantea.news
SUMMARY:"Passing Ships"
DESCRIPTION:
URL:https://atlantea.news/event/passing-ships/
LOCATION:Μπελλώνειο Πολιτιστικό Κέντρο\, Φηρά\, Σαντορίνη\, 84700\, Greece
CATEGORIES:Συναυλία - Μουσική εκδήλωση
END:VEVENT
BEGIN:VEVENT
DTSTART;TZID=Europe/Athens:20260407T203000
DTEND;TZID=Europe/Athens:20260407T203000
DTSTAMP:20260421T161853
CREATED:20260403T133410Z
LAST-MODIFIED:20260403T135327Z
UID:10048323-1775593800-1775593800@atlantea.news
SUMMARY:Συναυλία θρησκευτικής μουσικής
DESCRIPTION:
URL:https://atlantea.news/event/%cf%83%cf%85%ce%bd%ce%b1%cf%85%ce%bb%ce%af%ce%b1-%ce%b8%cf%81%ce%b7%cf%83%ce%ba%ce%b5%cf%85%cf%84%ce%b9%ce%ba%ce%ae%cf%82-%ce%bc%ce%bf%cf%85%cf%83%ce%b9%ce%ba%ce%ae%cf%82/
LOCATION:Μπελλώνειο Πολιτιστικό Κέντρο\, Φηρά\, Σαντορίνη\, 84700\, Greece
CATEGORIES:Συναυλία - Μουσική εκδήλωση
END:VEVENT
BEGIN:VEVENT
DTSTART;TZID=Europe/Athens:20260404T190000
DTEND;TZID=Europe/Athens:20260404T190000
DTSTAMP:20260421T161853
CREATED:20260123T215039Z
LAST-MODIFIED:20260403T135925Z
UID:10048278-1775329200-1775329200@atlantea.news
SUMMARY:Κονσέρτο κλασικής μουσικής
DESCRIPTION:
URL:https://atlantea.news/event/%ce%ba%ce%bf%ce%bd%cf%83%ce%ad%cf%81%cf%84%ce%bf-%ce%ba%ce%bb%ce%b1%cf%83%ce%b9%ce%ba%ce%ae%cf%82-%ce%bc%ce%bf%cf%85%cf%83%ce%b9%ce%ba%ce%ae%cf%82/
LOCATION:Μπελλώνειο Πολιτιστικό Κέντρο\, Φηρά\, Σαντορίνη\, 84700\, Greece
CATEGORIES:Συναυλία - Μουσική εκδήλωση
END:VEVENT
BEGIN:VEVENT
DTSTART;TZID=Europe/Athens:20260403T180000
DTEND;TZID=Europe/Athens:20260403T180000
DTSTAMP:20260421T161853
CREATED:20260311T223649Z
LAST-MODIFIED:20260311T231759Z
UID:10048313-1775239200-1775239200@atlantea.news
SUMMARY:Ογκολογική ημερίδα ενημέρωσης
DESCRIPTION:
URL:https://atlantea.news/event/%ce%bf%ce%b3%ce%ba%ce%bf%ce%bb%ce%bf%ce%b3%ce%b9%ce%ba%ce%ae-%ce%b7%ce%bc%ce%b5%cf%81%ce%af%ce%b4%ce%b1-%ce%b5%ce%bd%ce%b7%ce%bc%ce%ad%cf%81%cf%89%cf%83%ce%b7%cf%82/
LOCATION:Μπελλώνειο Πολιτιστικό Κέντρο\, Φηρά\, Σαντορίνη\, 84700\, Greece
CATEGORIES:Ομιλία
END:VEVENT
BEGIN:VEVENT
DTSTART;TZID=Europe/Athens:20260402T190000
DTEND;TZID=Europe/Athens:20260402T190000
DTSTAMP:20260421T161853
CREATED:20260123T214847Z
LAST-MODIFIED:20260330T075244Z
UID:10048277-1775156400-1775156400@atlantea.news
SUMMARY:Ο λαγός έβαψε τα αυγά
DESCRIPTION:
URL:https://atlantea.news/event/%ce%bf-%ce%bb%ce%b1%ce%b3%cf%8c%cf%82-%ce%ad%ce%b2%ce%b1%cf%88%ce%b5-%cf%84%ce%b1-%ce%b1%cf%85%ce%b3%ce%ac/
LOCATION:Μπελλώνειο Πολιτιστικό Κέντρο\, Φηρά\, Σαντορίνη\, 84700\, Greece
CATEGORIES:Για παιδιά,Θέατρο
END:VEVENT
BEGIN:VEVENT
DTSTART;TZID=Europe/Athens:20260328T190000
DTEND;TZID=Europe/Athens:20260328T190000
DTSTAMP:20260421T161853
CREATED:20260123T214534Z
LAST-MODIFIED:20260123T214606Z
UID:10048276-1774724400-1774724400@atlantea.news
SUMMARY:Μesi Yi
DESCRIPTION:Από το Michalis Brouzos Trio
URL:https://atlantea.news/event/%ce%bcesi-yi/
LOCATION:Μπελλώνειο Πολιτιστικό Κέντρο\, Φηρά\, Σαντορίνη\, 84700\, Greece
CATEGORIES:Συναυλία - Μουσική εκδήλωση
END:VEVENT
BEGIN:VEVENT
DTSTART;TZID=Europe/Athens:20260327T193000
DTEND;TZID=Europe/Athens:20260327T193000
DTSTAMP:20260421T161853
CREATED:20260317T143727Z
LAST-MODIFIED:20260317T145402Z
UID:10048314-1774639800-1774639800@atlantea.news
SUMMARY:Ενημερωτική εκδήλωση για το ηφαίστειο
DESCRIPTION:Δείτε περισσότερα εδώ.
URL:https://atlantea.news/event/%ce%b5%ce%bd%ce%b7%ce%bc%ce%b5%cf%81%cf%89%cf%84%ce%b9%ce%ba%ce%ae-%ce%b5%ce%ba%ce%b4%ce%ae%ce%bb%cf%89%cf%83%ce%b7-%ce%b3%ce%b9%ce%b1-%cf%84%ce%bf-%ce%b7%cf%86%ce%b1%ce%af%cf%83%cf%84%ce%b5%ce%b9-4/
LOCATION:Μπελλώνειο Πολιτιστικό Κέντρο\, Φηρά\, Σαντορίνη\, 84700\, Greece
CATEGORIES:Ομιλία
ORGANIZER;CN="%CE%99.%CE%9C.%CE%A0.%CE%97.%CE%A3. - %CE%99%CE%BD%CF%83%CF%84%CE%B9%CF%84%CE%BF%CF%8D%CF%84%CE%BF %CE%9C%CE%B5%CE%BB%CE%AD%CF%84%CE%B7%CF%82 & %CE%A0%CE%B1%CF%81%CE%B1%CE%BA%CE%BF%CE%BB%CE%BF%CF%8D%CE%B8%CE%B7%CF%83%CE%B7%CF%82 %CE%97%CF%86%CE%B1%CE%B9%CF%83%CF%84%CE%B5%CE%AF%CE%BF%CF%85 %CE%A3%CE%B1%CE%BD%CF%84%CE%BF%CF%81%CE%AF%CE%BD%CE%B7%CF%82":MAILTO:ismosav@otenet.gr
END:VEVENT
BEGIN:VEVENT
DTSTART;TZID=Europe/Athens:20260321T190000
DTEND;TZID=Europe/Athens:20260321T190000
DTSTAMP:20260421T161853
CREATED:20260123T214232Z
LAST-MODIFIED:20260123T214335Z
UID:10048275-1774119600-1774119600@atlantea.news
SUMMARY:"Μια αγκαλιά τραγούδια"
DESCRIPTION:Με τους Μαρία Χαμίς και Μάριο Μαρώλια
URL:https://atlantea.news/event/%ce%bc%ce%b9%ce%b1-%ce%b1%ce%b3%ce%ba%ce%b1%ce%bb%ce%b9%ce%ac-%cf%84%cf%81%ce%b1%ce%b3%ce%bf%cf%8d%ce%b4%ce%b9%ce%b1/
LOCATION:Μπελλώνειο Πολιτιστικό Κέντρο\, Φηρά\, Σαντορίνη\, 84700\, Greece
CATEGORIES:Συναυλία - Μουσική εκδήλωση
END:VEVENT
BEGIN:VEVENT
DTSTART;TZID=Europe/Athens:20260314T190000
DTEND;TZID=Europe/Athens:20260314T190000
DTSTAMP:20260421T161854
CREATED:20260123T213828Z
LAST-MODIFIED:20260123T213840Z
UID:10048274-1773514800-1773514800@atlantea.news
SUMMARY:"…Ever Ours: Μουσικοί Διάλογοι στον Μπετόβεν"
DESCRIPTION:Με τους Εύη Δελφινοπούλου\, Δημήτρη Πάτρα και Μαριλένα Λιακοπούλου
URL:https://atlantea.news/event/ever-ours-%ce%bc%ce%bf%cf%85%cf%83%ce%b9%ce%ba%ce%bf%ce%af-%ce%b4%ce%b9%ce%ac%ce%bb%ce%bf%ce%b3%ce%bf%ce%b9-%cf%83%cf%84%ce%bf%ce%bd-%ce%bc%cf%80%ce%b5%cf%84%cf%8c%ce%b2%ce%b5%ce%bd/
LOCATION:Μπελλώνειο Πολιτιστικό Κέντρο\, Φηρά\, Σαντορίνη\, 84700\, Greece
CATEGORIES:Συναυλία - Μουσική εκδήλωση
END:VEVENT
BEGIN:VEVENT
DTSTART;TZID=Europe/Athens:20260308T190000
DTEND;TZID=Europe/Athens:20260308T190000
DTSTAMP:20260421T161854
CREATED:20260123T213531Z
LAST-MODIFIED:20260123T213701Z
UID:10048273-1772996400-1772996400@atlantea.news
SUMMARY:Αφιέρωμα στους μεγάλους λαϊκούς και έντεχνους συνθέτες
DESCRIPTION:Από τον Μανώλη Φύτρο
URL:https://atlantea.news/event/%ce%b1%cf%86%ce%b9%ce%ad%cf%81%cf%89%ce%bc%ce%b1-%cf%83%cf%84%ce%bf%cf%85%cf%82-%ce%bc%ce%b5%ce%b3%ce%ac%ce%bb%ce%bf%cf%85%cf%82-%ce%bb%ce%b1%cf%8a%ce%ba%ce%bf%cf%8d%cf%82-%ce%ba%ce%b1%ce%b9-%ce%ad/
LOCATION:Μπελλώνειο Πολιτιστικό Κέντρο\, Φηρά\, Σαντορίνη\, 84700\, Greece
CATEGORIES:Συναυλία - Μουσική εκδήλωση
END:VEVENT
BEGIN:VEVENT
DTSTART;TZID=Europe/Athens:20260301T190000
DTEND;TZID=Europe/Athens:20260301T190000
DTSTAMP:20260421T161854
CREATED:20260123T213242Z
LAST-MODIFIED:20260227T105320Z
UID:10048272-1772391600-1772391600@atlantea.news
SUMMARY:Ένα σακί τραγούδια
DESCRIPTION:
URL:https://atlantea.news/event/%ce%ad%ce%bd%ce%b1-%cf%83%ce%b1%ce%ba%ce%af-%cf%84%cf%81%ce%b1%ce%b3%ce%bf%cf%8d%ce%b4%ce%b9%ce%b1/
LOCATION:Μπελλώνειο Πολιτιστικό Κέντρο\, Φηρά\, Σαντορίνη\, 84700\, Greece
CATEGORIES:Συναυλία - Μουσική εκδήλωση
END:VEVENT
BEGIN:VEVENT
DTSTART;TZID=Europe/Athens:20260228T173000
DTEND;TZID=Europe/Athens:20260228T200000
DTSTAMP:20260421T161854
CREATED:20260224T092547Z
LAST-MODIFIED:20260224T092813Z
UID:10048303-1772299800-1772308800@atlantea.news
SUMMARY:Σακχαρώδης Διαβήτης: Από το χθες έως το αύριο
DESCRIPTION:Δείτε περισσότερα εδώ
URL:https://atlantea.news/event/%cf%83%ce%b1%ce%ba%cf%87%ce%b1%cf%81%cf%8e%ce%b4%ce%b7%cf%82-%ce%b4%ce%b9%ce%b1%ce%b2%ce%ae%cf%84%ce%b7%cf%82-%ce%b1%cf%80%cf%8c-%cf%84%ce%bf-%cf%87%ce%b8%ce%b5%cf%82-%ce%ad%cf%89%cf%82-%cf%84%ce%bf/
LOCATION:Εστία Πύργου\, Πύργος\, Σαντορίνη\, 84701\, Greece
CATEGORIES:Ομιλία
END:VEVENT
BEGIN:VEVENT
DTSTART;TZID=Europe/Athens:20260222T120000
DTEND;TZID=Europe/Athens:20260222T120000
DTSTAMP:20260421T161854
CREATED:20260128T095433Z
LAST-MODIFIED:20260216T195530Z
UID:10048283-1771761600-1771761600@atlantea.news
SUMMARY:Καρναβαλική Μαθητική Παρέλαση
DESCRIPTION:
URL:https://atlantea.news/event/%ce%ba%ce%b1%cf%81%ce%bd%ce%b1%ce%b2%ce%b1%ce%bb%ce%b9%ce%ba%ce%ae-%ce%bc%ce%b1%ce%b8%ce%b7%cf%84%ce%b9%ce%ba%ce%ae-%cf%80%ce%b1%cf%81%ce%ad%ce%bb%ce%b1%cf%83%ce%b7/
LOCATION:Φηρά\, Φηρά\, Σαντορίνη\, 84700\, Greece
CATEGORIES:Διάφορα
GEO:36.42;25.431667
X-APPLE-STRUCTURED-LOCATION;VALUE=URI;X-ADDRESS=Φηρά Φηρά Σαντορίνη 84700 Greece;X-APPLE-RADIUS=500;X-TITLE=Φηρά:geo:25.431667,36.42
END:VEVENT
BEGIN:VEVENT
DTSTART;TZID=Europe/Athens:20260214T183000
DTEND;TZID=Europe/Athens:20260214T183000
DTSTAMP:20260421T161854
CREATED:20260123T213044Z
LAST-MODIFIED:20260210T125612Z
UID:10048271-1771093800-1771093800@atlantea.news
SUMMARY:Ζαχαρωτά Τραγούδια
DESCRIPTION:
URL:https://atlantea.news/event/%ce%b6%ce%b1%cf%87%ce%b1%cf%81%cf%89%cf%84%ce%ac-%cf%84%cf%81%ce%b1%ce%b3%ce%bf%cf%8d%ce%b4%ce%b9%ce%b1/
LOCATION:Μπελλώνειο Πολιτιστικό Κέντρο\, Φηρά\, Σαντορίνη\, 84700\, Greece
CATEGORIES:Για παιδιά,Συναυλία - Μουσική εκδήλωση
END:VEVENT
BEGIN:VEVENT
DTSTART;TZID=Europe/Athens:20260213T183000
DTEND;TZID=Europe/Athens:20260213T183000
DTSTAMP:20260421T161854
CREATED:20260123T212548Z
LAST-MODIFIED:20260210T104617Z
UID:10048270-1771007400-1771007400@atlantea.news
SUMMARY:Ο Αττίκ στο Παρίσι και άλλες ιστορίες
DESCRIPTION:
URL:https://atlantea.news/event/%ce%bf-%ce%b1%cf%84%cf%84%ce%af%ce%ba-%cf%83%cf%84%ce%bf-%cf%80%ce%b1%cf%81%ce%af%cf%83%ce%b9-%ce%ba%ce%b1%ce%b9-%ce%ac%ce%bb%ce%bb%ce%b5%cf%82-%ce%b9%cf%83%cf%84%ce%bf%cf%81%ce%af%ce%b5%cf%82-2/
LOCATION:Μπελλώνειο Πολιτιστικό Κέντρο\, Φηρά\, Σαντορίνη\, 84700\, Greece
CATEGORIES:Συναυλία - Μουσική εκδήλωση
END:VEVENT
BEGIN:VEVENT
DTSTART;TZID=Europe/Athens:20260207T183000
DTEND;TZID=Europe/Athens:20260207T183000
DTSTAMP:20260421T161854
CREATED:20260123T212241Z
LAST-MODIFIED:20260203T202826Z
UID:10048269-1770489000-1770489000@atlantea.news
SUMMARY:Τα "Μ" του ελληνικού τραγουδιού
DESCRIPTION:
URL:https://atlantea.news/event/%cf%84%ce%b1-%ce%bc-%cf%84%ce%bf%cf%85-%ce%b5%ce%bb%ce%bb%ce%b7%ce%bd%ce%b9%ce%ba%ce%bf%cf%8d-%cf%84%cf%81%ce%b1%ce%b3%ce%bf%cf%85%ce%b4%ce%b9%ce%bf%cf%8d/
LOCATION:Μπελλώνειο Πολιτιστικό Κέντρο\, Φηρά\, Σαντορίνη\, 84700\, Greece
CATEGORIES:Συναυλία - Μουσική εκδήλωση
END:VEVENT
BEGIN:VEVENT
DTSTART;TZID=Europe/Athens:20260125T193000
DTEND;TZID=Europe/Athens:20260125T193000
DTSTAMP:20260421T161854
CREATED:20260120T121626Z
LAST-MODIFIED:20260120T141655Z
UID:10048265-1769369400-1769369400@atlantea.news
SUMMARY:Μουσικό αφιέρωμα στον Δημήτρη Μητροπάνο
DESCRIPTION:Δείτε περισσότερα εδώ
URL:https://atlantea.news/event/%ce%bc%ce%bf%cf%85%cf%83%ce%b9%ce%ba%cf%8c-%ce%b1%cf%86%ce%b9%ce%ad%cf%81%cf%89%ce%bc%ce%b1-%cf%83%cf%84%ce%bf%ce%bd-%ce%b4%ce%b7%ce%bc%ce%ae%cf%84%cf%81%ce%b7-%ce%bc%ce%b7%cf%84%cf%81%ce%bf%cf%80/
LOCATION:Μπελλώνειο Πολιτιστικό Κέντρο\, Φηρά\, Σαντορίνη\, 84700\, Greece
CATEGORIES:Συναυλία - Μουσική εκδήλωση
END:VEVENT
BEGIN:VEVENT
DTSTART;TZID=Europe/Athens:20260122T103000
DTEND;TZID=Europe/Athens:20260122T123000
DTSTAMP:20260421T161854
CREATED:20260119T115723Z
LAST-MODIFIED:20260119T115820Z
UID:10048261-1769077800-1769085000@atlantea.news
SUMMARY:Ενημερωτική συνάντηση για το μέλλον της Θηρασιάς
DESCRIPTION:Δείτε περισσότερα εδώ
URL:https://atlantea.news/event/%ce%b5%ce%bd%ce%b7%ce%bc%ce%b5%cf%81%cf%89%cf%84%ce%b9%ce%ba%ce%ae-%cf%83%cf%85%ce%bd%ce%ac%ce%bd%cf%84%ce%b7%cf%83%ce%b7-%ce%b3%ce%b9%ce%b1-%cf%84%ce%bf-%ce%bc%ce%ad%ce%bb%ce%bb%ce%bf%ce%bd-%cf%84/
LOCATION:Αίθουσα Κοινότητας Θηρασιάς\, Θηρασιά
CATEGORIES:Διάφορα
END:VEVENT
BEGIN:VEVENT
DTSTART;TZID=Europe/Athens:20260110T183000
DTEND;TZID=Europe/Athens:20260110T183000
DTSTAMP:20260421T161854
CREATED:20260108T114139Z
LAST-MODIFIED:20260108T144101Z
UID:10048256-1768069800-1768069800@atlantea.news
SUMMARY:Μουσικές διαδρομές με τους Ma Non Troppo
DESCRIPTION:Δείτε περισσότερα εδώ
URL:https://atlantea.news/event/%ce%bc%ce%bf%cf%85%cf%83%ce%b9%ce%ba%ce%ad%cf%82-%ce%b4%ce%b9%ce%b1%ce%b4%cf%81%ce%bf%ce%bc%ce%ad%cf%82-%ce%bc%ce%b5-%cf%84%ce%bf%cf%85%cf%82-ma-non-troppo/
LOCATION:Μπελλώνειο Πολιτιστικό Κέντρο\, Φηρά\, Σαντορίνη\, 84700\, Greece
CATEGORIES:Συναυλία - Μουσική εκδήλωση
END:VEVENT
BEGIN:VEVENT
DTSTART;TZID=Europe/Athens:20260107T170000
DTEND;TZID=Europe/Athens:20260107T210000
DTSTAMP:20260421T161854
CREATED:20251205T231207Z
LAST-MODIFIED:20251205T231207Z
UID:10048227-1767805200-1767819600@atlantea.news
SUMMARY:Χριστουγεννιάτικο Χωριό
DESCRIPTION:
URL:https://atlantea.news/event/%cf%87%cf%81%ce%b9%cf%83%cf%84%ce%bf%cf%85%ce%b3%ce%b5%ce%bd%ce%bd%ce%b9%ce%ac%cf%84%ce%b9%ce%ba%ce%bf-%cf%87%cf%89%cf%81%ce%b9%cf%8c-11/2026-01-07/
LOCATION:Κεντρική Πλατεία Φηρών\, Φηρά\, Σαντορίνη\, 84700\, Greece
CATEGORIES:Διάφορα
END:VEVENT
BEGIN:VEVENT
DTSTART;TZID=Europe/Athens:20260106T170000
DTEND;TZID=Europe/Athens:20260106T210000
DTSTAMP:20260421T161854
CREATED:20251205T231207Z
LAST-MODIFIED:20251205T231207Z
UID:10048226-1767718800-1767733200@atlantea.news
SUMMARY:Χριστουγεννιάτικο Χωριό
DESCRIPTION:
URL:https://atlantea.news/event/%cf%87%cf%81%ce%b9%cf%83%cf%84%ce%bf%cf%85%ce%b3%ce%b5%ce%bd%ce%bd%ce%b9%ce%ac%cf%84%ce%b9%ce%ba%ce%bf-%cf%87%cf%89%cf%81%ce%b9%cf%8c-11/2026-01-06/
LOCATION:Κεντρική Πλατεία Φηρών\, Φηρά\, Σαντορίνη\, 84700\, Greece
CATEGORIES:Διάφορα
END:VEVENT
BEGIN:VEVENT
DTSTART;TZID=Europe/Athens:20260105T170000
DTEND;TZID=Europe/Athens:20260105T210000
DTSTAMP:20260421T161854
CREATED:20251205T231207Z
LAST-MODIFIED:20251205T231207Z
UID:10048225-1767632400-1767646800@atlantea.news
SUMMARY:Χριστουγεννιάτικο Χωριό
DESCRIPTION:
URL:https://atlantea.news/event/%cf%87%cf%81%ce%b9%cf%83%cf%84%ce%bf%cf%85%ce%b3%ce%b5%ce%bd%ce%bd%ce%b9%ce%ac%cf%84%ce%b9%ce%ba%ce%bf-%cf%87%cf%89%cf%81%ce%b9%cf%8c-11/2026-01-05/
LOCATION:Κεντρική Πλατεία Φηρών\, Φηρά\, Σαντορίνη\, 84700\, Greece
CATEGORIES:Διάφορα
END:VEVENT
BEGIN:VEVENT
DTSTART;TZID=Europe/Athens:20260104T183000
DTEND;TZID=Europe/Athens:20260104T183000
DTSTAMP:20260421T161854
CREATED:20251209T113242Z
LAST-MODIFIED:20251209T113324Z
UID:10048239-1767551400-1767551400@atlantea.news
SUMMARY:Μουσική εκδήλωση με τον Θοδωρή Κουέλη και τον Νίκο Γκιόλια
DESCRIPTION:Με παραδοσιακή και έντεχνη μουσική
URL:https://atlantea.news/event/%ce%bc%ce%bf%cf%85%cf%83%ce%b9%ce%ba%ce%ae-%ce%b5%ce%ba%ce%b4%ce%ae%ce%bb%cf%89%cf%83%ce%b7-%ce%bc%ce%b5-%cf%84%ce%bf%ce%bd-%ce%b8%ce%bf%ce%b4%cf%89%cf%81%ce%ae-%ce%ba%ce%bf%cf%85%ce%ad%ce%bb%ce%b7/
LOCATION:Μπελλώνειο Πολιτιστικό Κέντρο\, Φηρά\, Σαντορίνη\, 84700\, Greece
CATEGORIES:Συναυλία - Μουσική εκδήλωση
END:VEVENT
BEGIN:VEVENT
DTSTART;TZID=Europe/Athens:20260104T140000
DTEND;TZID=Europe/Athens:20260104T210000
DTSTAMP:20260421T161854
CREATED:20251205T230834Z
LAST-MODIFIED:20251205T230834Z
UID:10048206-1767535200-1767560400@atlantea.news
SUMMARY:Χριστουγεννιάτικο Χωριό
DESCRIPTION:
URL:https://atlantea.news/event/%cf%87%cf%81%ce%b9%cf%83%cf%84%ce%bf%cf%85%ce%b3%ce%b5%ce%bd%ce%bd%ce%b9%ce%ac%cf%84%ce%b9%ce%ba%ce%bf-%cf%87%cf%89%cf%81%ce%b9%cf%8c-10/2026-01-04/
LOCATION:Κεντρική Πλατεία Φηρών\, Φηρά\, Σαντορίνη\, 84700\, Greece
CATEGORIES:Διάφορα
END:VEVENT
BEGIN:VEVENT
DTSTART;TZID=Europe/Athens:20260103T140000
DTEND;TZID=Europe/Athens:20260103T210000
DTSTAMP:20260421T161854
CREATED:20251205T230834Z
LAST-MODIFIED:20251205T230834Z
UID:10048205-1767448800-1767474000@atlantea.news
SUMMARY:Χριστουγεννιάτικο Χωριό
DESCRIPTION:
URL:https://atlantea.news/event/%cf%87%cf%81%ce%b9%cf%83%cf%84%ce%bf%cf%85%ce%b3%ce%b5%ce%bd%ce%bd%ce%b9%ce%ac%cf%84%ce%b9%ce%ba%ce%bf-%cf%87%cf%89%cf%81%ce%b9%cf%8c-10/2026-01-03/
LOCATION:Κεντρική Πλατεία Φηρών\, Φηρά\, Σαντορίνη\, 84700\, Greece
CATEGORIES:Διάφορα
END:VEVENT
BEGIN:VEVENT
DTSTART;TZID=Europe/Athens:20260102T170000
DTEND;TZID=Europe/Athens:20260102T210000
DTSTAMP:20260421T161854
CREATED:20251205T231207Z
LAST-MODIFIED:20251205T231207Z
UID:10048224-1767373200-1767387600@atlantea.news
SUMMARY:Χριστουγεννιάτικο Χωριό
DESCRIPTION:
URL:https://atlantea.news/event/%cf%87%cf%81%ce%b9%cf%83%cf%84%ce%bf%cf%85%ce%b3%ce%b5%ce%bd%ce%bd%ce%b9%ce%ac%cf%84%ce%b9%ce%ba%ce%bf-%cf%87%cf%89%cf%81%ce%b9%cf%8c-11/2026-01-02/
LOCATION:Κεντρική Πλατεία Φηρών\, Φηρά\, Σαντορίνη\, 84700\, Greece
CATEGORIES:Διάφορα
END:VEVENT
BEGIN:VEVENT
DTSTART;TZID=Europe/Athens:20260101T140000
DTEND;TZID=Europe/Athens:20260101T210000
DTSTAMP:20260421T161854
CREATED:20251205T230834Z
LAST-MODIFIED:20251205T230834Z
UID:10048204-1767276000-1767301200@atlantea.news
SUMMARY:Χριστουγεννιάτικο Χωριό
DESCRIPTION:
URL:https://atlantea.news/event/%cf%87%cf%81%ce%b9%cf%83%cf%84%ce%bf%cf%85%ce%b3%ce%b5%ce%bd%ce%bd%ce%b9%ce%ac%cf%84%ce%b9%ce%ba%ce%bf-%cf%87%cf%89%cf%81%ce%b9%cf%8c-10/2026-01-01/
LOCATION:Κεντρική Πλατεία Φηρών\, Φηρά\, Σαντορίνη\, 84700\, Greece
CATEGORIES:Διάφορα
END:VEVENT
BEGIN:VEVENT
DTSTART;TZID=Europe/Athens:20251231T170000
DTEND;TZID=Europe/Athens:20251231T210000
DTSTAMP:20260421T161854
CREATED:20251205T231207Z
LAST-MODIFIED:20251205T231207Z
UID:10048223-1767200400-1767214800@atlantea.news
SUMMARY:Χριστουγεννιάτικο Χωριό
DESCRIPTION:
URL:https://atlantea.news/event/%cf%87%cf%81%ce%b9%cf%83%cf%84%ce%bf%cf%85%ce%b3%ce%b5%ce%bd%ce%bd%ce%b9%ce%ac%cf%84%ce%b9%ce%ba%ce%bf-%cf%87%cf%89%cf%81%ce%b9%cf%8c-11/2025-12-31/
LOCATION:Κεντρική Πλατεία Φηρών\, Φηρά\, Σαντορίνη\, 84700\, Greece
CATEGORIES:Διάφορα
END:VEVENT
BEGIN:VEVENT
DTSTART;TZID=Europe/Athens:20251230T183000
DTEND;TZID=Europe/Athens:20251230T183000
DTSTAMP:20260421T161854
CREATED:20251209T112938Z
LAST-MODIFIED:20251209T113039Z
UID:10048238-1767119400-1767119400@atlantea.news
SUMMARY:Μουσική εκδήλωση με τους 3 ΟΝ
DESCRIPTION:Με μουσική από τον κινηματογράφο
URL:https://atlantea.news/event/%ce%bc%ce%bf%cf%85%cf%83%ce%b9%ce%ba%ce%ae-%ce%b5%ce%ba%ce%b4%ce%ae%ce%bb%cf%89%cf%83%ce%b7-%ce%bc%ce%b5-%cf%84%ce%bf%cf%85%cf%82-3-%ce%bf%ce%bd/
LOCATION:Μπελλώνειο Πολιτιστικό Κέντρο\, Φηρά\, Σαντορίνη\, 84700\, Greece
CATEGORIES:Συναυλία - Μουσική εκδήλωση
END:VEVENT
BEGIN:VEVENT
DTSTART;TZID=Europe/Athens:20251230T170000
DTEND;TZID=Europe/Athens:20251230T210000
DTSTAMP:20260421T161854
CREATED:20251205T231207Z
LAST-MODIFIED:20251205T231207Z
UID:10048222-1767114000-1767128400@atlantea.news
SUMMARY:Χριστουγεννιάτικο Χωριό
DESCRIPTION:
URL:https://atlantea.news/event/%cf%87%cf%81%ce%b9%cf%83%cf%84%ce%bf%cf%85%ce%b3%ce%b5%ce%bd%ce%bd%ce%b9%ce%ac%cf%84%ce%b9%ce%ba%ce%bf-%cf%87%cf%89%cf%81%ce%b9%cf%8c-11/2025-12-30/
LOCATION:Κεντρική Πλατεία Φηρών\, Φηρά\, Σαντορίνη\, 84700\, Greece
CATEGORIES:Διάφορα
END:VEVENT
END:VCALENDAR