BEGIN:VCALENDAR
VERSION:2.0
PRODID:-//Atlantea - ECPv6.15.9//NONSGML v1.0//EN
CALSCALE:GREGORIAN
METHOD:PUBLISH
X-WR-CALNAME:Atlantea
X-ORIGINAL-URL:https://atlantea.news
X-WR-CALDESC:Events for Atlantea
REFRESH-INTERVAL;VALUE=DURATION:PT1H
X-Robots-Tag:noindex
X-PUBLISHED-TTL:PT1H
BEGIN:VTIMEZONE
TZID:Europe/Athens
BEGIN:DAYLIGHT
TZOFFSETFROM:+0200
TZOFFSETTO:+0300
TZNAME:EEST
DTSTART:20240331T010000
END:DAYLIGHT
BEGIN:STANDARD
TZOFFSETFROM:+0300
TZOFFSETTO:+0200
TZNAME:EET
DTSTART:20241027T010000
END:STANDARD
BEGIN:DAYLIGHT
TZOFFSETFROM:+0200
TZOFFSETTO:+0300
TZNAME:EEST
DTSTART:20250330T010000
END:DAYLIGHT
BEGIN:STANDARD
TZOFFSETFROM:+0300
TZOFFSETTO:+0200
TZNAME:EET
DTSTART:20251026T010000
END:STANDARD
BEGIN:DAYLIGHT
TZOFFSETFROM:+0200
TZOFFSETTO:+0300
TZNAME:EEST
DTSTART:20260329T010000
END:DAYLIGHT
BEGIN:STANDARD
TZOFFSETFROM:+0300
TZOFFSETTO:+0200
TZNAME:EET
DTSTART:20261025T010000
END:STANDARD
END:VTIMEZONE
BEGIN:VTIMEZONE
TZID:Europe/Moscow
BEGIN:STANDARD
TZOFFSETFROM:+0300
TZOFFSETTO:+0300
TZNAME:MSK
DTSTART:20240101T000000
END:STANDARD
END:VTIMEZONE
BEGIN:VEVENT
DTSTART;TZID=Europe/Athens:20251214T140000
DTEND;TZID=Europe/Athens:20251214T210000
DTSTAMP:20260421T181432
CREATED:20251205T230834Z
LAST-MODIFIED:20251205T230834Z
UID:10048198-1765720800-1765746000@atlantea.news
SUMMARY:Χριστουγεννιάτικο Χωριό
DESCRIPTION:
URL:https://atlantea.news/event/%cf%87%cf%81%ce%b9%cf%83%cf%84%ce%bf%cf%85%ce%b3%ce%b5%ce%bd%ce%bd%ce%b9%ce%ac%cf%84%ce%b9%ce%ba%ce%bf-%cf%87%cf%89%cf%81%ce%b9%cf%8c-10/2025-12-14/
LOCATION:Κεντρική Πλατεία Φηρών\, Φηρά\, Σαντορίνη\, 84700\, Greece
CATEGORIES:Διάφορα
END:VEVENT
BEGIN:VEVENT
DTSTART;TZID=Europe/Athens:20251213T183000
DTEND;TZID=Europe/Athens:20251213T183000
DTSTAMP:20260421T181432
CREATED:20251205T232535Z
LAST-MODIFIED:20251205T232640Z
UID:10048231-1765650600-1765650600@atlantea.news
SUMMARY:Εργαστήρι παραμυθιών
DESCRIPTION:
URL:https://atlantea.news/event/%ce%b5%cf%81%ce%b3%ce%b1%cf%83%cf%84%ce%ae%cf%81%ce%b9-%cf%80%ce%b1%cf%81%ce%b1%ce%bc%cf%85%ce%b8%ce%b9%cf%8e%ce%bd/2025-12-13/
LOCATION:Κεντρική Πλατεία Φηρών\, Φηρά\, Σαντορίνη\, 84700\, Greece
CATEGORIES:Για παιδιά
END:VEVENT
BEGIN:VEVENT
DTSTART;TZID=Europe/Athens:20251213T140000
DTEND;TZID=Europe/Athens:20251213T210000
DTSTAMP:20260421T181432
CREATED:20251205T230834Z
LAST-MODIFIED:20251205T230834Z
UID:10048197-1765634400-1765659600@atlantea.news
SUMMARY:Χριστουγεννιάτικο Χωριό
DESCRIPTION:
URL:https://atlantea.news/event/%cf%87%cf%81%ce%b9%cf%83%cf%84%ce%bf%cf%85%ce%b3%ce%b5%ce%bd%ce%bd%ce%b9%ce%ac%cf%84%ce%b9%ce%ba%ce%bf-%cf%87%cf%89%cf%81%ce%b9%cf%8c-10/2025-12-13/
LOCATION:Κεντρική Πλατεία Φηρών\, Φηρά\, Σαντορίνη\, 84700\, Greece
CATEGORIES:Διάφορα
END:VEVENT
BEGIN:VEVENT
DTSTART;TZID=Europe/Athens:20251213T120000
DTEND;TZID=Europe/Athens:20251213T170000
DTSTAMP:20260421T181432
CREATED:20251210T112358Z
LAST-MODIFIED:20251210T112358Z
UID:10048241-1765627200-1765645200@atlantea.news
SUMMARY:Το κοριτσάκι με τα σπίρτα
DESCRIPTION:Από την παιδική θεατρική ομάδα του Δήμου Θήρας \nΔείτε περισσότερα εδώ.
URL:https://atlantea.news/event/%cf%84%ce%bf-%ce%ba%ce%bf%cf%81%ce%b9%cf%84%cf%83%ce%ac%ce%ba%ce%b9-%ce%bc%ce%b5-%cf%84%ce%b1-%cf%83%cf%80%ce%af%cf%81%cf%84%ce%b1/
LOCATION:Μπελλώνειο Πολιτιστικό Κέντρο\, Φηρά\, Σαντορίνη\, 84700\, Greece
CATEGORIES:Θέατρο
END:VEVENT
BEGIN:VEVENT
DTSTART;TZID=Europe/Athens:20251212T170000
DTEND;TZID=Europe/Athens:20251212T210000
DTSTAMP:20260421T181432
CREATED:20251205T231207Z
LAST-MODIFIED:20251205T231207Z
UID:10048211-1765558800-1765573200@atlantea.news
SUMMARY:Χριστουγεννιάτικο Χωριό
DESCRIPTION:
URL:https://atlantea.news/event/%cf%87%cf%81%ce%b9%cf%83%cf%84%ce%bf%cf%85%ce%b3%ce%b5%ce%bd%ce%bd%ce%b9%ce%ac%cf%84%ce%b9%ce%ba%ce%bf-%cf%87%cf%89%cf%81%ce%b9%cf%8c-11/2025-12-12/
LOCATION:Κεντρική Πλατεία Φηρών\, Φηρά\, Σαντορίνη\, 84700\, Greece
CATEGORIES:Διάφορα
END:VEVENT
BEGIN:VEVENT
DTSTART;TZID=Europe/Athens:20251211T170000
DTEND;TZID=Europe/Athens:20251211T210000
DTSTAMP:20260421T181432
CREATED:20251205T231207Z
LAST-MODIFIED:20251205T231207Z
UID:10048210-1765472400-1765486800@atlantea.news
SUMMARY:Χριστουγεννιάτικο Χωριό
DESCRIPTION:
URL:https://atlantea.news/event/%cf%87%cf%81%ce%b9%cf%83%cf%84%ce%bf%cf%85%ce%b3%ce%b5%ce%bd%ce%bd%ce%b9%ce%ac%cf%84%ce%b9%ce%ba%ce%bf-%cf%87%cf%89%cf%81%ce%b9%cf%8c-11/2025-12-11/
LOCATION:Κεντρική Πλατεία Φηρών\, Φηρά\, Σαντορίνη\, 84700\, Greece
CATEGORIES:Διάφορα
END:VEVENT
BEGIN:VEVENT
DTSTART;TZID=Europe/Athens:20251210T170000
DTEND;TZID=Europe/Athens:20251210T210000
DTSTAMP:20260421T181432
CREATED:20251205T231207Z
LAST-MODIFIED:20251205T231207Z
UID:10048209-1765386000-1765400400@atlantea.news
SUMMARY:Χριστουγεννιάτικο Χωριό
DESCRIPTION:
URL:https://atlantea.news/event/%cf%87%cf%81%ce%b9%cf%83%cf%84%ce%bf%cf%85%ce%b3%ce%b5%ce%bd%ce%bd%ce%b9%ce%ac%cf%84%ce%b9%ce%ba%ce%bf-%cf%87%cf%89%cf%81%ce%b9%cf%8c-11/2025-12-10/
LOCATION:Κεντρική Πλατεία Φηρών\, Φηρά\, Σαντορίνη\, 84700\, Greece
CATEGORIES:Διάφορα
END:VEVENT
BEGIN:VEVENT
DTSTART;TZID=Europe/Athens:20251209T170000
DTEND;TZID=Europe/Athens:20251209T210000
DTSTAMP:20260421T181432
CREATED:20251205T231207Z
LAST-MODIFIED:20251205T231207Z
UID:10048208-1765299600-1765314000@atlantea.news
SUMMARY:Χριστουγεννιάτικο Χωριό
DESCRIPTION:
URL:https://atlantea.news/event/%cf%87%cf%81%ce%b9%cf%83%cf%84%ce%bf%cf%85%ce%b3%ce%b5%ce%bd%ce%bd%ce%b9%ce%ac%cf%84%ce%b9%ce%ba%ce%bf-%cf%87%cf%89%cf%81%ce%b9%cf%8c-11/2025-12-09/
LOCATION:Κεντρική Πλατεία Φηρών\, Φηρά\, Σαντορίνη\, 84700\, Greece
CATEGORIES:Διάφορα
END:VEVENT
BEGIN:VEVENT
DTSTART;TZID=Europe/Athens:20251208T180000
DTEND;TZID=Europe/Athens:20251208T180000
DTSTAMP:20260421T181432
CREATED:20251205T232255Z
LAST-MODIFIED:20251206T225647Z
UID:10048230-1765216800-1765216800@atlantea.news
SUMMARY:Μουσικοπαίζω και μαθαίνω
DESCRIPTION:
URL:https://atlantea.news/event/%ce%bc%ce%bf%cf%85%cf%83%ce%b9%ce%ba%ce%bf%cf%80%ce%b1%ce%af%ce%b6%cf%89-%ce%ba%ce%b1%ce%b9-%ce%bc%ce%b1%ce%b8%ce%b1%ce%af%ce%bd%cf%89/
LOCATION:Μπελλώνειο Πολιτιστικό Κέντρο\, Φηρά\, Σαντορίνη\, 84700\, Greece
CATEGORIES:Για παιδιά
END:VEVENT
BEGIN:VEVENT
DTSTART;TZID=Europe/Athens:20251208T170000
DTEND;TZID=Europe/Athens:20251208T210000
DTSTAMP:20260421T181432
CREATED:20251205T231207Z
LAST-MODIFIED:20251205T231207Z
UID:10048207-1765213200-1765227600@atlantea.news
SUMMARY:Χριστουγεννιάτικο Χωριό
DESCRIPTION:
URL:https://atlantea.news/event/%cf%87%cf%81%ce%b9%cf%83%cf%84%ce%bf%cf%85%ce%b3%ce%b5%ce%bd%ce%bd%ce%b9%ce%ac%cf%84%ce%b9%ce%ba%ce%bf-%cf%87%cf%89%cf%81%ce%b9%cf%8c-11/2025-12-08/
LOCATION:Κεντρική Πλατεία Φηρών\, Φηρά\, Σαντορίνη\, 84700\, Greece
CATEGORIES:Διάφορα
END:VEVENT
BEGIN:VEVENT
DTSTART;TZID=Europe/Athens:20251207T183000
DTEND;TZID=Europe/Athens:20251207T183000
DTSTAMP:20260421T181432
CREATED:20251205T231443Z
LAST-MODIFIED:20251206T225224Z
UID:10048228-1765132200-1765132200@atlantea.news
SUMMARY:Ο γύρος των Χριστουγέννων σε 80 νότες
DESCRIPTION:
URL:https://atlantea.news/event/%ce%bf-%ce%b3%cf%8d%cf%81%ce%bf%cf%82-%cf%84%cf%89%ce%bd-%cf%87%cf%81%ce%b9%cf%83%cf%84%ce%bf%cf%85%ce%b3%ce%ad%ce%bd%ce%bd%cf%89%ce%bd-%cf%83%ce%b5-80-%ce%bd%cf%8c%cf%84%ce%b5%cf%82/
LOCATION:Κεντρική Πλατεία Φηρών\, Φηρά\, Σαντορίνη\, 84700\, Greece
CATEGORIES:Συναυλία - Μουσική εκδήλωση
END:VEVENT
BEGIN:VEVENT
DTSTART;TZID=Europe/Athens:20251207T180000
DTEND;TZID=Europe/Athens:20251207T180000
DTSTAMP:20260421T181432
CREATED:20251205T231657Z
LAST-MODIFIED:20251205T231748Z
UID:10048229-1765130400-1765130400@atlantea.news
SUMMARY:Φωταγώγηση χριστουγεννιάτικου δέντρου στα Φηρά
DESCRIPTION:
URL:https://atlantea.news/event/%cf%86%cf%89%cf%84%ce%b1%ce%b3%cf%8e%ce%b3%ce%b7%cf%83%ce%b7-%cf%87%cf%81%ce%b9%cf%83%cf%84%ce%bf%cf%85%ce%b3%ce%b5%ce%bd%ce%bd%ce%b9%ce%ac%cf%84%ce%b9%ce%ba%ce%bf%cf%85-%ce%b4%ce%ad%ce%bd%cf%84%cf%81/
LOCATION:Κεντρική Πλατεία Φηρών\, Φηρά\, Σαντορίνη\, 84700\, Greece
CATEGORIES:Διάφορα
END:VEVENT
BEGIN:VEVENT
DTSTART;TZID=Europe/Athens:20251207T140000
DTEND;TZID=Europe/Athens:20251207T210000
DTSTAMP:20260421T181432
CREATED:20251205T230834Z
LAST-MODIFIED:20251205T230834Z
UID:10048196-1765116000-1765141200@atlantea.news
SUMMARY:Χριστουγεννιάτικο Χωριό
DESCRIPTION:
URL:https://atlantea.news/event/%cf%87%cf%81%ce%b9%cf%83%cf%84%ce%bf%cf%85%ce%b3%ce%b5%ce%bd%ce%bd%ce%b9%ce%ac%cf%84%ce%b9%ce%ba%ce%bf-%cf%87%cf%89%cf%81%ce%b9%cf%8c-10/2025-12-07/
LOCATION:Κεντρική Πλατεία Φηρών\, Φηρά\, Σαντορίνη\, 84700\, Greece
CATEGORIES:Διάφορα
END:VEVENT
BEGIN:VEVENT
DTSTART;TZID=Europe/Athens:20251119T093000
DTEND;TZID=Europe/Athens:20251119T140000
DTSTAMP:20260421T181432
CREATED:20251114T145235Z
LAST-MODIFIED:20251114T150519Z
UID:10048169-1763544600-1763560800@atlantea.news
SUMMARY:"Σχεδιάζοντας τον προορισμό του αύριο"
DESCRIPTION:Δείτε περισσότερα εδώ
URL:https://atlantea.news/event/%cf%83%cf%87%ce%b5%ce%b4%ce%b9%ce%ac%ce%b6%ce%bf%ce%bd%cf%84%ce%b1%cf%82-%cf%84%ce%bf%ce%bd-%cf%80%cf%81%ce%bf%ce%bf%cf%81%ce%b9%cf%83%ce%bc%cf%8c-%cf%84%ce%bf%cf%85-%ce%b1%cf%8d%cf%81%ce%b9%ce%bf/
LOCATION:Μπελλώνειο Πολιτιστικό Κέντρο\, Φηρά\, Σαντορίνη\, 84700\, Greece
CATEGORIES:Σεμινάριο
END:VEVENT
BEGIN:VEVENT
DTSTART;TZID=Europe/Athens:20251115T193000
DTEND;TZID=Europe/Athens:20251115T193000
DTSTAMP:20260421T181432
CREATED:20251104T222107Z
LAST-MODIFIED:20251104T222322Z
UID:10048164-1763235000-1763235000@atlantea.news
SUMMARY:Τα Ηφαίστεια της Σαντορίνης - Ενημέρωση για την κατάστασή τους
DESCRIPTION:Δείτε περισσότερα εδώ
URL:https://atlantea.news/event/%cf%84%ce%b1-%ce%b7%cf%86%ce%b1%ce%af%cf%83%cf%84%ce%b5%ce%b9%ce%b1-%cf%84%ce%b7%cf%82-%cf%83%ce%b1%ce%bd%cf%84%ce%bf%cf%81%ce%af%ce%bd%ce%b7%cf%82-%ce%b5%ce%bd%ce%b7%ce%bc%ce%ad%cf%81%cf%89%cf%83-3/
LOCATION:Μπελλώνειο Πολιτιστικό Κέντρο\, Φηρά\, Σαντορίνη\, 84700\, Greece
CATEGORIES:Ομιλία
ORGANIZER;CN="%CE%99.%CE%9C.%CE%A0.%CE%97.%CE%A3. - %CE%99%CE%BD%CF%83%CF%84%CE%B9%CF%84%CE%BF%CF%8D%CF%84%CE%BF %CE%9C%CE%B5%CE%BB%CE%AD%CF%84%CE%B7%CF%82 & %CE%A0%CE%B1%CF%81%CE%B1%CE%BA%CE%BF%CE%BB%CE%BF%CF%8D%CE%B8%CE%B7%CF%83%CE%B7%CF%82 %CE%97%CF%86%CE%B1%CE%B9%CF%83%CF%84%CE%B5%CE%AF%CE%BF%CF%85 %CE%A3%CE%B1%CE%BD%CF%84%CE%BF%CF%81%CE%AF%CE%BD%CE%B7%CF%82":MAILTO:ismosav@otenet.gr
END:VEVENT
BEGIN:VEVENT
DTSTART;TZID=Europe/Moscow:20251024T100000
DTEND;TZID=Europe/Moscow:20251024T180000
DTSTAMP:20260421T181432
CREATED:20250703T131153Z
LAST-MODIFIED:20250703T131153Z
UID:10047113-1761300000-1761328800@atlantea.news
SUMMARY:Έκθεση ζωγραφικής "Θηραϊκές Τελετουργίες"
DESCRIPTION:Της Άρτεμης Χατζηγιαννάκη
URL:https://atlantea.news/event/%ce%ad%ce%ba%ce%b8%ce%b5%cf%83%ce%b7-%ce%b6%cf%89%ce%b3%cf%81%ce%b1%cf%86%ce%b9%ce%ba%ce%ae%cf%82-%ce%b8%ce%b7%cf%81%ce%b1%cf%8a%ce%ba%ce%ad%cf%82-%cf%84%ce%b5%ce%bb%ce%b5%cf%84%ce%bf%cf%85%cf%81/2025-10-24/
LOCATION:Βιομηχανικό Μουσείο Τομάτας «Δ. Νομικός»\, Βλυχάδα\, Σαντορίνη\, 84700\, Greece
CATEGORIES:Έκθεση
GEO:36.3364529;25.4366155
X-APPLE-STRUCTURED-LOCATION;VALUE=URI;X-ADDRESS=Βιομηχανικό Μουσείο Τομάτας «Δ. Νομικός» Βλυχάδα Σαντορίνη 84700 Greece;X-APPLE-RADIUS=500;X-TITLE=Βλυχάδα:geo:25.4366155,36.3364529
END:VEVENT
BEGIN:VEVENT
DTSTART;TZID=Europe/Moscow:20251023T100000
DTEND;TZID=Europe/Moscow:20251023T180000
DTSTAMP:20260421T181432
CREATED:20250703T131153Z
LAST-MODIFIED:20250703T131153Z
UID:10047112-1761213600-1761242400@atlantea.news
SUMMARY:Έκθεση ζωγραφικής "Θηραϊκές Τελετουργίες"
DESCRIPTION:Της Άρτεμης Χατζηγιαννάκη
URL:https://atlantea.news/event/%ce%ad%ce%ba%ce%b8%ce%b5%cf%83%ce%b7-%ce%b6%cf%89%ce%b3%cf%81%ce%b1%cf%86%ce%b9%ce%ba%ce%ae%cf%82-%ce%b8%ce%b7%cf%81%ce%b1%cf%8a%ce%ba%ce%ad%cf%82-%cf%84%ce%b5%ce%bb%ce%b5%cf%84%ce%bf%cf%85%cf%81/2025-10-23/
LOCATION:Βιομηχανικό Μουσείο Τομάτας «Δ. Νομικός»\, Βλυχάδα\, Σαντορίνη\, 84700\, Greece
CATEGORIES:Έκθεση
GEO:36.3364529;25.4366155
X-APPLE-STRUCTURED-LOCATION;VALUE=URI;X-ADDRESS=Βιομηχανικό Μουσείο Τομάτας «Δ. Νομικός» Βλυχάδα Σαντορίνη 84700 Greece;X-APPLE-RADIUS=500;X-TITLE=Βλυχάδα:geo:25.4366155,36.3364529
END:VEVENT
BEGIN:VEVENT
DTSTART;TZID=Europe/Moscow:20251022T100000
DTEND;TZID=Europe/Moscow:20251022T180000
DTSTAMP:20260421T181432
CREATED:20250703T131153Z
LAST-MODIFIED:20250703T131153Z
UID:10047111-1761127200-1761156000@atlantea.news
SUMMARY:Έκθεση ζωγραφικής "Θηραϊκές Τελετουργίες"
DESCRIPTION:Της Άρτεμης Χατζηγιαννάκη
URL:https://atlantea.news/event/%ce%ad%ce%ba%ce%b8%ce%b5%cf%83%ce%b7-%ce%b6%cf%89%ce%b3%cf%81%ce%b1%cf%86%ce%b9%ce%ba%ce%ae%cf%82-%ce%b8%ce%b7%cf%81%ce%b1%cf%8a%ce%ba%ce%ad%cf%82-%cf%84%ce%b5%ce%bb%ce%b5%cf%84%ce%bf%cf%85%cf%81/2025-10-22/
LOCATION:Βιομηχανικό Μουσείο Τομάτας «Δ. Νομικός»\, Βλυχάδα\, Σαντορίνη\, 84700\, Greece
CATEGORIES:Έκθεση
GEO:36.3364529;25.4366155
X-APPLE-STRUCTURED-LOCATION;VALUE=URI;X-ADDRESS=Βιομηχανικό Μουσείο Τομάτας «Δ. Νομικός» Βλυχάδα Σαντορίνη 84700 Greece;X-APPLE-RADIUS=500;X-TITLE=Βλυχάδα:geo:25.4366155,36.3364529
END:VEVENT
BEGIN:VEVENT
DTSTART;TZID=Europe/Moscow:20251021T100000
DTEND;TZID=Europe/Moscow:20251021T180000
DTSTAMP:20260421T181432
CREATED:20250703T131153Z
LAST-MODIFIED:20250703T131153Z
UID:10047110-1761040800-1761069600@atlantea.news
SUMMARY:Έκθεση ζωγραφικής "Θηραϊκές Τελετουργίες"
DESCRIPTION:Της Άρτεμης Χατζηγιαννάκη
URL:https://atlantea.news/event/%ce%ad%ce%ba%ce%b8%ce%b5%cf%83%ce%b7-%ce%b6%cf%89%ce%b3%cf%81%ce%b1%cf%86%ce%b9%ce%ba%ce%ae%cf%82-%ce%b8%ce%b7%cf%81%ce%b1%cf%8a%ce%ba%ce%ad%cf%82-%cf%84%ce%b5%ce%bb%ce%b5%cf%84%ce%bf%cf%85%cf%81/2025-10-21/
LOCATION:Βιομηχανικό Μουσείο Τομάτας «Δ. Νομικός»\, Βλυχάδα\, Σαντορίνη\, 84700\, Greece
CATEGORIES:Έκθεση
GEO:36.3364529;25.4366155
X-APPLE-STRUCTURED-LOCATION;VALUE=URI;X-ADDRESS=Βιομηχανικό Μουσείο Τομάτας «Δ. Νομικός» Βλυχάδα Σαντορίνη 84700 Greece;X-APPLE-RADIUS=500;X-TITLE=Βλυχάδα:geo:25.4366155,36.3364529
END:VEVENT
BEGIN:VEVENT
DTSTART;TZID=Europe/Moscow:20251019T100000
DTEND;TZID=Europe/Moscow:20251019T180000
DTSTAMP:20260421T181432
CREATED:20250703T131153Z
LAST-MODIFIED:20250703T131153Z
UID:10047109-1760868000-1760896800@atlantea.news
SUMMARY:Έκθεση ζωγραφικής "Θηραϊκές Τελετουργίες"
DESCRIPTION:Της Άρτεμης Χατζηγιαννάκη
URL:https://atlantea.news/event/%ce%ad%ce%ba%ce%b8%ce%b5%cf%83%ce%b7-%ce%b6%cf%89%ce%b3%cf%81%ce%b1%cf%86%ce%b9%ce%ba%ce%ae%cf%82-%ce%b8%ce%b7%cf%81%ce%b1%cf%8a%ce%ba%ce%ad%cf%82-%cf%84%ce%b5%ce%bb%ce%b5%cf%84%ce%bf%cf%85%cf%81/2025-10-19/
LOCATION:Βιομηχανικό Μουσείο Τομάτας «Δ. Νομικός»\, Βλυχάδα\, Σαντορίνη\, 84700\, Greece
CATEGORIES:Έκθεση
GEO:36.3364529;25.4366155
X-APPLE-STRUCTURED-LOCATION;VALUE=URI;X-ADDRESS=Βιομηχανικό Μουσείο Τομάτας «Δ. Νομικός» Βλυχάδα Σαντορίνη 84700 Greece;X-APPLE-RADIUS=500;X-TITLE=Βλυχάδα:geo:25.4366155,36.3364529
END:VEVENT
BEGIN:VEVENT
DTSTART;TZID=Europe/Athens:20251018T190000
DTEND;TZID=Europe/Athens:20251018T190000
DTSTAMP:20260421T181432
CREATED:20251013T094426Z
LAST-MODIFIED:20251013T094514Z
UID:10048147-1760814000-1760814000@atlantea.news
SUMMARY:Μουσικοχορευτικό αντάμωμα
DESCRIPTION:
URL:https://atlantea.news/event/%ce%bc%ce%bf%cf%85%cf%83%ce%b9%ce%ba%ce%bf%cf%87%ce%bf%cf%81%ce%b5%cf%85%cf%84%ce%b9%ce%ba%cf%8c-%ce%b1%ce%bd%cf%84%ce%ac%ce%bc%cf%89%ce%bc%ce%b1/
LOCATION:Αμφιθέατρο Καμαρίου\, Καμάρι\, έναντι Ι.Ν. Παναγίας Μυρτιδιώτισσας\, Σαντορίνη\, 84700\, Greece
CATEGORIES:Συναυλία - Μουσική εκδήλωση,Χορός
END:VEVENT
BEGIN:VEVENT
DTSTART;TZID=Europe/Moscow:20251018T100000
DTEND;TZID=Europe/Moscow:20251018T180000
DTSTAMP:20260421T181432
CREATED:20250703T131153Z
LAST-MODIFIED:20250703T131153Z
UID:10047108-1760781600-1760810400@atlantea.news
SUMMARY:Έκθεση ζωγραφικής "Θηραϊκές Τελετουργίες"
DESCRIPTION:Της Άρτεμης Χατζηγιαννάκη
URL:https://atlantea.news/event/%ce%ad%ce%ba%ce%b8%ce%b5%cf%83%ce%b7-%ce%b6%cf%89%ce%b3%cf%81%ce%b1%cf%86%ce%b9%ce%ba%ce%ae%cf%82-%ce%b8%ce%b7%cf%81%ce%b1%cf%8a%ce%ba%ce%ad%cf%82-%cf%84%ce%b5%ce%bb%ce%b5%cf%84%ce%bf%cf%85%cf%81/2025-10-18/
LOCATION:Βιομηχανικό Μουσείο Τομάτας «Δ. Νομικός»\, Βλυχάδα\, Σαντορίνη\, 84700\, Greece
CATEGORIES:Έκθεση
GEO:36.3364529;25.4366155
X-APPLE-STRUCTURED-LOCATION;VALUE=URI;X-ADDRESS=Βιομηχανικό Μουσείο Τομάτας «Δ. Νομικός» Βλυχάδα Σαντορίνη 84700 Greece;X-APPLE-RADIUS=500;X-TITLE=Βλυχάδα:geo:25.4366155,36.3364529
END:VEVENT
BEGIN:VEVENT
DTSTART;TZID=Europe/Moscow:20251017T100000
DTEND;TZID=Europe/Moscow:20251017T180000
DTSTAMP:20260421T181432
CREATED:20250703T131153Z
LAST-MODIFIED:20250703T131153Z
UID:10047107-1760695200-1760724000@atlantea.news
SUMMARY:Έκθεση ζωγραφικής "Θηραϊκές Τελετουργίες"
DESCRIPTION:Της Άρτεμης Χατζηγιαννάκη
URL:https://atlantea.news/event/%ce%ad%ce%ba%ce%b8%ce%b5%cf%83%ce%b7-%ce%b6%cf%89%ce%b3%cf%81%ce%b1%cf%86%ce%b9%ce%ba%ce%ae%cf%82-%ce%b8%ce%b7%cf%81%ce%b1%cf%8a%ce%ba%ce%ad%cf%82-%cf%84%ce%b5%ce%bb%ce%b5%cf%84%ce%bf%cf%85%cf%81/2025-10-17/
LOCATION:Βιομηχανικό Μουσείο Τομάτας «Δ. Νομικός»\, Βλυχάδα\, Σαντορίνη\, 84700\, Greece
CATEGORIES:Έκθεση
GEO:36.3364529;25.4366155
X-APPLE-STRUCTURED-LOCATION;VALUE=URI;X-ADDRESS=Βιομηχανικό Μουσείο Τομάτας «Δ. Νομικός» Βλυχάδα Σαντορίνη 84700 Greece;X-APPLE-RADIUS=500;X-TITLE=Βλυχάδα:geo:25.4366155,36.3364529
END:VEVENT
BEGIN:VEVENT
DTSTART;TZID=Europe/Athens:20251016T190000
DTEND;TZID=Europe/Athens:20251016T190000
DTSTAMP:20260421T181432
CREATED:20251013T095315Z
LAST-MODIFIED:20251013T095411Z
UID:10048149-1760641200-1760641200@atlantea.news
SUMMARY:Σεμινάριο γονέων για ενδυνάμωση παιδιών και εφήβων σε θέματα σχολικού εκφοβισμού
DESCRIPTION:Δείτε περισσότερα εδώ.
URL:https://atlantea.news/event/%cf%83%ce%b5%ce%bc%ce%b9%ce%bd%ce%ac%cf%81%ce%b9%ce%bf-%ce%b3%ce%bf%ce%bd%ce%ad%cf%89%ce%bd-%ce%b3%ce%b9%ce%b1-%ce%b5%ce%bd%ce%b4%cf%85%ce%bd%ce%ac%ce%bc%cf%89%cf%83%ce%b7-%cf%80%ce%b1%ce%b9%ce%b4/
LOCATION:Μπελλώνειο Πολιτιστικό Κέντρο\, Φηρά\, Σαντορίνη\, 84700\, Greece
CATEGORIES:Σεμινάριο
END:VEVENT
BEGIN:VEVENT
DTSTART;TZID=Europe/Moscow:20251016T100000
DTEND;TZID=Europe/Moscow:20251016T180000
DTSTAMP:20260421T181432
CREATED:20250703T131153Z
LAST-MODIFIED:20250703T131153Z
UID:10047106-1760608800-1760637600@atlantea.news
SUMMARY:Έκθεση ζωγραφικής "Θηραϊκές Τελετουργίες"
DESCRIPTION:Της Άρτεμης Χατζηγιαννάκη
URL:https://atlantea.news/event/%ce%ad%ce%ba%ce%b8%ce%b5%cf%83%ce%b7-%ce%b6%cf%89%ce%b3%cf%81%ce%b1%cf%86%ce%b9%ce%ba%ce%ae%cf%82-%ce%b8%ce%b7%cf%81%ce%b1%cf%8a%ce%ba%ce%ad%cf%82-%cf%84%ce%b5%ce%bb%ce%b5%cf%84%ce%bf%cf%85%cf%81/2025-10-16/
LOCATION:Βιομηχανικό Μουσείο Τομάτας «Δ. Νομικός»\, Βλυχάδα\, Σαντορίνη\, 84700\, Greece
CATEGORIES:Έκθεση
GEO:36.3364529;25.4366155
X-APPLE-STRUCTURED-LOCATION;VALUE=URI;X-ADDRESS=Βιομηχανικό Μουσείο Τομάτας «Δ. Νομικός» Βλυχάδα Σαντορίνη 84700 Greece;X-APPLE-RADIUS=500;X-TITLE=Βλυχάδα:geo:25.4366155,36.3364529
END:VEVENT
BEGIN:VEVENT
DTSTART;TZID=Europe/Athens:20251015T190000
DTEND;TZID=Europe/Athens:20251015T190000
DTSTAMP:20260421T181432
CREATED:20251013T094857Z
LAST-MODIFIED:20251013T095658Z
UID:10048148-1760554800-1760554800@atlantea.news
SUMMARY:Σεμινάριο εκπαιδευτικών για την πρόληψη και αντιμετώπιση του σχολικού εκφοβισμού
DESCRIPTION:Δείτε περισσότερα εδώ.
URL:https://atlantea.news/event/%cf%83%ce%b5%ce%bc%ce%b9%ce%bd%ce%ac%cf%81%ce%b9%ce%bf-%ce%b5%ce%ba%cf%80%ce%b1%ce%b9%ce%b4%ce%b5%cf%85%cf%84%ce%b9%ce%ba%cf%8e%ce%bd-%ce%b3%ce%b9%ce%b1-%cf%84%ce%b7%ce%bd-%cf%80%cf%81%cf%8c%ce%bb/
LOCATION:Μπελλώνειο Πολιτιστικό Κέντρο\, Φηρά\, Σαντορίνη\, 84700\, Greece
CATEGORIES:Σεμινάριο
END:VEVENT
BEGIN:VEVENT
DTSTART;TZID=Europe/Moscow:20251015T100000
DTEND;TZID=Europe/Moscow:20251015T180000
DTSTAMP:20260421T181432
CREATED:20250703T131153Z
LAST-MODIFIED:20250703T131153Z
UID:10047105-1760522400-1760551200@atlantea.news
SUMMARY:Έκθεση ζωγραφικής "Θηραϊκές Τελετουργίες"
DESCRIPTION:Της Άρτεμης Χατζηγιαννάκη
URL:https://atlantea.news/event/%ce%ad%ce%ba%ce%b8%ce%b5%cf%83%ce%b7-%ce%b6%cf%89%ce%b3%cf%81%ce%b1%cf%86%ce%b9%ce%ba%ce%ae%cf%82-%ce%b8%ce%b7%cf%81%ce%b1%cf%8a%ce%ba%ce%ad%cf%82-%cf%84%ce%b5%ce%bb%ce%b5%cf%84%ce%bf%cf%85%cf%81/2025-10-15/
LOCATION:Βιομηχανικό Μουσείο Τομάτας «Δ. Νομικός»\, Βλυχάδα\, Σαντορίνη\, 84700\, Greece
CATEGORIES:Έκθεση
GEO:36.3364529;25.4366155
X-APPLE-STRUCTURED-LOCATION;VALUE=URI;X-ADDRESS=Βιομηχανικό Μουσείο Τομάτας «Δ. Νομικός» Βλυχάδα Σαντορίνη 84700 Greece;X-APPLE-RADIUS=500;X-TITLE=Βλυχάδα:geo:25.4366155,36.3364529
END:VEVENT
BEGIN:VEVENT
DTSTART;TZID=Europe/Moscow:20251014T100000
DTEND;TZID=Europe/Moscow:20251014T180000
DTSTAMP:20260421T181432
CREATED:20250703T131153Z
LAST-MODIFIED:20250703T131153Z
UID:10047104-1760436000-1760464800@atlantea.news
SUMMARY:Έκθεση ζωγραφικής "Θηραϊκές Τελετουργίες"
DESCRIPTION:Της Άρτεμης Χατζηγιαννάκη
URL:https://atlantea.news/event/%ce%ad%ce%ba%ce%b8%ce%b5%cf%83%ce%b7-%ce%b6%cf%89%ce%b3%cf%81%ce%b1%cf%86%ce%b9%ce%ba%ce%ae%cf%82-%ce%b8%ce%b7%cf%81%ce%b1%cf%8a%ce%ba%ce%ad%cf%82-%cf%84%ce%b5%ce%bb%ce%b5%cf%84%ce%bf%cf%85%cf%81/2025-10-14/
LOCATION:Βιομηχανικό Μουσείο Τομάτας «Δ. Νομικός»\, Βλυχάδα\, Σαντορίνη\, 84700\, Greece
CATEGORIES:Έκθεση
GEO:36.3364529;25.4366155
X-APPLE-STRUCTURED-LOCATION;VALUE=URI;X-ADDRESS=Βιομηχανικό Μουσείο Τομάτας «Δ. Νομικός» Βλυχάδα Σαντορίνη 84700 Greece;X-APPLE-RADIUS=500;X-TITLE=Βλυχάδα:geo:25.4366155,36.3364529
END:VEVENT
BEGIN:VEVENT
DTSTART;TZID=Europe/Moscow:20251012T100000
DTEND;TZID=Europe/Moscow:20251012T180000
DTSTAMP:20260421T181432
CREATED:20250703T131153Z
LAST-MODIFIED:20250703T131153Z
UID:10047103-1760263200-1760292000@atlantea.news
SUMMARY:Έκθεση ζωγραφικής "Θηραϊκές Τελετουργίες"
DESCRIPTION:Της Άρτεμης Χατζηγιαννάκη
URL:https://atlantea.news/event/%ce%ad%ce%ba%ce%b8%ce%b5%cf%83%ce%b7-%ce%b6%cf%89%ce%b3%cf%81%ce%b1%cf%86%ce%b9%ce%ba%ce%ae%cf%82-%ce%b8%ce%b7%cf%81%ce%b1%cf%8a%ce%ba%ce%ad%cf%82-%cf%84%ce%b5%ce%bb%ce%b5%cf%84%ce%bf%cf%85%cf%81/2025-10-12/
LOCATION:Βιομηχανικό Μουσείο Τομάτας «Δ. Νομικός»\, Βλυχάδα\, Σαντορίνη\, 84700\, Greece
CATEGORIES:Έκθεση
GEO:36.3364529;25.4366155
X-APPLE-STRUCTURED-LOCATION;VALUE=URI;X-ADDRESS=Βιομηχανικό Μουσείο Τομάτας «Δ. Νομικός» Βλυχάδα Σαντορίνη 84700 Greece;X-APPLE-RADIUS=500;X-TITLE=Βλυχάδα:geo:25.4366155,36.3364529
END:VEVENT
BEGIN:VEVENT
DTSTART;TZID=Europe/Moscow:20251011T100000
DTEND;TZID=Europe/Moscow:20251011T180000
DTSTAMP:20260421T181432
CREATED:20250703T131153Z
LAST-MODIFIED:20250703T131153Z
UID:10047102-1760176800-1760205600@atlantea.news
SUMMARY:Έκθεση ζωγραφικής "Θηραϊκές Τελετουργίες"
DESCRIPTION:Της Άρτεμης Χατζηγιαννάκη
URL:https://atlantea.news/event/%ce%ad%ce%ba%ce%b8%ce%b5%cf%83%ce%b7-%ce%b6%cf%89%ce%b3%cf%81%ce%b1%cf%86%ce%b9%ce%ba%ce%ae%cf%82-%ce%b8%ce%b7%cf%81%ce%b1%cf%8a%ce%ba%ce%ad%cf%82-%cf%84%ce%b5%ce%bb%ce%b5%cf%84%ce%bf%cf%85%cf%81/2025-10-11/
LOCATION:Βιομηχανικό Μουσείο Τομάτας «Δ. Νομικός»\, Βλυχάδα\, Σαντορίνη\, 84700\, Greece
CATEGORIES:Έκθεση
GEO:36.3364529;25.4366155
X-APPLE-STRUCTURED-LOCATION;VALUE=URI;X-ADDRESS=Βιομηχανικό Μουσείο Τομάτας «Δ. Νομικός» Βλυχάδα Σαντορίνη 84700 Greece;X-APPLE-RADIUS=500;X-TITLE=Βλυχάδα:geo:25.4366155,36.3364529
END:VEVENT
END:VCALENDAR