BEGIN:VCALENDAR
VERSION:2.0
PRODID:-//Atlantea - ECPv6.15.9//NONSGML v1.0//EN
CALSCALE:GREGORIAN
METHOD:PUBLISH
X-ORIGINAL-URL:https://atlantea.news
X-WR-CALDESC:Events for Atlantea
REFRESH-INTERVAL;VALUE=DURATION:PT1H
X-Robots-Tag:noindex
X-PUBLISHED-TTL:PT1H
BEGIN:VTIMEZONE
TZID:Europe/Moscow
BEGIN:STANDARD
TZOFFSETFROM:+0300
TZOFFSETTO:+0300
TZNAME:MSK
DTSTART:20240101T000000
END:STANDARD
END:VTIMEZONE
BEGIN:VTIMEZONE
TZID:Europe/Athens
BEGIN:DAYLIGHT
TZOFFSETFROM:+0200
TZOFFSETTO:+0300
TZNAME:EEST
DTSTART:20240331T010000
END:DAYLIGHT
BEGIN:STANDARD
TZOFFSETFROM:+0300
TZOFFSETTO:+0200
TZNAME:EET
DTSTART:20241027T010000
END:STANDARD
BEGIN:DAYLIGHT
TZOFFSETFROM:+0200
TZOFFSETTO:+0300
TZNAME:EEST
DTSTART:20250330T010000
END:DAYLIGHT
BEGIN:STANDARD
TZOFFSETFROM:+0300
TZOFFSETTO:+0200
TZNAME:EET
DTSTART:20251026T010000
END:STANDARD
BEGIN:DAYLIGHT
TZOFFSETFROM:+0200
TZOFFSETTO:+0300
TZNAME:EEST
DTSTART:20260329T010000
END:DAYLIGHT
BEGIN:STANDARD
TZOFFSETFROM:+0300
TZOFFSETTO:+0200
TZNAME:EET
DTSTART:20261025T010000
END:STANDARD
END:VTIMEZONE
BEGIN:VEVENT
DTSTART;TZID=Europe/Moscow:20251001T100000
DTEND;TZID=Europe/Moscow:20251001T180000
DTSTAMP:20260421T194457
CREATED:20250703T131153Z
LAST-MODIFIED:20250703T131153Z
UID:10047093-1759312800-1759341600@atlantea.news
SUMMARY:Έκθεση ζωγραφικής "Θηραϊκές Τελετουργίες"
DESCRIPTION:Της Άρτεμης Χατζηγιαννάκη
URL:https://atlantea.news/event/%ce%ad%ce%ba%ce%b8%ce%b5%cf%83%ce%b7-%ce%b6%cf%89%ce%b3%cf%81%ce%b1%cf%86%ce%b9%ce%ba%ce%ae%cf%82-%ce%b8%ce%b7%cf%81%ce%b1%cf%8a%ce%ba%ce%ad%cf%82-%cf%84%ce%b5%ce%bb%ce%b5%cf%84%ce%bf%cf%85%cf%81/2025-10-01/
LOCATION:Βιομηχανικό Μουσείο Τομάτας «Δ. Νομικός»\, Βλυχάδα\, Σαντορίνη\, 84700\, Greece
CATEGORIES:Έκθεση
GEO:36.3364529;25.4366155
X-APPLE-STRUCTURED-LOCATION;VALUE=URI;X-ADDRESS=Βιομηχανικό Μουσείο Τομάτας «Δ. Νομικός» Βλυχάδα Σαντορίνη 84700 Greece;X-APPLE-RADIUS=500;X-TITLE=Βλυχάδα:geo:25.4366155,36.3364529
END:VEVENT
BEGIN:VEVENT
DTSTART;TZID=Europe/Athens:20251001T080000
DTEND;TZID=Europe/Athens:20251001T210000
DTSTAMP:20260421T194457
CREATED:20250919T233123Z
LAST-MODIFIED:20250923T093617Z
UID:10047755-1759305600-1759352400@atlantea.news
SUMMARY:Έκθεση σύγχρονης τέχνης "Ένας τόπος που ζητά να ξαποστάσει"
DESCRIPTION:Συμμετέχουν οι: Αγγέλου Αναστάσιος (φωτογράφος)\, Ασιμής Χριστόφορος (εικαστικός)\, Βλαντωνόπουλος Γιάννης (κεραμίστας)\, Κιτσοπούλου Λένα (σκηνοθέτιδα\, ηθοποιός\, εικαστικός)\, Κορακάκης Νίκος (φωτογράφος)\, Κουσκούρης Γρηγόρης (γλύπτης)\, Κυπρής Γιώργος (εικαστικός)\, Μάκαρης Ορφέας (κεραμίστας)\, Πέπος Βαγγέλης (εικαστικός)\, Ρηγόπουλος Νίκος (φωτογράφος)\, Ταλιαδούρου Μαρίνα (κεραμίστρια)\, Binzer Lea (εικαστικός)\, Ule Elwet (κεραμίστρια)
URL:https://atlantea.news/event/%ce%ad%ce%ba%ce%b8%ce%b5%cf%83%ce%b7-%cf%83%cf%8d%ce%b3%cf%87%cf%81%ce%bf%ce%bd%ce%b7%cf%82-%cf%84%ce%ad%cf%87%ce%bd%ce%b7%cf%82-%ce%ad%ce%bd%ce%b1%cf%82-%cf%84%cf%8c%cf%80%ce%bf%cf%82-%cf%80%ce%bf/2025-10-01/
LOCATION:Vedema Resort\, Μεγαλοχώρι\, Σαντορίνη\, 84700\, Greece
CATEGORIES:Έκθεση
END:VEVENT
BEGIN:VEVENT
DTSTART;TZID=Europe/Moscow:20250930T100000
DTEND;TZID=Europe/Moscow:20250930T180000
DTSTAMP:20260421T194457
CREATED:20250703T131153Z
LAST-MODIFIED:20250703T131153Z
UID:10047092-1759226400-1759255200@atlantea.news
SUMMARY:Έκθεση ζωγραφικής "Θηραϊκές Τελετουργίες"
DESCRIPTION:Της Άρτεμης Χατζηγιαννάκη
URL:https://atlantea.news/event/%ce%ad%ce%ba%ce%b8%ce%b5%cf%83%ce%b7-%ce%b6%cf%89%ce%b3%cf%81%ce%b1%cf%86%ce%b9%ce%ba%ce%ae%cf%82-%ce%b8%ce%b7%cf%81%ce%b1%cf%8a%ce%ba%ce%ad%cf%82-%cf%84%ce%b5%ce%bb%ce%b5%cf%84%ce%bf%cf%85%cf%81/2025-09-30/
LOCATION:Βιομηχανικό Μουσείο Τομάτας «Δ. Νομικός»\, Βλυχάδα\, Σαντορίνη\, 84700\, Greece
CATEGORIES:Έκθεση
GEO:36.3364529;25.4366155
X-APPLE-STRUCTURED-LOCATION;VALUE=URI;X-ADDRESS=Βιομηχανικό Μουσείο Τομάτας «Δ. Νομικός» Βλυχάδα Σαντορίνη 84700 Greece;X-APPLE-RADIUS=500;X-TITLE=Βλυχάδα:geo:25.4366155,36.3364529
END:VEVENT
BEGIN:VEVENT
DTSTART;TZID=Europe/Athens:20250930T080000
DTEND;TZID=Europe/Athens:20250930T210000
DTSTAMP:20260421T194457
CREATED:20250919T233123Z
LAST-MODIFIED:20250923T093617Z
UID:10047754-1759219200-1759266000@atlantea.news
SUMMARY:Έκθεση σύγχρονης τέχνης "Ένας τόπος που ζητά να ξαποστάσει"
DESCRIPTION:Συμμετέχουν οι: Αγγέλου Αναστάσιος (φωτογράφος)\, Ασιμής Χριστόφορος (εικαστικός)\, Βλαντωνόπουλος Γιάννης (κεραμίστας)\, Κιτσοπούλου Λένα (σκηνοθέτιδα\, ηθοποιός\, εικαστικός)\, Κορακάκης Νίκος (φωτογράφος)\, Κουσκούρης Γρηγόρης (γλύπτης)\, Κυπρής Γιώργος (εικαστικός)\, Μάκαρης Ορφέας (κεραμίστας)\, Πέπος Βαγγέλης (εικαστικός)\, Ρηγόπουλος Νίκος (φωτογράφος)\, Ταλιαδούρου Μαρίνα (κεραμίστρια)\, Binzer Lea (εικαστικός)\, Ule Elwet (κεραμίστρια)
URL:https://atlantea.news/event/%ce%ad%ce%ba%ce%b8%ce%b5%cf%83%ce%b7-%cf%83%cf%8d%ce%b3%cf%87%cf%81%ce%bf%ce%bd%ce%b7%cf%82-%cf%84%ce%ad%cf%87%ce%bd%ce%b7%cf%82-%ce%ad%ce%bd%ce%b1%cf%82-%cf%84%cf%8c%cf%80%ce%bf%cf%82-%cf%80%ce%bf/2025-09-30/
LOCATION:Vedema Resort\, Μεγαλοχώρι\, Σαντορίνη\, 84700\, Greece
CATEGORIES:Έκθεση
END:VEVENT
BEGIN:VEVENT
DTSTART;TZID=Europe/Athens:20250929T080000
DTEND;TZID=Europe/Athens:20250929T210000
DTSTAMP:20260421T194457
CREATED:20250919T233123Z
LAST-MODIFIED:20250923T093617Z
UID:10047753-1759132800-1759179600@atlantea.news
SUMMARY:Έκθεση σύγχρονης τέχνης "Ένας τόπος που ζητά να ξαποστάσει"
DESCRIPTION:Συμμετέχουν οι: Αγγέλου Αναστάσιος (φωτογράφος)\, Ασιμής Χριστόφορος (εικαστικός)\, Βλαντωνόπουλος Γιάννης (κεραμίστας)\, Κιτσοπούλου Λένα (σκηνοθέτιδα\, ηθοποιός\, εικαστικός)\, Κορακάκης Νίκος (φωτογράφος)\, Κουσκούρης Γρηγόρης (γλύπτης)\, Κυπρής Γιώργος (εικαστικός)\, Μάκαρης Ορφέας (κεραμίστας)\, Πέπος Βαγγέλης (εικαστικός)\, Ρηγόπουλος Νίκος (φωτογράφος)\, Ταλιαδούρου Μαρίνα (κεραμίστρια)\, Binzer Lea (εικαστικός)\, Ule Elwet (κεραμίστρια)
URL:https://atlantea.news/event/%ce%ad%ce%ba%ce%b8%ce%b5%cf%83%ce%b7-%cf%83%cf%8d%ce%b3%cf%87%cf%81%ce%bf%ce%bd%ce%b7%cf%82-%cf%84%ce%ad%cf%87%ce%bd%ce%b7%cf%82-%ce%ad%ce%bd%ce%b1%cf%82-%cf%84%cf%8c%cf%80%ce%bf%cf%82-%cf%80%ce%bf/2025-09-29/
LOCATION:Vedema Resort\, Μεγαλοχώρι\, Σαντορίνη\, 84700\, Greece
CATEGORIES:Έκθεση
END:VEVENT
BEGIN:VEVENT
DTSTART;TZID=Europe/Moscow:20250928T100000
DTEND;TZID=Europe/Moscow:20250928T180000
DTSTAMP:20260421T194457
CREATED:20250703T131153Z
LAST-MODIFIED:20250703T131153Z
UID:10047091-1759053600-1759082400@atlantea.news
SUMMARY:Έκθεση ζωγραφικής "Θηραϊκές Τελετουργίες"
DESCRIPTION:Της Άρτεμης Χατζηγιαννάκη
URL:https://atlantea.news/event/%ce%ad%ce%ba%ce%b8%ce%b5%cf%83%ce%b7-%ce%b6%cf%89%ce%b3%cf%81%ce%b1%cf%86%ce%b9%ce%ba%ce%ae%cf%82-%ce%b8%ce%b7%cf%81%ce%b1%cf%8a%ce%ba%ce%ad%cf%82-%cf%84%ce%b5%ce%bb%ce%b5%cf%84%ce%bf%cf%85%cf%81/2025-09-28/
LOCATION:Βιομηχανικό Μουσείο Τομάτας «Δ. Νομικός»\, Βλυχάδα\, Σαντορίνη\, 84700\, Greece
CATEGORIES:Έκθεση
GEO:36.3364529;25.4366155
X-APPLE-STRUCTURED-LOCATION;VALUE=URI;X-ADDRESS=Βιομηχανικό Μουσείο Τομάτας «Δ. Νομικός» Βλυχάδα Σαντορίνη 84700 Greece;X-APPLE-RADIUS=500;X-TITLE=Βλυχάδα:geo:25.4366155,36.3364529
END:VEVENT
BEGIN:VEVENT
DTSTART;TZID=Europe/Athens:20250928T080000
DTEND;TZID=Europe/Athens:20250928T210000
DTSTAMP:20260421T194457
CREATED:20250919T233123Z
LAST-MODIFIED:20250923T093617Z
UID:10047752-1759046400-1759093200@atlantea.news
SUMMARY:Έκθεση σύγχρονης τέχνης "Ένας τόπος που ζητά να ξαποστάσει"
DESCRIPTION:Συμμετέχουν οι: Αγγέλου Αναστάσιος (φωτογράφος)\, Ασιμής Χριστόφορος (εικαστικός)\, Βλαντωνόπουλος Γιάννης (κεραμίστας)\, Κιτσοπούλου Λένα (σκηνοθέτιδα\, ηθοποιός\, εικαστικός)\, Κορακάκης Νίκος (φωτογράφος)\, Κουσκούρης Γρηγόρης (γλύπτης)\, Κυπρής Γιώργος (εικαστικός)\, Μάκαρης Ορφέας (κεραμίστας)\, Πέπος Βαγγέλης (εικαστικός)\, Ρηγόπουλος Νίκος (φωτογράφος)\, Ταλιαδούρου Μαρίνα (κεραμίστρια)\, Binzer Lea (εικαστικός)\, Ule Elwet (κεραμίστρια)
URL:https://atlantea.news/event/%ce%ad%ce%ba%ce%b8%ce%b5%cf%83%ce%b7-%cf%83%cf%8d%ce%b3%cf%87%cf%81%ce%bf%ce%bd%ce%b7%cf%82-%cf%84%ce%ad%cf%87%ce%bd%ce%b7%cf%82-%ce%ad%ce%bd%ce%b1%cf%82-%cf%84%cf%8c%cf%80%ce%bf%cf%82-%cf%80%ce%bf/2025-09-28/
LOCATION:Vedema Resort\, Μεγαλοχώρι\, Σαντορίνη\, 84700\, Greece
CATEGORIES:Έκθεση
END:VEVENT
BEGIN:VEVENT
DTSTART;TZID=Europe/Athens:20250927T210000
DTEND;TZID=Europe/Athens:20250927T210000
DTSTAMP:20260421T194457
CREATED:20250801T084206Z
LAST-MODIFIED:20250922T081946Z
UID:10047221-1759006800-1759006800@atlantea.news
SUMMARY:"Ο Θεοδωράκης στην αιωνιότητα"
DESCRIPTION:
URL:https://atlantea.news/event/%ce%bf-%ce%b8%ce%b5%ce%bf%ce%b4%cf%89%cf%81%ce%ac%ce%ba%ce%b7%cf%82-%cf%83%cf%84%ce%b7%ce%bd-%ce%b1%ce%b9%cf%89%ce%bd%ce%b9%cf%8c%cf%84%ce%b7%cf%84%ce%b1/
LOCATION:Προαύλιος χώρος Κλειστού Γυμναστηρίου\, Καρτεράδος\, Σαντορίνη\, 84700\, Greece
CATEGORIES:Συναυλία - Μουσική εκδήλωση
GEO:36.4115625;25.4464635
X-APPLE-STRUCTURED-LOCATION;VALUE=URI;X-ADDRESS=Προαύλιος χώρος Κλειστού Γυμναστηρίου Καρτεράδος Σαντορίνη 84700 Greece;X-APPLE-RADIUS=500;X-TITLE=Καρτεράδος:geo:25.4464635,36.4115625
END:VEVENT
BEGIN:VEVENT
DTSTART;TZID=Europe/Moscow:20250927T100000
DTEND;TZID=Europe/Moscow:20250927T180000
DTSTAMP:20260421T194457
CREATED:20250703T131153Z
LAST-MODIFIED:20250703T131153Z
UID:10047090-1758967200-1758996000@atlantea.news
SUMMARY:Έκθεση ζωγραφικής "Θηραϊκές Τελετουργίες"
DESCRIPTION:Της Άρτεμης Χατζηγιαννάκη
URL:https://atlantea.news/event/%ce%ad%ce%ba%ce%b8%ce%b5%cf%83%ce%b7-%ce%b6%cf%89%ce%b3%cf%81%ce%b1%cf%86%ce%b9%ce%ba%ce%ae%cf%82-%ce%b8%ce%b7%cf%81%ce%b1%cf%8a%ce%ba%ce%ad%cf%82-%cf%84%ce%b5%ce%bb%ce%b5%cf%84%ce%bf%cf%85%cf%81/2025-09-27/
LOCATION:Βιομηχανικό Μουσείο Τομάτας «Δ. Νομικός»\, Βλυχάδα\, Σαντορίνη\, 84700\, Greece
CATEGORIES:Έκθεση
GEO:36.3364529;25.4366155
X-APPLE-STRUCTURED-LOCATION;VALUE=URI;X-ADDRESS=Βιομηχανικό Μουσείο Τομάτας «Δ. Νομικός» Βλυχάδα Σαντορίνη 84700 Greece;X-APPLE-RADIUS=500;X-TITLE=Βλυχάδα:geo:25.4366155,36.3364529
END:VEVENT
BEGIN:VEVENT
DTSTART;TZID=Europe/Athens:20250927T080000
DTEND;TZID=Europe/Athens:20250927T210000
DTSTAMP:20260421T194457
CREATED:20250919T233123Z
LAST-MODIFIED:20250923T093617Z
UID:10047751-1758960000-1759006800@atlantea.news
SUMMARY:Έκθεση σύγχρονης τέχνης "Ένας τόπος που ζητά να ξαποστάσει"
DESCRIPTION:Συμμετέχουν οι: Αγγέλου Αναστάσιος (φωτογράφος)\, Ασιμής Χριστόφορος (εικαστικός)\, Βλαντωνόπουλος Γιάννης (κεραμίστας)\, Κιτσοπούλου Λένα (σκηνοθέτιδα\, ηθοποιός\, εικαστικός)\, Κορακάκης Νίκος (φωτογράφος)\, Κουσκούρης Γρηγόρης (γλύπτης)\, Κυπρής Γιώργος (εικαστικός)\, Μάκαρης Ορφέας (κεραμίστας)\, Πέπος Βαγγέλης (εικαστικός)\, Ρηγόπουλος Νίκος (φωτογράφος)\, Ταλιαδούρου Μαρίνα (κεραμίστρια)\, Binzer Lea (εικαστικός)\, Ule Elwet (κεραμίστρια)
URL:https://atlantea.news/event/%ce%ad%ce%ba%ce%b8%ce%b5%cf%83%ce%b7-%cf%83%cf%8d%ce%b3%cf%87%cf%81%ce%bf%ce%bd%ce%b7%cf%82-%cf%84%ce%ad%cf%87%ce%bd%ce%b7%cf%82-%ce%ad%ce%bd%ce%b1%cf%82-%cf%84%cf%8c%cf%80%ce%bf%cf%82-%cf%80%ce%bf/2025-09-27/
LOCATION:Vedema Resort\, Μεγαλοχώρι\, Σαντορίνη\, 84700\, Greece
CATEGORIES:Έκθεση
END:VEVENT
BEGIN:VEVENT
DTSTART;TZID=Europe/Athens:20250926T200000
DTEND;TZID=Europe/Athens:20250926T200000
DTSTAMP:20260421T194457
CREATED:20250926T072347Z
LAST-MODIFIED:20250926T072719Z
UID:10048133-1758916800-1758916800@atlantea.news
SUMMARY:Γλέντι στο Κοντοχώρι
DESCRIPTION:
URL:https://atlantea.news/event/%ce%b3%ce%bb%ce%ad%ce%bd%cf%84%ce%b9-%cf%83%cf%84%ce%bf-%ce%ba%ce%bf%ce%bd%cf%84%ce%bf%cf%87%cf%8e%cf%81%ce%b9/
LOCATION:Στέγη Κοντοχωριανών\, Κοντοχώρι\, Σαντορίνη\, 84700\, Greece
CATEGORIES:Έθιμο-Πανηγύρι,Χοροεσπερίδα
GEO:36.4229527;25.434229
X-APPLE-STRUCTURED-LOCATION;VALUE=URI;X-ADDRESS=Στέγη Κοντοχωριανών Κοντοχώρι Σαντορίνη 84700 Greece;X-APPLE-RADIUS=500;X-TITLE=Κοντοχώρι:geo:25.434229,36.4229527
END:VEVENT
BEGIN:VEVENT
DTSTART;TZID=Europe/Moscow:20250926T100000
DTEND;TZID=Europe/Moscow:20250926T180000
DTSTAMP:20260421T194457
CREATED:20250703T131153Z
LAST-MODIFIED:20250703T131153Z
UID:10047089-1758880800-1758909600@atlantea.news
SUMMARY:Έκθεση ζωγραφικής "Θηραϊκές Τελετουργίες"
DESCRIPTION:Της Άρτεμης Χατζηγιαννάκη
URL:https://atlantea.news/event/%ce%ad%ce%ba%ce%b8%ce%b5%cf%83%ce%b7-%ce%b6%cf%89%ce%b3%cf%81%ce%b1%cf%86%ce%b9%ce%ba%ce%ae%cf%82-%ce%b8%ce%b7%cf%81%ce%b1%cf%8a%ce%ba%ce%ad%cf%82-%cf%84%ce%b5%ce%bb%ce%b5%cf%84%ce%bf%cf%85%cf%81/2025-09-26/
LOCATION:Βιομηχανικό Μουσείο Τομάτας «Δ. Νομικός»\, Βλυχάδα\, Σαντορίνη\, 84700\, Greece
CATEGORIES:Έκθεση
GEO:36.3364529;25.4366155
X-APPLE-STRUCTURED-LOCATION;VALUE=URI;X-ADDRESS=Βιομηχανικό Μουσείο Τομάτας «Δ. Νομικός» Βλυχάδα Σαντορίνη 84700 Greece;X-APPLE-RADIUS=500;X-TITLE=Βλυχάδα:geo:25.4366155,36.3364529
END:VEVENT
BEGIN:VEVENT
DTSTART;TZID=Europe/Athens:20250926T080000
DTEND;TZID=Europe/Athens:20250926T210000
DTSTAMP:20260421T194457
CREATED:20250919T233123Z
LAST-MODIFIED:20250923T093617Z
UID:10047750-1758873600-1758920400@atlantea.news
SUMMARY:Έκθεση σύγχρονης τέχνης "Ένας τόπος που ζητά να ξαποστάσει"
DESCRIPTION:Συμμετέχουν οι: Αγγέλου Αναστάσιος (φωτογράφος)\, Ασιμής Χριστόφορος (εικαστικός)\, Βλαντωνόπουλος Γιάννης (κεραμίστας)\, Κιτσοπούλου Λένα (σκηνοθέτιδα\, ηθοποιός\, εικαστικός)\, Κορακάκης Νίκος (φωτογράφος)\, Κουσκούρης Γρηγόρης (γλύπτης)\, Κυπρής Γιώργος (εικαστικός)\, Μάκαρης Ορφέας (κεραμίστας)\, Πέπος Βαγγέλης (εικαστικός)\, Ρηγόπουλος Νίκος (φωτογράφος)\, Ταλιαδούρου Μαρίνα (κεραμίστρια)\, Binzer Lea (εικαστικός)\, Ule Elwet (κεραμίστρια)
URL:https://atlantea.news/event/%ce%ad%ce%ba%ce%b8%ce%b5%cf%83%ce%b7-%cf%83%cf%8d%ce%b3%cf%87%cf%81%ce%bf%ce%bd%ce%b7%cf%82-%cf%84%ce%ad%cf%87%ce%bd%ce%b7%cf%82-%ce%ad%ce%bd%ce%b1%cf%82-%cf%84%cf%8c%cf%80%ce%bf%cf%82-%cf%80%ce%bf/2025-09-26/
LOCATION:Vedema Resort\, Μεγαλοχώρι\, Σαντορίνη\, 84700\, Greece
CATEGORIES:Έκθεση
END:VEVENT
BEGIN:VEVENT
DTSTART;TZID=Europe/Athens:20250925T193000
DTEND;TZID=Europe/Athens:20250925T193000
DTSTAMP:20260421T194457
CREATED:20250922T132147Z
LAST-MODIFIED:20250922T132410Z
UID:10048132-1758828600-1758828600@atlantea.news
SUMMARY:Η ελληνικότητα του Κυκλαδικού Πολιτισμού
DESCRIPTION:Διάλεξη από τη Μαρία Τζάνη\, Καθηγήτρια ΕΚΠΑ
URL:https://atlantea.news/event/%ce%b7-%ce%b5%ce%bb%ce%bb%ce%b7%ce%bd%ce%b9%ce%ba%cf%8c%cf%84%ce%b7%cf%84%ce%b1-%cf%84%ce%bf%cf%85-%ce%ba%cf%85%ce%ba%ce%bb%ce%b1%ce%b4%ce%b9%ce%ba%ce%bf%cf%8d-%cf%80%ce%bf%ce%bb%ce%b9%cf%84%ce%b9/
LOCATION:Μπελλώνειο Πολιτιστικό Κέντρο\, Φηρά\, Σαντορίνη\, 84700\, Greece
CATEGORIES:Ομιλία
END:VEVENT
BEGIN:VEVENT
DTSTART;TZID=Europe/Moscow:20250925T100000
DTEND;TZID=Europe/Moscow:20250925T180000
DTSTAMP:20260421T194457
CREATED:20250703T131153Z
LAST-MODIFIED:20250703T131153Z
UID:10047088-1758794400-1758823200@atlantea.news
SUMMARY:Έκθεση ζωγραφικής "Θηραϊκές Τελετουργίες"
DESCRIPTION:Της Άρτεμης Χατζηγιαννάκη
URL:https://atlantea.news/event/%ce%ad%ce%ba%ce%b8%ce%b5%cf%83%ce%b7-%ce%b6%cf%89%ce%b3%cf%81%ce%b1%cf%86%ce%b9%ce%ba%ce%ae%cf%82-%ce%b8%ce%b7%cf%81%ce%b1%cf%8a%ce%ba%ce%ad%cf%82-%cf%84%ce%b5%ce%bb%ce%b5%cf%84%ce%bf%cf%85%cf%81/2025-09-25/
LOCATION:Βιομηχανικό Μουσείο Τομάτας «Δ. Νομικός»\, Βλυχάδα\, Σαντορίνη\, 84700\, Greece
CATEGORIES:Έκθεση
GEO:36.3364529;25.4366155
X-APPLE-STRUCTURED-LOCATION;VALUE=URI;X-ADDRESS=Βιομηχανικό Μουσείο Τομάτας «Δ. Νομικός» Βλυχάδα Σαντορίνη 84700 Greece;X-APPLE-RADIUS=500;X-TITLE=Βλυχάδα:geo:25.4366155,36.3364529
END:VEVENT
BEGIN:VEVENT
DTSTART;TZID=Europe/Athens:20250925T080000
DTEND;TZID=Europe/Athens:20250925T210000
DTSTAMP:20260421T194457
CREATED:20250919T233123Z
LAST-MODIFIED:20250923T093617Z
UID:10047749-1758787200-1758834000@atlantea.news
SUMMARY:Έκθεση σύγχρονης τέχνης "Ένας τόπος που ζητά να ξαποστάσει"
DESCRIPTION:Συμμετέχουν οι: Αγγέλου Αναστάσιος (φωτογράφος)\, Ασιμής Χριστόφορος (εικαστικός)\, Βλαντωνόπουλος Γιάννης (κεραμίστας)\, Κιτσοπούλου Λένα (σκηνοθέτιδα\, ηθοποιός\, εικαστικός)\, Κορακάκης Νίκος (φωτογράφος)\, Κουσκούρης Γρηγόρης (γλύπτης)\, Κυπρής Γιώργος (εικαστικός)\, Μάκαρης Ορφέας (κεραμίστας)\, Πέπος Βαγγέλης (εικαστικός)\, Ρηγόπουλος Νίκος (φωτογράφος)\, Ταλιαδούρου Μαρίνα (κεραμίστρια)\, Binzer Lea (εικαστικός)\, Ule Elwet (κεραμίστρια)
URL:https://atlantea.news/event/%ce%ad%ce%ba%ce%b8%ce%b5%cf%83%ce%b7-%cf%83%cf%8d%ce%b3%cf%87%cf%81%ce%bf%ce%bd%ce%b7%cf%82-%cf%84%ce%ad%cf%87%ce%bd%ce%b7%cf%82-%ce%ad%ce%bd%ce%b1%cf%82-%cf%84%cf%8c%cf%80%ce%bf%cf%82-%cf%80%ce%bf/2025-09-25/
LOCATION:Vedema Resort\, Μεγαλοχώρι\, Σαντορίνη\, 84700\, Greece
CATEGORIES:Έκθεση
END:VEVENT
BEGIN:VEVENT
DTSTART;TZID=Europe/Moscow:20250924T100000
DTEND;TZID=Europe/Moscow:20250924T180000
DTSTAMP:20260421T194457
CREATED:20250703T131153Z
LAST-MODIFIED:20250703T131153Z
UID:10047087-1758708000-1758736800@atlantea.news
SUMMARY:Έκθεση ζωγραφικής "Θηραϊκές Τελετουργίες"
DESCRIPTION:Της Άρτεμης Χατζηγιαννάκη
URL:https://atlantea.news/event/%ce%ad%ce%ba%ce%b8%ce%b5%cf%83%ce%b7-%ce%b6%cf%89%ce%b3%cf%81%ce%b1%cf%86%ce%b9%ce%ba%ce%ae%cf%82-%ce%b8%ce%b7%cf%81%ce%b1%cf%8a%ce%ba%ce%ad%cf%82-%cf%84%ce%b5%ce%bb%ce%b5%cf%84%ce%bf%cf%85%cf%81/2025-09-24/
LOCATION:Βιομηχανικό Μουσείο Τομάτας «Δ. Νομικός»\, Βλυχάδα\, Σαντορίνη\, 84700\, Greece
CATEGORIES:Έκθεση
GEO:36.3364529;25.4366155
X-APPLE-STRUCTURED-LOCATION;VALUE=URI;X-ADDRESS=Βιομηχανικό Μουσείο Τομάτας «Δ. Νομικός» Βλυχάδα Σαντορίνη 84700 Greece;X-APPLE-RADIUS=500;X-TITLE=Βλυχάδα:geo:25.4366155,36.3364529
END:VEVENT
BEGIN:VEVENT
DTSTART;TZID=Europe/Moscow:20250923T100000
DTEND;TZID=Europe/Moscow:20250923T180000
DTSTAMP:20260421T194457
CREATED:20250703T131153Z
LAST-MODIFIED:20250703T131153Z
UID:10047086-1758621600-1758650400@atlantea.news
SUMMARY:Έκθεση ζωγραφικής "Θηραϊκές Τελετουργίες"
DESCRIPTION:Της Άρτεμης Χατζηγιαννάκη
URL:https://atlantea.news/event/%ce%ad%ce%ba%ce%b8%ce%b5%cf%83%ce%b7-%ce%b6%cf%89%ce%b3%cf%81%ce%b1%cf%86%ce%b9%ce%ba%ce%ae%cf%82-%ce%b8%ce%b7%cf%81%ce%b1%cf%8a%ce%ba%ce%ad%cf%82-%cf%84%ce%b5%ce%bb%ce%b5%cf%84%ce%bf%cf%85%cf%81/2025-09-23/
LOCATION:Βιομηχανικό Μουσείο Τομάτας «Δ. Νομικός»\, Βλυχάδα\, Σαντορίνη\, 84700\, Greece
CATEGORIES:Έκθεση
GEO:36.3364529;25.4366155
X-APPLE-STRUCTURED-LOCATION;VALUE=URI;X-ADDRESS=Βιομηχανικό Μουσείο Τομάτας «Δ. Νομικός» Βλυχάδα Σαντορίνη 84700 Greece;X-APPLE-RADIUS=500;X-TITLE=Βλυχάδα:geo:25.4366155,36.3364529
END:VEVENT
BEGIN:VEVENT
DTSTART;TZID=Europe/Athens:20250921T200000
DTEND;TZID=Europe/Athens:20250921T200000
DTSTAMP:20260421T194457
CREATED:20250808T230458Z
LAST-MODIFIED:20250919T092450Z
UID:10047296-1758484800-1758484800@atlantea.news
SUMMARY:Ηφαίστεια 2025
DESCRIPTION:Πυροτεχνήματα και drone show μετά τη δύση του ηλίου
URL:https://atlantea.news/event/%ce%b7%cf%86%ce%b1%ce%af%cf%83%cf%84%ce%b5%ce%b9%ce%b1-2025/
LOCATION:Νέα Καμένη\, Καλντέρα\, Σαντορίνη\, 84700\, Greece
CATEGORIES:Διάφορα
END:VEVENT
BEGIN:VEVENT
DTSTART;TZID=Europe/Athens:20250921T190000
DTEND;TZID=Europe/Athens:20250921T190000
DTSTAMP:20260421T194457
CREATED:20250919T092825Z
LAST-MODIFIED:20250919T092906Z
UID:10047747-1758481200-1758481200@atlantea.news
SUMMARY:Συναυλία Αντιγόνης Κατσούρη
DESCRIPTION:Στο πλαίσιο των Ηφαιστείων 2025
URL:https://atlantea.news/event/%cf%83%cf%85%ce%bd%ce%b1%cf%85%ce%bb%ce%af%ce%b1-%ce%b1%ce%bd%cf%84%ce%b9%ce%b3%cf%8c%ce%bd%ce%b7%cf%82-%ce%ba%ce%b1%cf%84%cf%83%ce%bf%cf%8d%cf%81%ce%b7/
LOCATION:Μητρόπολη Φηρών\, Φηρά\, Σαντορίνη\, 84700\, Greece
CATEGORIES:Συναυλία - Μουσική εκδήλωση
END:VEVENT
BEGIN:VEVENT
DTSTART;TZID=Europe/Athens:20250921T173000
DTEND;TZID=Europe/Athens:20250921T173000
DTSTAMP:20260421T194457
CREATED:20250828T092555Z
LAST-MODIFIED:20250921T091038Z
UID:10047320-1758475800-1758475800@atlantea.news
SUMMARY:Αφιέρωμα στο ελληνικό τραγούδι με τους "The Hollywood Project"
DESCRIPTION:Φεστιβάλ Στρογγύλη On the road \n 
URL:https://atlantea.news/event/the-hollywood-project/
LOCATION:Μητρόπολη Φηρών\, Φηρά\, Σαντορίνη\, 84700\, Greece
CATEGORIES:Συναυλία - Μουσική εκδήλωση
END:VEVENT
BEGIN:VEVENT
DTSTART;TZID=Europe/Moscow:20250921T100000
DTEND;TZID=Europe/Moscow:20250921T180000
DTSTAMP:20260421T194457
CREATED:20250703T131153Z
LAST-MODIFIED:20250703T131153Z
UID:10047085-1758448800-1758477600@atlantea.news
SUMMARY:Έκθεση ζωγραφικής "Θηραϊκές Τελετουργίες"
DESCRIPTION:Της Άρτεμης Χατζηγιαννάκη
URL:https://atlantea.news/event/%ce%ad%ce%ba%ce%b8%ce%b5%cf%83%ce%b7-%ce%b6%cf%89%ce%b3%cf%81%ce%b1%cf%86%ce%b9%ce%ba%ce%ae%cf%82-%ce%b8%ce%b7%cf%81%ce%b1%cf%8a%ce%ba%ce%ad%cf%82-%cf%84%ce%b5%ce%bb%ce%b5%cf%84%ce%bf%cf%85%cf%81/2025-09-21/
LOCATION:Βιομηχανικό Μουσείο Τομάτας «Δ. Νομικός»\, Βλυχάδα\, Σαντορίνη\, 84700\, Greece
CATEGORIES:Έκθεση
GEO:36.3364529;25.4366155
X-APPLE-STRUCTURED-LOCATION;VALUE=URI;X-ADDRESS=Βιομηχανικό Μουσείο Τομάτας «Δ. Νομικός» Βλυχάδα Σαντορίνη 84700 Greece;X-APPLE-RADIUS=500;X-TITLE=Βλυχάδα:geo:25.4366155,36.3364529
END:VEVENT
BEGIN:VEVENT
DTSTART;TZID=Europe/Athens:20250920T200000
DTEND;TZID=Europe/Athens:20250920T200000
DTSTAMP:20260421T194457
CREATED:20250919T092629Z
LAST-MODIFIED:20250919T092744Z
UID:10047746-1758398400-1758398400@atlantea.news
SUMMARY:Συναυλία Δημήτρη Παπαδημητρίου
DESCRIPTION:Στο πλαίσιο των Ηφαιστείων 2025
URL:https://atlantea.news/event/%cf%83%cf%85%ce%bd%ce%b1%cf%85%ce%bb%ce%af%ce%b1-%ce%b4%ce%b7%ce%bc%ce%ae%cf%84%cf%81%ce%b7-%cf%80%ce%b1%cf%80%ce%b1%ce%b4%ce%b7%ce%bc%ce%b7%cf%84%cf%81%ce%af%ce%bf%cf%85/
LOCATION:Ένωση Συνεταιρισμών Θηραϊκών Προϊόντων – Santowines\, Πύργος\, Σαντορίνη\, 84700\, Greece
CATEGORIES:Συναυλία - Μουσική εκδήλωση
END:VEVENT
BEGIN:VEVENT
DTSTART;TZID=Europe/Moscow:20250920T100000
DTEND;TZID=Europe/Moscow:20250920T180000
DTSTAMP:20260421T194457
CREATED:20250703T131153Z
LAST-MODIFIED:20250703T131153Z
UID:10047084-1758362400-1758391200@atlantea.news
SUMMARY:Έκθεση ζωγραφικής "Θηραϊκές Τελετουργίες"
DESCRIPTION:Της Άρτεμης Χατζηγιαννάκη
URL:https://atlantea.news/event/%ce%ad%ce%ba%ce%b8%ce%b5%cf%83%ce%b7-%ce%b6%cf%89%ce%b3%cf%81%ce%b1%cf%86%ce%b9%ce%ba%ce%ae%cf%82-%ce%b8%ce%b7%cf%81%ce%b1%cf%8a%ce%ba%ce%ad%cf%82-%cf%84%ce%b5%ce%bb%ce%b5%cf%84%ce%bf%cf%85%cf%81/2025-09-20/
LOCATION:Βιομηχανικό Μουσείο Τομάτας «Δ. Νομικός»\, Βλυχάδα\, Σαντορίνη\, 84700\, Greece
CATEGORIES:Έκθεση
GEO:36.3364529;25.4366155
X-APPLE-STRUCTURED-LOCATION;VALUE=URI;X-ADDRESS=Βιομηχανικό Μουσείο Τομάτας «Δ. Νομικός» Βλυχάδα Σαντορίνη 84700 Greece;X-APPLE-RADIUS=500;X-TITLE=Βλυχάδα:geo:25.4366155,36.3364529
END:VEVENT
BEGIN:VEVENT
DTSTART;TZID=Europe/Moscow:20250919T100000
DTEND;TZID=Europe/Moscow:20250919T180000
DTSTAMP:20260421T194457
CREATED:20250703T131153Z
LAST-MODIFIED:20250703T131153Z
UID:10047083-1758276000-1758304800@atlantea.news
SUMMARY:Έκθεση ζωγραφικής "Θηραϊκές Τελετουργίες"
DESCRIPTION:Της Άρτεμης Χατζηγιαννάκη
URL:https://atlantea.news/event/%ce%ad%ce%ba%ce%b8%ce%b5%cf%83%ce%b7-%ce%b6%cf%89%ce%b3%cf%81%ce%b1%cf%86%ce%b9%ce%ba%ce%ae%cf%82-%ce%b8%ce%b7%cf%81%ce%b1%cf%8a%ce%ba%ce%ad%cf%82-%cf%84%ce%b5%ce%bb%ce%b5%cf%84%ce%bf%cf%85%cf%81/2025-09-19/
LOCATION:Βιομηχανικό Μουσείο Τομάτας «Δ. Νομικός»\, Βλυχάδα\, Σαντορίνη\, 84700\, Greece
CATEGORIES:Έκθεση
GEO:36.3364529;25.4366155
X-APPLE-STRUCTURED-LOCATION;VALUE=URI;X-ADDRESS=Βιομηχανικό Μουσείο Τομάτας «Δ. Νομικός» Βλυχάδα Σαντορίνη 84700 Greece;X-APPLE-RADIUS=500;X-TITLE=Βλυχάδα:geo:25.4366155,36.3364529
END:VEVENT
BEGIN:VEVENT
DTSTART;TZID=Europe/Moscow:20250918T100000
DTEND;TZID=Europe/Moscow:20250918T180000
DTSTAMP:20260421T194457
CREATED:20250703T131153Z
LAST-MODIFIED:20250703T131153Z
UID:10047082-1758189600-1758218400@atlantea.news
SUMMARY:Έκθεση ζωγραφικής "Θηραϊκές Τελετουργίες"
DESCRIPTION:Της Άρτεμης Χατζηγιαννάκη
URL:https://atlantea.news/event/%ce%ad%ce%ba%ce%b8%ce%b5%cf%83%ce%b7-%ce%b6%cf%89%ce%b3%cf%81%ce%b1%cf%86%ce%b9%ce%ba%ce%ae%cf%82-%ce%b8%ce%b7%cf%81%ce%b1%cf%8a%ce%ba%ce%ad%cf%82-%cf%84%ce%b5%ce%bb%ce%b5%cf%84%ce%bf%cf%85%cf%81/2025-09-18/
LOCATION:Βιομηχανικό Μουσείο Τομάτας «Δ. Νομικός»\, Βλυχάδα\, Σαντορίνη\, 84700\, Greece
CATEGORIES:Έκθεση
GEO:36.3364529;25.4366155
X-APPLE-STRUCTURED-LOCATION;VALUE=URI;X-ADDRESS=Βιομηχανικό Μουσείο Τομάτας «Δ. Νομικός» Βλυχάδα Σαντορίνη 84700 Greece;X-APPLE-RADIUS=500;X-TITLE=Βλυχάδα:geo:25.4366155,36.3364529
END:VEVENT
BEGIN:VEVENT
DTSTART;TZID=Europe/Moscow:20250917T100000
DTEND;TZID=Europe/Moscow:20250917T180000
DTSTAMP:20260421T194457
CREATED:20250703T131153Z
LAST-MODIFIED:20250703T131153Z
UID:10047081-1758103200-1758132000@atlantea.news
SUMMARY:Έκθεση ζωγραφικής "Θηραϊκές Τελετουργίες"
DESCRIPTION:Της Άρτεμης Χατζηγιαννάκη
URL:https://atlantea.news/event/%ce%ad%ce%ba%ce%b8%ce%b5%cf%83%ce%b7-%ce%b6%cf%89%ce%b3%cf%81%ce%b1%cf%86%ce%b9%ce%ba%ce%ae%cf%82-%ce%b8%ce%b7%cf%81%ce%b1%cf%8a%ce%ba%ce%ad%cf%82-%cf%84%ce%b5%ce%bb%ce%b5%cf%84%ce%bf%cf%85%cf%81/2025-09-17/
LOCATION:Βιομηχανικό Μουσείο Τομάτας «Δ. Νομικός»\, Βλυχάδα\, Σαντορίνη\, 84700\, Greece
CATEGORIES:Έκθεση
GEO:36.3364529;25.4366155
X-APPLE-STRUCTURED-LOCATION;VALUE=URI;X-ADDRESS=Βιομηχανικό Μουσείο Τομάτας «Δ. Νομικός» Βλυχάδα Σαντορίνη 84700 Greece;X-APPLE-RADIUS=500;X-TITLE=Βλυχάδα:geo:25.4366155,36.3364529
END:VEVENT
BEGIN:VEVENT
DTSTART;TZID=Europe/Moscow:20250916T100000
DTEND;TZID=Europe/Moscow:20250916T180000
DTSTAMP:20260421T194457
CREATED:20250703T131153Z
LAST-MODIFIED:20250703T131153Z
UID:10047080-1758016800-1758045600@atlantea.news
SUMMARY:Έκθεση ζωγραφικής "Θηραϊκές Τελετουργίες"
DESCRIPTION:Της Άρτεμης Χατζηγιαννάκη
URL:https://atlantea.news/event/%ce%ad%ce%ba%ce%b8%ce%b5%cf%83%ce%b7-%ce%b6%cf%89%ce%b3%cf%81%ce%b1%cf%86%ce%b9%ce%ba%ce%ae%cf%82-%ce%b8%ce%b7%cf%81%ce%b1%cf%8a%ce%ba%ce%ad%cf%82-%cf%84%ce%b5%ce%bb%ce%b5%cf%84%ce%bf%cf%85%cf%81/2025-09-16/
LOCATION:Βιομηχανικό Μουσείο Τομάτας «Δ. Νομικός»\, Βλυχάδα\, Σαντορίνη\, 84700\, Greece
CATEGORIES:Έκθεση
GEO:36.3364529;25.4366155
X-APPLE-STRUCTURED-LOCATION;VALUE=URI;X-ADDRESS=Βιομηχανικό Μουσείο Τομάτας «Δ. Νομικός» Βλυχάδα Σαντορίνη 84700 Greece;X-APPLE-RADIUS=500;X-TITLE=Βλυχάδα:geo:25.4366155,36.3364529
END:VEVENT
BEGIN:VEVENT
DTSTART;TZID=Europe/Moscow:20250914T100000
DTEND;TZID=Europe/Moscow:20250914T180000
DTSTAMP:20260421T194457
CREATED:20250703T131153Z
LAST-MODIFIED:20250703T131153Z
UID:10047079-1757844000-1757872800@atlantea.news
SUMMARY:Έκθεση ζωγραφικής "Θηραϊκές Τελετουργίες"
DESCRIPTION:Της Άρτεμης Χατζηγιαννάκη
URL:https://atlantea.news/event/%ce%ad%ce%ba%ce%b8%ce%b5%cf%83%ce%b7-%ce%b6%cf%89%ce%b3%cf%81%ce%b1%cf%86%ce%b9%ce%ba%ce%ae%cf%82-%ce%b8%ce%b7%cf%81%ce%b1%cf%8a%ce%ba%ce%ad%cf%82-%cf%84%ce%b5%ce%bb%ce%b5%cf%84%ce%bf%cf%85%cf%81/2025-09-14/
LOCATION:Βιομηχανικό Μουσείο Τομάτας «Δ. Νομικός»\, Βλυχάδα\, Σαντορίνη\, 84700\, Greece
CATEGORIES:Έκθεση
GEO:36.3364529;25.4366155
X-APPLE-STRUCTURED-LOCATION;VALUE=URI;X-ADDRESS=Βιομηχανικό Μουσείο Τομάτας «Δ. Νομικός» Βλυχάδα Σαντορίνη 84700 Greece;X-APPLE-RADIUS=500;X-TITLE=Βλυχάδα:geo:25.4366155,36.3364529
END:VEVENT
BEGIN:VEVENT
DTSTART;TZID=Europe/Moscow:20250913T100000
DTEND;TZID=Europe/Moscow:20250913T180000
DTSTAMP:20260421T194457
CREATED:20250703T131153Z
LAST-MODIFIED:20250703T131153Z
UID:10047078-1757757600-1757786400@atlantea.news
SUMMARY:Έκθεση ζωγραφικής "Θηραϊκές Τελετουργίες"
DESCRIPTION:Της Άρτεμης Χατζηγιαννάκη
URL:https://atlantea.news/event/%ce%ad%ce%ba%ce%b8%ce%b5%cf%83%ce%b7-%ce%b6%cf%89%ce%b3%cf%81%ce%b1%cf%86%ce%b9%ce%ba%ce%ae%cf%82-%ce%b8%ce%b7%cf%81%ce%b1%cf%8a%ce%ba%ce%ad%cf%82-%cf%84%ce%b5%ce%bb%ce%b5%cf%84%ce%bf%cf%85%cf%81/2025-09-13/
LOCATION:Βιομηχανικό Μουσείο Τομάτας «Δ. Νομικός»\, Βλυχάδα\, Σαντορίνη\, 84700\, Greece
CATEGORIES:Έκθεση
GEO:36.3364529;25.4366155
X-APPLE-STRUCTURED-LOCATION;VALUE=URI;X-ADDRESS=Βιομηχανικό Μουσείο Τομάτας «Δ. Νομικός» Βλυχάδα Σαντορίνη 84700 Greece;X-APPLE-RADIUS=500;X-TITLE=Βλυχάδα:geo:25.4366155,36.3364529
END:VEVENT
END:VCALENDAR